BEGIN:VCALENDAR
VERSION:2.0
PRODID:-//Ackermannbogen e.V. - ECPv6.15.20//NONSGML v1.0//EN
CALSCALE:GREGORIAN
METHOD:PUBLISH
X-WR-CALNAME:Ackermannbogen e.V.
X-ORIGINAL-URL:https://ackermannbogen-ev.de
X-WR-CALDESC:Veranstaltungen für Ackermannbogen e.V.
REFRESH-INTERVAL;VALUE=DURATION:PT1H
X-Robots-Tag:noindex
X-PUBLISHED-TTL:PT1H
BEGIN:VTIMEZONE
TZID:Europe/Berlin
BEGIN:DAYLIGHT
TZOFFSETFROM:+0100
TZOFFSETTO:+0200
TZNAME:CEST
DTSTART:20230326T010000
END:DAYLIGHT
BEGIN:STANDARD
TZOFFSETFROM:+0200
TZOFFSETTO:+0100
TZNAME:CET
DTSTART:20231029T010000
END:STANDARD
BEGIN:DAYLIGHT
TZOFFSETFROM:+0100
TZOFFSETTO:+0200
TZNAME:CEST
DTSTART:20240331T010000
END:DAYLIGHT
BEGIN:STANDARD
TZOFFSETFROM:+0200
TZOFFSETTO:+0100
TZNAME:CET
DTSTART:20241027T010000
END:STANDARD
BEGIN:DAYLIGHT
TZOFFSETFROM:+0100
TZOFFSETTO:+0200
TZNAME:CEST
DTSTART:20250330T010000
END:DAYLIGHT
BEGIN:STANDARD
TZOFFSETFROM:+0200
TZOFFSETTO:+0100
TZNAME:CET
DTSTART:20251026T010000
END:STANDARD
END:VTIMEZONE
BEGIN:VEVENT
DTSTART;TZID=Europe/Berlin:20240801T170000
DTEND;TZID=Europe/Berlin:20240801T180000
DTSTAMP:20260419T214813
CREATED:20240710T102313Z
LAST-MODIFIED:20240710T102313Z
UID:10008869-1722531600-1722535200@ackermannbogen-ev.de
SUMMARY:Hip Hop (Kinder 2./3. Klasse)
DESCRIPTION:Hip Hop: Hier werden coole Moves geübt\, kurze Schrittabfolgen getanzt\, gedehnt und zum Schluss auch eine Choreografie einstudiert.\nKursleitung: Sonja Werner\, Tanzpädagogin\, Tel. 0171-831 18 76\n(gerne auch per SMS oder WhatsApp) \n17 - 18 Uhr  -  Hip Hop (Kinder 2./3. Klasse)\nKurseinteilung nach Bedarf und Alter \nsonja-m.werner@t-online.de \n 
URL:https://ackermannbogen-ev.de/programm/hip-hop-kinder-2-3-klasse/2024-08-01/
LOCATION:EKS 15\, Elisabeth-Kohn-Str. 15\, München\, 80797\, Germany
CATEGORIES:Tanz & Bewegung
ATTACH;FMTTYPE=image/jpeg:https://ackermannbogen-ev.de/wp-content/uploads/2023/11/hip-hop-e1710851112431.jpg
GEO:48.164854418235;11.554277501613
X-APPLE-STRUCTURED-LOCATION;VALUE=URI;X-ADDRESS=EKS 15 Elisabeth-Kohn-Str. 15 München 80797 Germany;X-APPLE-RADIUS=500;X-TITLE=Elisabeth-Kohn-Str. 15:geo:11.554277501613,48.164854418235
END:VEVENT
END:VCALENDAR