BEGIN:VCALENDAR
VERSION:2.0
PRODID:-//Ackermannbogen e.V. - ECPv6.15.20//NONSGML v1.0//EN
CALSCALE:GREGORIAN
METHOD:PUBLISH
X-ORIGINAL-URL:https://ackermannbogen-ev.de
X-WR-CALDESC:Veranstaltungen für Ackermannbogen e.V.
REFRESH-INTERVAL;VALUE=DURATION:PT1H
X-Robots-Tag:noindex
X-PUBLISHED-TTL:PT1H
BEGIN:VTIMEZONE
TZID:Europe/Berlin
BEGIN:DAYLIGHT
TZOFFSETFROM:+0100
TZOFFSETTO:+0200
TZNAME:CEST
DTSTART:20230326T010000
END:DAYLIGHT
BEGIN:STANDARD
TZOFFSETFROM:+0200
TZOFFSETTO:+0100
TZNAME:CET
DTSTART:20231029T010000
END:STANDARD
BEGIN:DAYLIGHT
TZOFFSETFROM:+0100
TZOFFSETTO:+0200
TZNAME:CEST
DTSTART:20240331T010000
END:DAYLIGHT
BEGIN:STANDARD
TZOFFSETFROM:+0200
TZOFFSETTO:+0100
TZNAME:CET
DTSTART:20241027T010000
END:STANDARD
BEGIN:DAYLIGHT
TZOFFSETFROM:+0100
TZOFFSETTO:+0200
TZNAME:CEST
DTSTART:20250330T010000
END:DAYLIGHT
BEGIN:STANDARD
TZOFFSETFROM:+0200
TZOFFSETTO:+0100
TZNAME:CET
DTSTART:20251026T010000
END:STANDARD
END:VTIMEZONE
BEGIN:VEVENT
DTSTART;TZID=Europe/Berlin:20241012T110000
DTEND;TZID=Europe/Berlin:20241012T130000
DTSTAMP:20260423T193823
CREATED:20240913T130055Z
LAST-MODIFIED:20250919T131008Z
UID:10009650-1728730800-1728738000@ackermannbogen-ev.de
SUMMARY:BioDiv-Glücksrad
DESCRIPTION:Die Biodiversitäts-Krise ist wie der Klimawandel ein globales Megathema\, das die ganze Gesellschaft angeht. Bei uns im Viertel erreichen wir bislang vor allem Menschen\, die sich im StadtAcker oder beim Balkonprojekt engagieren. Das Gärtnern ist ein praktischer und sinnlicher Zugang zum Thema biologische Vielfalt. Wir wollen aber auch Leute ansprechen\, die nicht gärtnerisch aktiv sind\, zum Beispiel mit Faktenwissen\, das zum Nachdenken und Handeln anregt. Deshalb veranstalten wir am Aktionstag „Nachbarn für Nachhaltigkeit“ eine Glücksradaktion mit vielen Fragen zum Thema Biodiversität. Sie können sich Fragen aus unterschiedlichen Themenbereichen aussuchen. Das Ganze gibt es für Erwachsene und für Kinder.\nMit der Aktion wollen wir mit den Leuten auch über das Verbundprojekt „BioDivHubs“ ins Gespräch kommen\, das noch gar nicht allen bekannt ist. \nDer kulinarische Zugang zum Thema entfaltet sich am benachbarten Stand mit den Wildobst-Produkten von Alicia Bilang.
URL:https://ackermannbogen-ev.de/programm/biodiv-gluecksrad/
LOCATION:KulturPassage\, Rosa-Aschenbrenner-Bogen 9\, München\, 80797\, Germany
CATEGORIES:Umwelt & Natur
ATTACH;FMTTYPE=image/jpeg:https://ackermannbogen-ev.de/wp-content/uploads/2024/09/IMG_3359-scaled-e1726232337993.jpg
ORGANIZER;CN="StadtNatur":MAILTO:stadtnatur@ackermannbogen-ev.de
GEO:48.1647793;11.5585741
X-APPLE-STRUCTURED-LOCATION;VALUE=URI;X-ADDRESS=KulturPassage Rosa-Aschenbrenner-Bogen 9 München 80797 Germany;X-APPLE-RADIUS=500;X-TITLE=Rosa-Aschenbrenner-Bogen 9:geo:11.5585741,48.1647793
END:VEVENT
BEGIN:VEVENT
DTSTART;TZID=Europe/Berlin:20241012T110000
DTEND;TZID=Europe/Berlin:20241012T140000
DTSTAMP:20260423T193823
CREATED:20240910T074415Z
LAST-MODIFIED:20240910T074415Z
UID:10009568-1728730800-1728741600@ackermannbogen-ev.de
SUMMARY:Kindersachen-Flohmarkt
DESCRIPTION:Kinder verkaufen an Kinder: Bücher\, Spiele\, Kuscheltiere\, etc. \nEltern verkaufen an Eltern: Baby- und Kinderkleidung\, Zubehör rund um's Kind. \nKeine Anmeldung erforderlich. Mitmachen kostet nichts!
URL:https://ackermannbogen-ev.de/programm/kindersachen-flohmarkt/
LOCATION:KulturPassage\, Rosa-Aschenbrenner-Bogen 9\, München\, 80797\, Germany
CATEGORIES:Austausch & Dialog
ATTACH;FMTTYPE=image/jpeg:https://ackermannbogen-ev.de/wp-content/uploads/2022/02/DSC00555-scaled-e1712056538578.jpg
ORGANIZER;CN="NachbarschaftsB%C3%B6rse":MAILTO:nachbarschaftsboerse@ackermannbogen-ev.de
GEO:48.1647793;11.5585741
X-APPLE-STRUCTURED-LOCATION;VALUE=URI;X-ADDRESS=KulturPassage Rosa-Aschenbrenner-Bogen 9 München 80797 Germany;X-APPLE-RADIUS=500;X-TITLE=Rosa-Aschenbrenner-Bogen 9:geo:11.5585741,48.1647793
END:VEVENT
BEGIN:VEVENT
DTSTART;TZID=Europe/Berlin:20241012T150000
DTEND;TZID=Europe/Berlin:20241012T160000
DTSTAMP:20260423T193823
CREATED:20240903T092712Z
LAST-MODIFIED:20250401T102652Z
UID:10009444-1728745200-1728748800@ackermannbogen-ev.de
SUMMARY:Geschwinde Oma Linde
DESCRIPTION:Ach\, die Einsamkeit! Wenn du zuviel davon abbekommst\, fängst du an\, mit dir selbst zu reden wie die alte Linde. Mutterseelenallein ist sie mit einem Wanderwagerl auf der Walz\, in dem die wunderlichsten Dinge stecken. \nEines Nachts verschwindet dies und das auf mysteriöse Weise. Bald jedoch ist der Übeltäter am Schlafittchen gepackt. \nDas Zirkuskind Pipo ist es\, ein Treibauf\, der unaufhörlich Possen treibt. Kein Wunder\, daß zwischen den beiden die Funken stieben. Aber wo Reibung ist\, entsteht Wärme. \nOb sich da zwei gefunden haben? Eine heitere Inszenierung zum Lachen und Träumen. \nAb 4 Jahre. Spieldauer: 45 Min. \nEintritt frei - Spenden willkommen!
URL:https://ackermannbogen-ev.de/programm/geschwinde-oma-linde/
LOCATION:KreativGarage Studio\, Rosa-Aschenbrenner-Bogen 9 / UG\, München\, Bayern\, 80797\, Germany
CATEGORIES:Kunst,Theater & Film
ATTACH;FMTTYPE=image/png:https://ackermannbogen-ev.de/wp-content/uploads/2024/09/2-e1725357039750.png
ORGANIZER;CN="KulturB%C3%BCro":MAILTO:kulturbuero@ackermannbogen-ev.de
GEO:48.1647793;11.5585741
X-APPLE-STRUCTURED-LOCATION;VALUE=URI;X-ADDRESS=KreativGarage Studio Rosa-Aschenbrenner-Bogen 9 / UG München Bayern 80797 Germany;X-APPLE-RADIUS=500;X-TITLE=Rosa-Aschenbrenner-Bogen 9 / UG:geo:11.5585741,48.1647793
END:VEVENT
BEGIN:VEVENT
DTSTART;TZID=Europe/Berlin:20241012T190000
DTEND;TZID=Europe/Berlin:20241012T213000
DTSTAMP:20260423T193823
CREATED:20240910T074133Z
LAST-MODIFIED:20240910T074133Z
UID:10009567-1728759600-1728768600@ackermannbogen-ev.de
SUMMARY:KleidertauschParty
DESCRIPTION:Ob Retro\, Vintage oder Modern: Gut erhaltene Kleidung\, Schuhe\, Taschen\, Accessoires mitbringen\, neue Lieblingsstücke mit nach Hause nehmen. Höchstens eine IKEA-Tasche mitbringen und höchstens wieder eine IKEA-Tasche voll mitnehmen. \nMit guter Musik\, Knabbersachen und Getränken.
URL:https://ackermannbogen-ev.de/programm/kleidertauschparty-2/
LOCATION:EKS 15\, Elisabeth-Kohn-Str. 15\, München\, 80797\, Germany
CATEGORIES:Austausch & Dialog,Interessen & Freizeit
ATTACH;FMTTYPE=image/jpeg:https://ackermannbogen-ev.de/wp-content/uploads/2024/04/120505-KleiderTauschParty-7-2-e1746776947421.jpg
ORGANIZER;CN="NachbarschaftsB%C3%B6rse":MAILTO:nachbarschaftsboerse@ackermannbogen-ev.de
GEO:48.164854418235;11.554277501613
X-APPLE-STRUCTURED-LOCATION;VALUE=URI;X-ADDRESS=EKS 15 Elisabeth-Kohn-Str. 15 München 80797 Germany;X-APPLE-RADIUS=500;X-TITLE=Elisabeth-Kohn-Str. 15:geo:11.554277501613,48.164854418235
END:VEVENT
END:VCALENDAR