BEGIN:VCALENDAR
VERSION:2.0
PRODID:-//Ackermannbogen e.V. - ECPv6.15.20//NONSGML v1.0//EN
CALSCALE:GREGORIAN
METHOD:PUBLISH
X-ORIGINAL-URL:https://ackermannbogen-ev.de
X-WR-CALDESC:Veranstaltungen für Ackermannbogen e.V.
REFRESH-INTERVAL;VALUE=DURATION:PT1H
X-Robots-Tag:noindex
X-PUBLISHED-TTL:PT1H
BEGIN:VTIMEZONE
TZID:Europe/Berlin
BEGIN:DAYLIGHT
TZOFFSETFROM:+0100
TZOFFSETTO:+0200
TZNAME:CEST
DTSTART:20230326T010000
END:DAYLIGHT
BEGIN:STANDARD
TZOFFSETFROM:+0200
TZOFFSETTO:+0100
TZNAME:CET
DTSTART:20231029T010000
END:STANDARD
BEGIN:DAYLIGHT
TZOFFSETFROM:+0100
TZOFFSETTO:+0200
TZNAME:CEST
DTSTART:20240331T010000
END:DAYLIGHT
BEGIN:STANDARD
TZOFFSETFROM:+0200
TZOFFSETTO:+0100
TZNAME:CET
DTSTART:20241027T010000
END:STANDARD
BEGIN:DAYLIGHT
TZOFFSETFROM:+0100
TZOFFSETTO:+0200
TZNAME:CEST
DTSTART:20250330T010000
END:DAYLIGHT
BEGIN:STANDARD
TZOFFSETFROM:+0200
TZOFFSETTO:+0100
TZNAME:CET
DTSTART:20251026T010000
END:STANDARD
END:VTIMEZONE
BEGIN:VEVENT
DTSTART;TZID=Europe/Berlin:20241013T140000
DTEND;TZID=Europe/Berlin:20241013T160000
DTSTAMP:20260423T193813
CREATED:20231110T094403Z
LAST-MODIFIED:20240930T145656Z
UID:10006000-1728828000-1728835200@ackermannbogen-ev.de
SUMMARY:Puzzle der Digitalisierung – Junior Version
DESCRIPTION:Die Auswirkungen der Digitalisierung auf Klima und Umwelt \nHast du ein Smartphone oder ein Tablet? Hast du dich schon gefragt\, wie sie hergestellt werden\, und dies die Umwelt beeinflusst? In unserem spannenden Workshop findest du im Team mit einem coolen Kartenspiel gerade das heraus! Danach werdet ihr kreativ und gestaltet euer Puzzle: Das schönste gewinnt! Zum Schluss diskutieren wir\, was Familie\, Schule und Gesellschaft für eine zukunftsfähige Digitalisierung tun können. Schon über 100.000 Teilnehmende haben so mehr über die Auswirkungen der Digitalisierung gelernt. Sei dabei und entdecke es selbst! Deine Eltern können gleichzeitig am Puzzle der Digitalisierung für Erwachsene teilnehmen.\nMit Markus Eulenkamp \nKostenlos (Spende willkommen)\nAnmeldung erforderlich:\nlstu.fr/digi-puzzle_mkh2024\nTermin für Kinder:\n13.10.2024 14-16 Uhr\, Nachbarschaftstreff Rosa-Aschenbrenner-Str. 9\nTermin für Eltern:\n13.10.2024 14-17 Uhr\, Combinat56 Adams-Lehmann-Str. 56\nFür Kinderbetreuung ist bis zum Ende der Elternveranstaltung gesorgt
URL:https://ackermannbogen-ev.de/programm/digitalisierungs-puzzle-5/
LOCATION:RAB 9 großer Raum\, Rosa-Aschenbrenner-Bogen 9\, München\, 80797\, Germany
CATEGORIES:Austausch & Dialog,Bildung & Betreuung,Interessen & Freizeit,Umwelt & Natur
ATTACH;FMTTYPE=image/jpeg:https://ackermannbogen-ev.de/wp-content/uploads/2023/11/comprehension-e1711100314434.jpg
ORGANIZER;CN="NachbarschaftsB%C3%B6rse":MAILTO:nachbarschaftsboerse@ackermannbogen-ev.de
GEO:48.1647793;11.5585741
X-APPLE-STRUCTURED-LOCATION;VALUE=URI;X-ADDRESS=RAB 9 großer Raum Rosa-Aschenbrenner-Bogen 9 München 80797 Germany;X-APPLE-RADIUS=500;X-TITLE=Rosa-Aschenbrenner-Bogen 9:geo:11.5585741,48.1647793
END:VEVENT
END:VCALENDAR