BEGIN:VCALENDAR
VERSION:2.0
PRODID:-//Ackermannbogen e.V. - ECPv6.15.20//NONSGML v1.0//EN
CALSCALE:GREGORIAN
METHOD:PUBLISH
X-ORIGINAL-URL:https://ackermannbogen-ev.de
X-WR-CALDESC:Veranstaltungen für Ackermannbogen e.V.
REFRESH-INTERVAL;VALUE=DURATION:PT1H
X-Robots-Tag:noindex
X-PUBLISHED-TTL:PT1H
BEGIN:VTIMEZONE
TZID:Europe/Berlin
BEGIN:DAYLIGHT
TZOFFSETFROM:+0100
TZOFFSETTO:+0200
TZNAME:CEST
DTSTART:20230326T010000
END:DAYLIGHT
BEGIN:STANDARD
TZOFFSETFROM:+0200
TZOFFSETTO:+0100
TZNAME:CET
DTSTART:20231029T010000
END:STANDARD
BEGIN:DAYLIGHT
TZOFFSETFROM:+0100
TZOFFSETTO:+0200
TZNAME:CEST
DTSTART:20240331T010000
END:DAYLIGHT
BEGIN:STANDARD
TZOFFSETFROM:+0200
TZOFFSETTO:+0100
TZNAME:CET
DTSTART:20241027T010000
END:STANDARD
BEGIN:DAYLIGHT
TZOFFSETFROM:+0100
TZOFFSETTO:+0200
TZNAME:CEST
DTSTART:20250330T010000
END:DAYLIGHT
BEGIN:STANDARD
TZOFFSETFROM:+0200
TZOFFSETTO:+0100
TZNAME:CET
DTSTART:20251026T010000
END:STANDARD
END:VTIMEZONE
BEGIN:VEVENT
DTSTART;TZID=Europe/Berlin:20241018T153000
DTEND;TZID=Europe/Berlin:20241018T163000
DTSTAMP:20260419T212652
CREATED:20240911T125336Z
LAST-MODIFIED:20240911T125336Z
UID:10009571-1729265400-1729269000@ackermannbogen-ev.de
SUMMARY:Singsalabim 1
DESCRIPTION:Chorbande Schwabing & Singsalabim\nFür engagierte Kinder und Jugendliche\, die Lust und Freude am Singen\,\nTanzen und Schauspielen haben.\nKursleitung: Nicola Drißner\, Chorleiterin\nSingsalabim 1 (Kinder ab 4 Jahren):\nFreitags\, 15.30 – 16.15 Uhr\nSingsalabim 2 (letztes Kindergartenjahr\, 1.Klasse):\nFreitags\, 16.30 – 17.15 Uhr\nKosten: € 25 / Monat\nAnmeldung: singsalabim@chorbandeschwabing.de
URL:https://ackermannbogen-ev.de/programm/singsalabim-1-2/2024-10-18/
LOCATION:RAB 9 großer Raum\, Rosa-Aschenbrenner-Bogen 9\, München\, 80797\, Germany
CATEGORIES:Kultur & Kreatives,Musik & Gesang,Theater & Film
ATTACH;FMTTYPE=image/jpeg:https://ackermannbogen-ev.de/wp-content/uploads/2023/11/Chorbande-1-e1711098256770.jpg
GEO:48.1647793;11.5585741
X-APPLE-STRUCTURED-LOCATION;VALUE=URI;X-ADDRESS=RAB 9 großer Raum Rosa-Aschenbrenner-Bogen 9 München 80797 Germany;X-APPLE-RADIUS=500;X-TITLE=Rosa-Aschenbrenner-Bogen 9:geo:11.5585741,48.1647793
END:VEVENT
BEGIN:VEVENT
DTSTART;TZID=Europe/Berlin:20241018T163000
DTEND;TZID=Europe/Berlin:20241018T173000
DTSTAMP:20260419T212652
CREATED:20240911T130117Z
LAST-MODIFIED:20240911T130117Z
UID:10009604-1729269000-1729272600@ackermannbogen-ev.de
SUMMARY:Singsalabim 2
DESCRIPTION:Chorbande Schwabing & Singsalabim\nFür engagierte Kinder und Jugendliche\, die Lust und Freude am Singen\,\nTanzen und Schauspielen haben.\nKursleitung: Nicola Drißner\, Chorleiterin\nSingsalabim 1 (Kinder ab 4 Jahren):\nFreitags\, 15.30 – 16.15 Uhr\nSingsalabim 2 (letztes Kindergartenjahr\, 1.Klasse):\nFreitags\, 16.30 – 17.15 Uhr\nKosten: € 25 / Monat\nAnmeldung: singsalabim@chorbandeschwabing.de
URL:https://ackermannbogen-ev.de/programm/singsalabim-2-2/2024-10-18/
LOCATION:RAB 9 großer Raum\, Rosa-Aschenbrenner-Bogen 9\, München\, 80797\, Germany
CATEGORIES:Kultur & Kreatives,Musik & Gesang,Tanz & Bewegung
ATTACH;FMTTYPE=image/jpeg:https://ackermannbogen-ev.de/wp-content/uploads/2023/11/Chorbande-1-e1711098256770.jpg
GEO:48.1647793;11.5585741
X-APPLE-STRUCTURED-LOCATION;VALUE=URI;X-ADDRESS=RAB 9 großer Raum Rosa-Aschenbrenner-Bogen 9 München 80797 Germany;X-APPLE-RADIUS=500;X-TITLE=Rosa-Aschenbrenner-Bogen 9:geo:11.5585741,48.1647793
END:VEVENT
BEGIN:VEVENT
DTSTART;TZID=Europe/Berlin:20241018T170000
DTEND;TZID=Europe/Berlin:20241018T190000
DTSTAMP:20260419T212652
CREATED:20240813T141710Z
LAST-MODIFIED:20241205T155154Z
UID:10009056-1729270800-1729278000@ackermannbogen-ev.de
SUMMARY:Offenes Gärtnern
DESCRIPTION:Immer mittwochs und freitags treffen sich die StadtAcker-Aktiven ab 17 Uhr themengruppenübergreifend zum gemeinsamen Gärtnern und geselligen Austausch.\nInteressiert? Schauen Sie gerne vorbei. \nGartensprechstunde:\nHaben Sie Fragen zum StadtAcker und zum Gärtnern? Dann besuchen Sie uns zur Gartensprechstunde\, immer freitags 16-17 Uhr im StadtAcker.
URL:https://ackermannbogen-ev.de/programm/offenes-gaertnern-3-2/2024-10-18/
LOCATION:Im Freien - StadtAcker
CATEGORIES:Umwelt & Natur
ATTACH;FMTTYPE=image/jpeg:https://ackermannbogen-ev.de/wp-content/uploads/2024/03/IMG_20230607_183913_1-scaled-e1710865898432.jpg
ORGANIZER;CN="StadtNatur":MAILTO:stadtnatur@ackermannbogen-ev.de
END:VEVENT
END:VCALENDAR