BEGIN:VCALENDAR
VERSION:2.0
PRODID:-//Ackermannbogen e.V. - ECPv6.15.20//NONSGML v1.0//EN
CALSCALE:GREGORIAN
METHOD:PUBLISH
X-WR-CALNAME:Ackermannbogen e.V.
X-ORIGINAL-URL:https://ackermannbogen-ev.de
X-WR-CALDESC:Veranstaltungen für Ackermannbogen e.V.
REFRESH-INTERVAL;VALUE=DURATION:PT1H
X-Robots-Tag:noindex
X-PUBLISHED-TTL:PT1H
BEGIN:VTIMEZONE
TZID:Europe/Berlin
BEGIN:DAYLIGHT
TZOFFSETFROM:+0100
TZOFFSETTO:+0200
TZNAME:CEST
DTSTART:20230326T010000
END:DAYLIGHT
BEGIN:STANDARD
TZOFFSETFROM:+0200
TZOFFSETTO:+0100
TZNAME:CET
DTSTART:20231029T010000
END:STANDARD
BEGIN:DAYLIGHT
TZOFFSETFROM:+0100
TZOFFSETTO:+0200
TZNAME:CEST
DTSTART:20240331T010000
END:DAYLIGHT
BEGIN:STANDARD
TZOFFSETFROM:+0200
TZOFFSETTO:+0100
TZNAME:CET
DTSTART:20241027T010000
END:STANDARD
BEGIN:DAYLIGHT
TZOFFSETFROM:+0100
TZOFFSETTO:+0200
TZNAME:CEST
DTSTART:20250330T010000
END:DAYLIGHT
BEGIN:STANDARD
TZOFFSETFROM:+0200
TZOFFSETTO:+0100
TZNAME:CET
DTSTART:20251026T010000
END:STANDARD
END:VTIMEZONE
BEGIN:VEVENT
DTSTART;TZID=Europe/Berlin:20241031T090000
DTEND;TZID=Europe/Berlin:20241031T120000
DTSTAMP:20260419T202514
CREATED:20240709T080433Z
LAST-MODIFIED:20250414T142806Z
UID:10008379-1730365200-1730376000@ackermannbogen-ev.de
SUMMARY:Olympiazwergerl
DESCRIPTION:Professionell betreute\, feste Spielgruppe mit maximal 8 Kindern. An\ndrei Vormittagen pro Woche lernen die Kinder\, ohne Mama/Papa\nin einer Gruppe mit Gleichaltrigen zu sein. Die Spielgruppe ist als\nElterninitiative organisiert\, das heißt: Elternmitarbeit ist Bestandteil\ndes Konzepts und erforderlich. \nInformation: spielgruppe.olympiazwergerl@gmail.com\nDienstags\, mittwochs\, donnerstags 9 – 12 Uhr\nRaum Olymp\, € 75\,– pro Monat.
URL:https://ackermannbogen-ev.de/programm/olympiazwergerl-2/2024-10-31/
LOCATION:Raum Olymp\, Elisabeth-Kohn-Str. 29\, München\, 80797\, Germany
CATEGORIES:Bildung & Betreuung
ATTACH;FMTTYPE=image/jpeg:https://ackermannbogen-ev.de/wp-content/uploads/2024/03/Spielgruppe-e1711098962919.jpg
GEO:48.1662941;11.554859
X-APPLE-STRUCTURED-LOCATION;VALUE=URI;X-ADDRESS=Raum Olymp Elisabeth-Kohn-Str. 29 München 80797 Germany;X-APPLE-RADIUS=500;X-TITLE=Elisabeth-Kohn-Str. 29:geo:11.554859,48.1662941
END:VEVENT
END:VCALENDAR