BEGIN:VCALENDAR
VERSION:2.0
PRODID:-//Ackermannbogen e.V. - ECPv6.15.20//NONSGML v1.0//EN
CALSCALE:GREGORIAN
METHOD:PUBLISH
X-ORIGINAL-URL:https://ackermannbogen-ev.de
X-WR-CALDESC:Veranstaltungen für Ackermannbogen e.V.
REFRESH-INTERVAL;VALUE=DURATION:PT1H
X-Robots-Tag:noindex
X-PUBLISHED-TTL:PT1H
BEGIN:VTIMEZONE
TZID:Europe/Berlin
BEGIN:DAYLIGHT
TZOFFSETFROM:+0100
TZOFFSETTO:+0200
TZNAME:CEST
DTSTART:20240331T010000
END:DAYLIGHT
BEGIN:STANDARD
TZOFFSETFROM:+0200
TZOFFSETTO:+0100
TZNAME:CET
DTSTART:20241027T010000
END:STANDARD
BEGIN:DAYLIGHT
TZOFFSETFROM:+0100
TZOFFSETTO:+0200
TZNAME:CEST
DTSTART:20250330T010000
END:DAYLIGHT
BEGIN:STANDARD
TZOFFSETFROM:+0200
TZOFFSETTO:+0100
TZNAME:CET
DTSTART:20251026T010000
END:STANDARD
BEGIN:DAYLIGHT
TZOFFSETFROM:+0100
TZOFFSETTO:+0200
TZNAME:CEST
DTSTART:20260329T010000
END:DAYLIGHT
BEGIN:STANDARD
TZOFFSETFROM:+0200
TZOFFSETTO:+0100
TZNAME:CET
DTSTART:20261025T010000
END:STANDARD
END:VTIMEZONE
BEGIN:VEVENT
DTSTART;TZID=Europe/Berlin:20250211T090000
DTEND;TZID=Europe/Berlin:20250211T120000
DTSTAMP:20260423T140022
CREATED:20240709T080433Z
LAST-MODIFIED:20250414T142806Z
UID:10008422-1739264400-1739275200@ackermannbogen-ev.de
SUMMARY:Olympiazwergerl
DESCRIPTION:Professionell betreute\, feste Spielgruppe mit maximal 8 Kindern. An\ndrei Vormittagen pro Woche lernen die Kinder\, ohne Mama/Papa\nin einer Gruppe mit Gleichaltrigen zu sein. Die Spielgruppe ist als\nElterninitiative organisiert\, das heißt: Elternmitarbeit ist Bestandteil\ndes Konzepts und erforderlich. \nInformation: spielgruppe.olympiazwergerl@gmail.com\nDienstags\, mittwochs\, donnerstags 9 – 12 Uhr\nRaum Olymp\, € 75\,– pro Monat.
URL:https://ackermannbogen-ev.de/programm/olympiazwergerl-2/2025-02-11/
LOCATION:Raum Olymp\, Elisabeth-Kohn-Str. 29\, München\, 80797\, Germany
CATEGORIES:Bildung & Betreuung
ATTACH;FMTTYPE=image/jpeg:https://ackermannbogen-ev.de/wp-content/uploads/2024/03/Spielgruppe-e1711098962919.jpg
GEO:48.1662941;11.554859
X-APPLE-STRUCTURED-LOCATION;VALUE=URI;X-ADDRESS=Raum Olymp Elisabeth-Kohn-Str. 29 München 80797 Germany;X-APPLE-RADIUS=500;X-TITLE=Elisabeth-Kohn-Str. 29:geo:11.554859,48.1662941
END:VEVENT
BEGIN:VEVENT
DTSTART;TZID=Europe/Berlin:20250211T154500
DTEND;TZID=Europe/Berlin:20250211T164500
DTSTAMP:20260423T140022
CREATED:20240709T075044Z
LAST-MODIFIED:20241220T104022Z
UID:10010358-1739288700-1739292300@ackermannbogen-ev.de
SUMMARY:Salsa suelta\, 50 plus
DESCRIPTION:Salsa suelta heißt\, wir tanzen solo in der Gruppe. Der Vorteil ist: Sie können alleine teilnehmen\, Sie brauchen keinen Tanzpartner dazu. Wir tanzen verschiedene Salsa-Schrittkombinationen und haben viel Spaß dabei. Für Anfänger mit Vorkenntnissen und für Fortgeschrittene. Für Teilnehmer 50 plus. \nKursleiterin: Marlene Zehetmaier\, Information: Telefon 089-33 55 58 und www.salsa50plus.de \n€ 85\,- für einen Kurs (10 Termine)
URL:https://ackermannbogen-ev.de/programm/salsa-suelta-50-plus-2/2025-02-11/
LOCATION:Raum Olymp\, Elisabeth-Kohn-Str. 29\, München\, 80797\, Germany
CATEGORIES:Interessen & Freizeit,Tanz & Bewegung
ATTACH;FMTTYPE=image/jpeg:https://ackermannbogen-ev.de/wp-content/uploads/2024/01/Salsa-e1711099852470.jpg
ORGANIZER;CN="NachbarschaftsB%C3%B6rse":MAILTO:nachbarschaftsboerse@ackermannbogen-ev.de
GEO:48.1662941;11.554859
X-APPLE-STRUCTURED-LOCATION;VALUE=URI;X-ADDRESS=Raum Olymp Elisabeth-Kohn-Str. 29 München 80797 Germany;X-APPLE-RADIUS=500;X-TITLE=Elisabeth-Kohn-Str. 29:geo:11.554859,48.1662941
END:VEVENT
BEGIN:VEVENT
DTSTART;TZID=Europe/Berlin:20250211T160000
DTEND;TZID=Europe/Berlin:20250211T170000
DTSTAMP:20260423T140022
CREATED:20240626T092332Z
LAST-MODIFIED:20240626T092332Z
UID:10008117-1739289600-1739293200@ackermannbogen-ev.de
SUMMARY:Hip Hop (Kinder der 3./4. Klasse)
DESCRIPTION:Hip Hop: Hier werden coole Moves geübt\, kurze Schrittabfolgen getanzt\, gedehnt und zum Schluss auch eine Choreografie einstudiert.\nKursleitung: Sonja Werner\, Tanzpädagogin\, Tel. 0171-831 18 76\nElisabeth-Kohn-Str. 15\n(gerne auch per SMS oder WhatsApp) \n16 - 17 Uhr  -  Hip Hop (Kinder der 3./4. Klasse) \nKurseinteilung nach Bedarf und Alter
URL:https://ackermannbogen-ev.de/programm/hip-hop-kinder-der-3-4-klasse/2025-02-11/
LOCATION:EKS 15\, Elisabeth-Kohn-Str. 15\, München\, 80797\, Germany
CATEGORIES:Tanz & Bewegung
ATTACH;FMTTYPE=image/jpeg:https://ackermannbogen-ev.de/wp-content/uploads/2023/11/hip-hop-e1710851112431.jpg
ORGANIZER;CN="NachbarschaftsB%C3%B6rse":MAILTO:nachbarschaftsboerse@ackermannbogen-ev.de
GEO:48.164854418235;11.554277501613
X-APPLE-STRUCTURED-LOCATION;VALUE=URI;X-ADDRESS=EKS 15 Elisabeth-Kohn-Str. 15 München 80797 Germany;X-APPLE-RADIUS=500;X-TITLE=Elisabeth-Kohn-Str. 15:geo:11.554277501613,48.164854418235
END:VEVENT
BEGIN:VEVENT
DTSTART;TZID=Europe/Berlin:20250211T170000
DTEND;TZID=Europe/Berlin:20250211T180000
DTSTAMP:20260423T140022
CREATED:20240628T063943Z
LAST-MODIFIED:20240628T063943Z
UID:10008160-1739293200-1739296800@ackermannbogen-ev.de
SUMMARY:Hip Hop (Kinder der 6./7. Klasse)
DESCRIPTION:Hip Hop: Hier werden coole Moves geübt\, kurze Schrittabfolgen getanzt\, gedehnt und zum Schluss auch eine Choreografie einstudiert.\nKursleitung: Sonja Werner\, Tanzpädagogin\, Tel. 0171-831 18 76\nElisabeth-Kohn-Str. 15\n(gerne auch per SMS oder WhatsApp)\nKurseinteilung nach Bedarf und Alter \n17 - 18 Uhr  -  Hip Hop (Kinder der 6./7. Klasse)
URL:https://ackermannbogen-ev.de/programm/hip-hop-kinder-der-6-7-klasse/2025-02-11/
LOCATION:EKS 15\, Elisabeth-Kohn-Str. 15\, München\, 80797\, Germany
CATEGORIES:Tanz & Bewegung
ATTACH;FMTTYPE=image/jpeg:https://ackermannbogen-ev.de/wp-content/uploads/2023/11/hip-hop-e1710851112431.jpg
ORGANIZER;CN="NachbarschaftsB%C3%B6rse":MAILTO:nachbarschaftsboerse@ackermannbogen-ev.de
GEO:48.164854418235;11.554277501613
X-APPLE-STRUCTURED-LOCATION;VALUE=URI;X-ADDRESS=EKS 15 Elisabeth-Kohn-Str. 15 München 80797 Germany;X-APPLE-RADIUS=500;X-TITLE=Elisabeth-Kohn-Str. 15:geo:11.554277501613,48.164854418235
END:VEVENT
BEGIN:VEVENT
DTSTART;TZID=Europe/Berlin:20250211T170000
DTEND;TZID=Europe/Berlin:20250211T180000
DTSTAMP:20260423T140022
CREATED:20240709T075658Z
LAST-MODIFIED:20250416T155542Z
UID:10008261-1739293200-1739296800@ackermannbogen-ev.de
SUMMARY:Salsa paarweise\, 50 plus
DESCRIPTION:Wir tanzen paarweise kubanische Salsa. Geeignet ist der Kurs für leicht Fortgeschrittene. Für Teilnehmer:innen 50 plus. \nKursleitung: Marlene Zehetmaier \nTel. 089-33 55 58 und www.salsa50plus.de \n€ 110\,- für einen Kurs (10 Termine)
URL:https://ackermannbogen-ev.de/programm/salsa-paarweise-50-plus-2/2025-02-11/
LOCATION:Raum Olymp\, Elisabeth-Kohn-Str. 29\, München\, 80797\, Germany
CATEGORIES:Interessen & Freizeit,Tanz & Bewegung
ATTACH;FMTTYPE=image/jpeg:https://ackermannbogen-ev.de/wp-content/uploads/2024/01/Salsa-e1711099852470.jpg
ORGANIZER;CN="NachbarschaftsB%C3%B6rse":MAILTO:nachbarschaftsboerse@ackermannbogen-ev.de
GEO:48.1662941;11.554859
X-APPLE-STRUCTURED-LOCATION;VALUE=URI;X-ADDRESS=Raum Olymp Elisabeth-Kohn-Str. 29 München 80797 Germany;X-APPLE-RADIUS=500;X-TITLE=Elisabeth-Kohn-Str. 29:geo:11.554859,48.1662941
END:VEVENT
BEGIN:VEVENT
DTSTART;TZID=Europe/Berlin:20250211T190000
DTEND;TZID=Europe/Berlin:20250211T200000
DTSTAMP:20260423T140022
CREATED:20240108T113023Z
LAST-MODIFIED:20241217T081742Z
UID:10006409-1739300400-1739304000@ackermannbogen-ev.de
SUMMARY:Feldenkrais
DESCRIPTION:Bewusstheit durch Bewegung\nEine Methode für alle\, die ihren Bewegungsspielraum erweitern und einseitigen Belastungen vielseitige Alternativen entgegenstellen wollen. \nLeitung: Christl Karnehm\, Tel. 089-16 09 22
URL:https://ackermannbogen-ev.de/programm/feldenkrais-2/2025-02-11/
LOCATION:RAB 9 großer Raum\, Rosa-Aschenbrenner-Bogen 9\, München\, 80797\, Germany
CATEGORIES:Fitness & Gesundheit
ATTACH;FMTTYPE=image/jpeg:https://ackermannbogen-ev.de/wp-content/uploads/2023/11/yogamatten-e1711100895704.jpg
ORGANIZER;CN="NachbarschaftsB%C3%B6rse":MAILTO:nachbarschaftsboerse@ackermannbogen-ev.de
GEO:48.1647793;11.5585741
X-APPLE-STRUCTURED-LOCATION;VALUE=URI;X-ADDRESS=RAB 9 großer Raum Rosa-Aschenbrenner-Bogen 9 München 80797 Germany;X-APPLE-RADIUS=500;X-TITLE=Rosa-Aschenbrenner-Bogen 9:geo:11.5585741,48.1647793
END:VEVENT
BEGIN:VEVENT
DTSTART;TZID=Europe/Berlin:20250211T200000
DTEND;TZID=Europe/Berlin:20250211T220000
DTSTAMP:20260423T140022
CREATED:20240726T092624Z
LAST-MODIFIED:20250401T113756Z
UID:10008959-1739304000-1739311200@ackermannbogen-ev.de
SUMMARY:Be my guest - Meadows and Mirrors
DESCRIPTION:Philipp Schiepek\nDie Konzertgitarre ist selten im Jazz. Philipp Schiepek ist einer der wenigen Jazzgitarristen\, die\ngerade auf dem akustischen Instrument zu besonderem Ausdruck und Klangschönheit finden.\nDafür zapft er Quellen an\, die von Bach bis ins Heute reichen. Im November 2024 erscheint bei\nGLM ein neues Album mit Musik\, die Schiepek speziell für die Konzertgitarre komponiert hat. Und\ngenau das präsentiert er nun bei Be My Guest. \nPhilipp Schiepek\, Gitarre\nHenning Sieverts\, Kontrabass\nStefan Noelle\, Schlagzeug
URL:https://ackermannbogen-ev.de/programm/be-my-guest-meadows-and-mirrors/
LOCATION:KreativGarage Studio\, Rosa-Aschenbrenner-Bogen 9 / UG\, München\, Bayern\, 80797\, Germany
CATEGORIES:Kunst,Musik,Musik & Gesang
ATTACH;FMTTYPE=image/png:https://ackermannbogen-ev.de/wp-content/uploads/2024/07/Philipp-Schiepek-exp.2-e1721986801991-scaled.png
ORGANIZER;CN="KulturB%C3%BCro":MAILTO:kulturbuero@ackermannbogen-ev.de
GEO:48.1647793;11.5585741
X-APPLE-STRUCTURED-LOCATION;VALUE=URI;X-ADDRESS=KreativGarage Studio Rosa-Aschenbrenner-Bogen 9 / UG München Bayern 80797 Germany;X-APPLE-RADIUS=500;X-TITLE=Rosa-Aschenbrenner-Bogen 9 / UG:geo:11.5585741,48.1647793
END:VEVENT
END:VCALENDAR