BEGIN:VCALENDAR
VERSION:2.0
PRODID:-//Ackermannbogen e.V. - ECPv6.15.20//NONSGML v1.0//EN
CALSCALE:GREGORIAN
METHOD:PUBLISH
X-ORIGINAL-URL:https://ackermannbogen-ev.de
X-WR-CALDESC:Veranstaltungen für Ackermannbogen e.V.
REFRESH-INTERVAL;VALUE=DURATION:PT1H
X-Robots-Tag:noindex
X-PUBLISHED-TTL:PT1H
BEGIN:VTIMEZONE
TZID:Europe/Berlin
BEGIN:DAYLIGHT
TZOFFSETFROM:+0100
TZOFFSETTO:+0200
TZNAME:CEST
DTSTART:20240331T010000
END:DAYLIGHT
BEGIN:STANDARD
TZOFFSETFROM:+0200
TZOFFSETTO:+0100
TZNAME:CET
DTSTART:20241027T010000
END:STANDARD
BEGIN:DAYLIGHT
TZOFFSETFROM:+0100
TZOFFSETTO:+0200
TZNAME:CEST
DTSTART:20250330T010000
END:DAYLIGHT
BEGIN:STANDARD
TZOFFSETFROM:+0200
TZOFFSETTO:+0100
TZNAME:CET
DTSTART:20251026T010000
END:STANDARD
BEGIN:DAYLIGHT
TZOFFSETFROM:+0100
TZOFFSETTO:+0200
TZNAME:CEST
DTSTART:20260329T010000
END:DAYLIGHT
BEGIN:STANDARD
TZOFFSETFROM:+0200
TZOFFSETTO:+0100
TZNAME:CET
DTSTART:20261025T010000
END:STANDARD
END:VTIMEZONE
BEGIN:VEVENT
DTSTART;TZID=Europe/Berlin:20250304T090000
DTEND;TZID=Europe/Berlin:20250304T120000
DTSTAMP:20260424T005020
CREATED:20240709T080433Z
LAST-MODIFIED:20250414T142806Z
UID:10008431-1741078800-1741089600@ackermannbogen-ev.de
SUMMARY:Olympiazwergerl
DESCRIPTION:Professionell betreute\, feste Spielgruppe mit maximal 8 Kindern. An\ndrei Vormittagen pro Woche lernen die Kinder\, ohne Mama/Papa\nin einer Gruppe mit Gleichaltrigen zu sein. Die Spielgruppe ist als\nElterninitiative organisiert\, das heißt: Elternmitarbeit ist Bestandteil\ndes Konzepts und erforderlich. \nInformation: spielgruppe.olympiazwergerl@gmail.com\nDienstags\, mittwochs\, donnerstags 9 – 12 Uhr\nRaum Olymp\, € 75\,– pro Monat.
URL:https://ackermannbogen-ev.de/programm/olympiazwergerl-2/2025-03-04/
LOCATION:Raum Olymp\, Elisabeth-Kohn-Str. 29\, München\, 80797\, Germany
CATEGORIES:Bildung & Betreuung
ATTACH;FMTTYPE=image/jpeg:https://ackermannbogen-ev.de/wp-content/uploads/2024/03/Spielgruppe-e1711098962919.jpg
GEO:48.1662941;11.554859
X-APPLE-STRUCTURED-LOCATION;VALUE=URI;X-ADDRESS=Raum Olymp Elisabeth-Kohn-Str. 29 München 80797 Germany;X-APPLE-RADIUS=500;X-TITLE=Elisabeth-Kohn-Str. 29:geo:11.554859,48.1662941
END:VEVENT
BEGIN:VEVENT
DTSTART;TZID=Europe/Berlin:20250304T190000
DTEND;TZID=Europe/Berlin:20250304T200000
DTSTAMP:20260424T005020
CREATED:20240108T113023Z
LAST-MODIFIED:20241217T081742Z
UID:10006412-1741114800-1741118400@ackermannbogen-ev.de
SUMMARY:Feldenkrais
DESCRIPTION:Bewusstheit durch Bewegung\nEine Methode für alle\, die ihren Bewegungsspielraum erweitern und einseitigen Belastungen vielseitige Alternativen entgegenstellen wollen. \nLeitung: Christl Karnehm\, Tel. 089-16 09 22
URL:https://ackermannbogen-ev.de/programm/feldenkrais-2/2025-03-04/
LOCATION:RAB 9 großer Raum\, Rosa-Aschenbrenner-Bogen 9\, München\, 80797\, Germany
CATEGORIES:Fitness & Gesundheit
ATTACH;FMTTYPE=image/jpeg:https://ackermannbogen-ev.de/wp-content/uploads/2023/11/yogamatten-e1711100895704.jpg
ORGANIZER;CN="NachbarschaftsB%C3%B6rse":MAILTO:nachbarschaftsboerse@ackermannbogen-ev.de
GEO:48.1647793;11.5585741
X-APPLE-STRUCTURED-LOCATION;VALUE=URI;X-ADDRESS=RAB 9 großer Raum Rosa-Aschenbrenner-Bogen 9 München 80797 Germany;X-APPLE-RADIUS=500;X-TITLE=Rosa-Aschenbrenner-Bogen 9:geo:11.5585741,48.1647793
END:VEVENT
END:VCALENDAR