BEGIN:VCALENDAR
VERSION:2.0
PRODID:-//Ackermannbogen e.V. - ECPv6.15.20//NONSGML v1.0//EN
CALSCALE:GREGORIAN
METHOD:PUBLISH
X-WR-CALNAME:Ackermannbogen e.V.
X-ORIGINAL-URL:https://ackermannbogen-ev.de
X-WR-CALDESC:Veranstaltungen für Ackermannbogen e.V.
REFRESH-INTERVAL;VALUE=DURATION:PT1H
X-Robots-Tag:noindex
X-PUBLISHED-TTL:PT1H
BEGIN:VTIMEZONE
TZID:Europe/Berlin
BEGIN:DAYLIGHT
TZOFFSETFROM:+0100
TZOFFSETTO:+0200
TZNAME:CEST
DTSTART:20240331T010000
END:DAYLIGHT
BEGIN:STANDARD
TZOFFSETFROM:+0200
TZOFFSETTO:+0100
TZNAME:CET
DTSTART:20241027T010000
END:STANDARD
BEGIN:DAYLIGHT
TZOFFSETFROM:+0100
TZOFFSETTO:+0200
TZNAME:CEST
DTSTART:20250330T010000
END:DAYLIGHT
BEGIN:STANDARD
TZOFFSETFROM:+0200
TZOFFSETTO:+0100
TZNAME:CET
DTSTART:20251026T010000
END:STANDARD
BEGIN:DAYLIGHT
TZOFFSETFROM:+0100
TZOFFSETTO:+0200
TZNAME:CEST
DTSTART:20260329T010000
END:DAYLIGHT
BEGIN:STANDARD
TZOFFSETFROM:+0200
TZOFFSETTO:+0100
TZNAME:CET
DTSTART:20261025T010000
END:STANDARD
END:VTIMEZONE
BEGIN:VEVENT
DTSTART;TZID=Europe/Berlin:20250311T090000
DTEND;TZID=Europe/Berlin:20250311T120000
DTSTAMP:20260424T021357
CREATED:20240709T080433Z
LAST-MODIFIED:20250414T142806Z
UID:10008434-1741683600-1741694400@ackermannbogen-ev.de
SUMMARY:Olympiazwergerl
DESCRIPTION:Professionell betreute\, feste Spielgruppe mit maximal 8 Kindern. An\ndrei Vormittagen pro Woche lernen die Kinder\, ohne Mama/Papa\nin einer Gruppe mit Gleichaltrigen zu sein. Die Spielgruppe ist als\nElterninitiative organisiert\, das heißt: Elternmitarbeit ist Bestandteil\ndes Konzepts und erforderlich. \nInformation: spielgruppe.olympiazwergerl@gmail.com\nDienstags\, mittwochs\, donnerstags 9 – 12 Uhr\nRaum Olymp\, € 75\,– pro Monat.
URL:https://ackermannbogen-ev.de/programm/olympiazwergerl-2/2025-03-11/
LOCATION:Raum Olymp\, Elisabeth-Kohn-Str. 29\, München\, 80797\, Germany
CATEGORIES:Bildung & Betreuung
ATTACH;FMTTYPE=image/jpeg:https://ackermannbogen-ev.de/wp-content/uploads/2024/03/Spielgruppe-e1711098962919.jpg
GEO:48.1662941;11.554859
X-APPLE-STRUCTURED-LOCATION;VALUE=URI;X-ADDRESS=Raum Olymp Elisabeth-Kohn-Str. 29 München 80797 Germany;X-APPLE-RADIUS=500;X-TITLE=Elisabeth-Kohn-Str. 29:geo:11.554859,48.1662941
END:VEVENT
BEGIN:VEVENT
DTSTART;TZID=Europe/Berlin:20250311T160000
DTEND;TZID=Europe/Berlin:20250311T170000
DTSTAMP:20260424T021357
CREATED:20240626T092332Z
LAST-MODIFIED:20240626T092332Z
UID:10008120-1741708800-1741712400@ackermannbogen-ev.de
SUMMARY:Hip Hop (Kinder der 3./4. Klasse)
DESCRIPTION:Hip Hop: Hier werden coole Moves geübt\, kurze Schrittabfolgen getanzt\, gedehnt und zum Schluss auch eine Choreografie einstudiert.\nKursleitung: Sonja Werner\, Tanzpädagogin\, Tel. 0171-831 18 76\nElisabeth-Kohn-Str. 15\n(gerne auch per SMS oder WhatsApp) \n16 - 17 Uhr  -  Hip Hop (Kinder der 3./4. Klasse) \nKurseinteilung nach Bedarf und Alter
URL:https://ackermannbogen-ev.de/programm/hip-hop-kinder-der-3-4-klasse/2025-03-11/
LOCATION:EKS 15\, Elisabeth-Kohn-Str. 15\, München\, 80797\, Germany
CATEGORIES:Tanz & Bewegung
ATTACH;FMTTYPE=image/jpeg:https://ackermannbogen-ev.de/wp-content/uploads/2023/11/hip-hop-e1710851112431.jpg
ORGANIZER;CN="NachbarschaftsB%C3%B6rse":MAILTO:nachbarschaftsboerse@ackermannbogen-ev.de
GEO:48.164854418235;11.554277501613
X-APPLE-STRUCTURED-LOCATION;VALUE=URI;X-ADDRESS=EKS 15 Elisabeth-Kohn-Str. 15 München 80797 Germany;X-APPLE-RADIUS=500;X-TITLE=Elisabeth-Kohn-Str. 15:geo:11.554277501613,48.164854418235
END:VEVENT
BEGIN:VEVENT
DTSTART;TZID=Europe/Berlin:20250311T170000
DTEND;TZID=Europe/Berlin:20250311T180000
DTSTAMP:20260424T021357
CREATED:20240628T063943Z
LAST-MODIFIED:20240628T063943Z
UID:10008163-1741712400-1741716000@ackermannbogen-ev.de
SUMMARY:Hip Hop (Kinder der 6./7. Klasse)
DESCRIPTION:Hip Hop: Hier werden coole Moves geübt\, kurze Schrittabfolgen getanzt\, gedehnt und zum Schluss auch eine Choreografie einstudiert.\nKursleitung: Sonja Werner\, Tanzpädagogin\, Tel. 0171-831 18 76\nElisabeth-Kohn-Str. 15\n(gerne auch per SMS oder WhatsApp)\nKurseinteilung nach Bedarf und Alter \n17 - 18 Uhr  -  Hip Hop (Kinder der 6./7. Klasse)
URL:https://ackermannbogen-ev.de/programm/hip-hop-kinder-der-6-7-klasse/2025-03-11/
LOCATION:EKS 15\, Elisabeth-Kohn-Str. 15\, München\, 80797\, Germany
CATEGORIES:Tanz & Bewegung
ATTACH;FMTTYPE=image/jpeg:https://ackermannbogen-ev.de/wp-content/uploads/2023/11/hip-hop-e1710851112431.jpg
ORGANIZER;CN="NachbarschaftsB%C3%B6rse":MAILTO:nachbarschaftsboerse@ackermannbogen-ev.de
GEO:48.164854418235;11.554277501613
X-APPLE-STRUCTURED-LOCATION;VALUE=URI;X-ADDRESS=EKS 15 Elisabeth-Kohn-Str. 15 München 80797 Germany;X-APPLE-RADIUS=500;X-TITLE=Elisabeth-Kohn-Str. 15:geo:11.554277501613,48.164854418235
END:VEVENT
BEGIN:VEVENT
DTSTART;TZID=Europe/Berlin:20250311T183000
DTEND;TZID=Europe/Berlin:20250311T200000
DTSTAMP:20260424T021357
CREATED:20250217T132146Z
LAST-MODIFIED:20250217T132221Z
UID:10010629-1741717800-1741723200@ackermannbogen-ev.de
SUMMARY:Hatha Yoga
DESCRIPTION:Kursleitung: Maria Seitle\, zertifizierte Iyengar Yogalehrerin\,\nTel. 089-470 31 07\nDienstags 18.30 – 20 Uhr\,\nEKS 15\, 90 min. € 16\,–\, Einstieg jederzeit möglich
URL:https://ackermannbogen-ev.de/programm/hatha-yoga-3/2025-03-11/
LOCATION:EKS 15\, Elisabeth-Kohn-Str. 15\, München\, 80797\, Germany
CATEGORIES:Fitness & Gesundheit
ATTACH;FMTTYPE=image/jpeg:https://ackermannbogen-ev.de/wp-content/uploads/2023/06/140929-Yoga-am-Morgen-26-2-e1710851987137.jpg
ORGANIZER;CN="NachbarschaftsB%C3%B6rse":MAILTO:nachbarschaftsboerse@ackermannbogen-ev.de
GEO:48.164854418235;11.554277501613
X-APPLE-STRUCTURED-LOCATION;VALUE=URI;X-ADDRESS=EKS 15 Elisabeth-Kohn-Str. 15 München 80797 Germany;X-APPLE-RADIUS=500;X-TITLE=Elisabeth-Kohn-Str. 15:geo:11.554277501613,48.164854418235
END:VEVENT
BEGIN:VEVENT
DTSTART;TZID=Europe/Berlin:20250311T190000
DTEND;TZID=Europe/Berlin:20250311T200000
DTSTAMP:20260424T021357
CREATED:20240108T113023Z
LAST-MODIFIED:20241217T081742Z
UID:10006413-1741719600-1741723200@ackermannbogen-ev.de
SUMMARY:Feldenkrais
DESCRIPTION:Bewusstheit durch Bewegung\nEine Methode für alle\, die ihren Bewegungsspielraum erweitern und einseitigen Belastungen vielseitige Alternativen entgegenstellen wollen. \nLeitung: Christl Karnehm\, Tel. 089-16 09 22
URL:https://ackermannbogen-ev.de/programm/feldenkrais-2/2025-03-11/
LOCATION:RAB 9 großer Raum\, Rosa-Aschenbrenner-Bogen 9\, München\, 80797\, Germany
CATEGORIES:Fitness & Gesundheit
ATTACH;FMTTYPE=image/jpeg:https://ackermannbogen-ev.de/wp-content/uploads/2023/11/yogamatten-e1711100895704.jpg
ORGANIZER;CN="NachbarschaftsB%C3%B6rse":MAILTO:nachbarschaftsboerse@ackermannbogen-ev.de
GEO:48.1647793;11.5585741
X-APPLE-STRUCTURED-LOCATION;VALUE=URI;X-ADDRESS=RAB 9 großer Raum Rosa-Aschenbrenner-Bogen 9 München 80797 Germany;X-APPLE-RADIUS=500;X-TITLE=Rosa-Aschenbrenner-Bogen 9:geo:11.5585741,48.1647793
END:VEVENT
BEGIN:VEVENT
DTSTART;TZID=Europe/Berlin:20250311T200000
DTEND;TZID=Europe/Berlin:20250311T220000
DTSTAMP:20260424T021357
CREATED:20240726T095521Z
LAST-MODIFIED:20250401T103127Z
UID:10008962-1741723200-1741730400@ackermannbogen-ev.de
SUMMARY:Be my guest - The Music of Cedar Walton
DESCRIPTION:Julian Schmidt\nIn Julian Schmidts feinem Klavierspiel lässt sich heraushören\, dass er sich mit Jazzpiano-\nVorbildern wie Wynton Kelly oder Sonny Clark intensiv auseinandergestzt hat. An diesem Abend\nsteht die Musik von Cedar Walton im Mittelpunkt\, enem maßgeblichen Pianisten der Hard-BopÄra\,\ndarunter drei Jahre lang bei Art Blakeys Jazz Messengers. Diverse Kompositionen Waltons –\nso zum Beispiel „Bolivia“ – sind als Klassiker in die Jazz-Literatur eingegangen. \nJulian Schmidt\, Piano\nThomas Stabenow\, Kontrabass\nStefan Noelle\, Schlagzeug
URL:https://ackermannbogen-ev.de/programm/be-my-guest-the-music-of-cedar-walton/
LOCATION:KreativGarage Studio\, Rosa-Aschenbrenner-Bogen 9 / UG\, München\, Bayern\, 80797\, Germany
CATEGORIES:Kunst,Musik,Musik & Gesang
ATTACH;FMTTYPE=image/png:https://ackermannbogen-ev.de/wp-content/uploads/2024/07/julian-schmidt-exp-1-e1721987713595.png
ORGANIZER;CN="KulturB%C3%BCro":MAILTO:kulturbuero@ackermannbogen-ev.de
GEO:48.1647793;11.5585741
X-APPLE-STRUCTURED-LOCATION;VALUE=URI;X-ADDRESS=KreativGarage Studio Rosa-Aschenbrenner-Bogen 9 / UG München Bayern 80797 Germany;X-APPLE-RADIUS=500;X-TITLE=Rosa-Aschenbrenner-Bogen 9 / UG:geo:11.5585741,48.1647793
END:VEVENT
END:VCALENDAR