BEGIN:VCALENDAR
VERSION:2.0
PRODID:-//Ackermannbogen e.V. - ECPv6.15.20//NONSGML v1.0//EN
CALSCALE:GREGORIAN
METHOD:PUBLISH
X-WR-CALNAME:Ackermannbogen e.V.
X-ORIGINAL-URL:https://ackermannbogen-ev.de
X-WR-CALDESC:Veranstaltungen für Ackermannbogen e.V.
REFRESH-INTERVAL;VALUE=DURATION:PT1H
X-Robots-Tag:noindex
X-PUBLISHED-TTL:PT1H
BEGIN:VTIMEZONE
TZID:Europe/Berlin
BEGIN:DAYLIGHT
TZOFFSETFROM:+0100
TZOFFSETTO:+0200
TZNAME:CEST
DTSTART:20240331T010000
END:DAYLIGHT
BEGIN:STANDARD
TZOFFSETFROM:+0200
TZOFFSETTO:+0100
TZNAME:CET
DTSTART:20241027T010000
END:STANDARD
BEGIN:DAYLIGHT
TZOFFSETFROM:+0100
TZOFFSETTO:+0200
TZNAME:CEST
DTSTART:20250330T010000
END:DAYLIGHT
BEGIN:STANDARD
TZOFFSETFROM:+0200
TZOFFSETTO:+0100
TZNAME:CET
DTSTART:20251026T010000
END:STANDARD
BEGIN:DAYLIGHT
TZOFFSETFROM:+0100
TZOFFSETTO:+0200
TZNAME:CEST
DTSTART:20260329T010000
END:DAYLIGHT
BEGIN:STANDARD
TZOFFSETFROM:+0200
TZOFFSETTO:+0100
TZNAME:CET
DTSTART:20261025T010000
END:STANDARD
END:VTIMEZONE
BEGIN:VEVENT
DTSTART;TZID=Europe/Berlin:20250321T153000
DTEND;TZID=Europe/Berlin:20250321T163000
DTSTAMP:20260424T021307
CREATED:20240911T125336Z
LAST-MODIFIED:20240911T125336Z
UID:10009589-1742571000-1742574600@ackermannbogen-ev.de
SUMMARY:Singsalabim 1
DESCRIPTION:Chorbande Schwabing & Singsalabim\nFür engagierte Kinder und Jugendliche\, die Lust und Freude am Singen\,\nTanzen und Schauspielen haben.\nKursleitung: Nicola Drißner\, Chorleiterin\nSingsalabim 1 (Kinder ab 4 Jahren):\nFreitags\, 15.30 – 16.15 Uhr\nSingsalabim 2 (letztes Kindergartenjahr\, 1.Klasse):\nFreitags\, 16.30 – 17.15 Uhr\nKosten: € 25 / Monat\nAnmeldung: singsalabim@chorbandeschwabing.de
URL:https://ackermannbogen-ev.de/programm/singsalabim-1-2/2025-03-21/
LOCATION:RAB 9 großer Raum\, Rosa-Aschenbrenner-Bogen 9\, München\, 80797\, Germany
CATEGORIES:Kultur & Kreatives,Musik & Gesang,Theater & Film
ATTACH;FMTTYPE=image/jpeg:https://ackermannbogen-ev.de/wp-content/uploads/2023/11/Chorbande-1-e1711098256770.jpg
GEO:48.1647793;11.5585741
X-APPLE-STRUCTURED-LOCATION;VALUE=URI;X-ADDRESS=RAB 9 großer Raum Rosa-Aschenbrenner-Bogen 9 München 80797 Germany;X-APPLE-RADIUS=500;X-TITLE=Rosa-Aschenbrenner-Bogen 9:geo:11.5585741,48.1647793
END:VEVENT
BEGIN:VEVENT
DTSTART;TZID=Europe/Berlin:20250321T160000
DTEND;TZID=Europe/Berlin:20250321T180000
DTSTAMP:20260424T021307
CREATED:20250131T115326Z
LAST-MODIFIED:20250131T115614Z
UID:10010472-1742572800-1742580000@ackermannbogen-ev.de
SUMMARY:Ausstellung FrauenLeben
DESCRIPTION:Fotografien aus Indien von Bettina Lindenberg\nAuf der Reise nach Nordindien im Sommer 2024 setzt Bettina Lindenberg den fotografischen Fokus auf das Leben der Frauen. Mehrere Wochen arbeitet sie im Saheli Trust-Frauenprojekt in Dehradun\, Uttarakhand mit (www.sahelitrust.org) und erhält Einblicke in verschiedene Frauenleben\, zwischen Armut und Selbstbestimmung.\nDie Ausstellung ist diesen Frauen zum Internationalen Frauentag am 8. März 2025 gewidmet. \nReise-Diavortrag: Sonntag\, 23. März um 16 Uhr in der KreativGarage\, Rosa-Aschenbrenner-Bogen 9\nKontakt: beli@mnet-mail.de\, www.bettinalindenberg.co \n 
URL:https://ackermannbogen-ev.de/programm/ausstellung-frauenleben/2025-03-21/
LOCATION:SchauRaum\, Therese-Studer-Str. 9\, München\, 80797\, Germany
CATEGORIES:Austausch & Dialog,Interessen & Freizeit,Kultur & Kreatives,Kunst
ATTACH;FMTTYPE=image/png:https://ackermannbogen-ev.de/wp-content/uploads/2025/01/BettinaIndien_Schauraum2025A1.pdf-e1738324061200.png
ORGANIZER;CN="KulturB%C3%BCro":MAILTO:kulturbuero@ackermannbogen-ev.de
GEO:48.1655949;11.559837
X-APPLE-STRUCTURED-LOCATION;VALUE=URI;X-ADDRESS=SchauRaum Therese-Studer-Str. 9 München 80797 Germany;X-APPLE-RADIUS=500;X-TITLE=Therese-Studer-Str. 9:geo:11.559837,48.1655949
END:VEVENT
BEGIN:VEVENT
DTSTART;TZID=Europe/Berlin:20250321T160000
DTEND;TZID=Europe/Berlin:20250321T180000
DTSTAMP:20260424T021307
CREATED:20250218T183350Z
LAST-MODIFIED:20250612T081143Z
UID:10010653-1742572800-1742580000@ackermannbogen-ev.de
SUMMARY:Offenes Gärtnern
DESCRIPTION:Immer mittwochs und freitags treffen sich die StadtAcker-Aktiven ab 17 Uhr themengruppenübergreifend zum gemeinsamen Gärtnern und geselligen Austausch.\nInteressiert? Schauen Sie gerne vorbei. \nGartensprechstunde:\nHaben Sie Fragen zum StadtAcker und zum Gärtnern? Dann besuchen Sie uns zur Gartensprechstunde\, immer freitags 16-17 Uhr im StadtAcker.
URL:https://ackermannbogen-ev.de/programm/offenes-gaertnern-3-2-2/2025-03-21/
LOCATION:Im Freien - StadtAcker
CATEGORIES:Umwelt & Natur
ATTACH;FMTTYPE=image/jpeg:https://ackermannbogen-ev.de/wp-content/uploads/2024/07/IMG_20240621_185552_1-scaled-e1749640991289.jpg
ORGANIZER;CN="StadtNatur":MAILTO:stadtnatur@ackermannbogen-ev.de
END:VEVENT
BEGIN:VEVENT
DTSTART;TZID=Europe/Berlin:20250321T163000
DTEND;TZID=Europe/Berlin:20250321T173000
DTSTAMP:20260424T021307
CREATED:20240911T130117Z
LAST-MODIFIED:20240911T130117Z
UID:10009622-1742574600-1742578200@ackermannbogen-ev.de
SUMMARY:Singsalabim 2
DESCRIPTION:Chorbande Schwabing & Singsalabim\nFür engagierte Kinder und Jugendliche\, die Lust und Freude am Singen\,\nTanzen und Schauspielen haben.\nKursleitung: Nicola Drißner\, Chorleiterin\nSingsalabim 1 (Kinder ab 4 Jahren):\nFreitags\, 15.30 – 16.15 Uhr\nSingsalabim 2 (letztes Kindergartenjahr\, 1.Klasse):\nFreitags\, 16.30 – 17.15 Uhr\nKosten: € 25 / Monat\nAnmeldung: singsalabim@chorbandeschwabing.de
URL:https://ackermannbogen-ev.de/programm/singsalabim-2-2/2025-03-21/
LOCATION:RAB 9 großer Raum\, Rosa-Aschenbrenner-Bogen 9\, München\, 80797\, Germany
CATEGORIES:Kultur & Kreatives,Musik & Gesang,Tanz & Bewegung
ATTACH;FMTTYPE=image/jpeg:https://ackermannbogen-ev.de/wp-content/uploads/2023/11/Chorbande-1-e1711098256770.jpg
GEO:48.1647793;11.5585741
X-APPLE-STRUCTURED-LOCATION;VALUE=URI;X-ADDRESS=RAB 9 großer Raum Rosa-Aschenbrenner-Bogen 9 München 80797 Germany;X-APPLE-RADIUS=500;X-TITLE=Rosa-Aschenbrenner-Bogen 9:geo:11.5585741,48.1647793
END:VEVENT
END:VCALENDAR