BEGIN:VCALENDAR
VERSION:2.0
PRODID:-//Ackermannbogen e.V. - ECPv6.15.20//NONSGML v1.0//EN
CALSCALE:GREGORIAN
METHOD:PUBLISH
X-WR-CALNAME:Ackermannbogen e.V.
X-ORIGINAL-URL:https://ackermannbogen-ev.de
X-WR-CALDESC:Veranstaltungen für Ackermannbogen e.V.
REFRESH-INTERVAL;VALUE=DURATION:PT1H
X-Robots-Tag:noindex
X-PUBLISHED-TTL:PT1H
BEGIN:VTIMEZONE
TZID:Europe/Berlin
BEGIN:DAYLIGHT
TZOFFSETFROM:+0100
TZOFFSETTO:+0200
TZNAME:CEST
DTSTART:20240331T010000
END:DAYLIGHT
BEGIN:STANDARD
TZOFFSETFROM:+0200
TZOFFSETTO:+0100
TZNAME:CET
DTSTART:20241027T010000
END:STANDARD
BEGIN:DAYLIGHT
TZOFFSETFROM:+0100
TZOFFSETTO:+0200
TZNAME:CEST
DTSTART:20250330T010000
END:DAYLIGHT
BEGIN:STANDARD
TZOFFSETFROM:+0200
TZOFFSETTO:+0100
TZNAME:CET
DTSTART:20251026T010000
END:STANDARD
BEGIN:DAYLIGHT
TZOFFSETFROM:+0100
TZOFFSETTO:+0200
TZNAME:CEST
DTSTART:20260329T010000
END:DAYLIGHT
BEGIN:STANDARD
TZOFFSETFROM:+0200
TZOFFSETTO:+0100
TZNAME:CET
DTSTART:20261025T010000
END:STANDARD
END:VTIMEZONE
BEGIN:VEVENT
DTSTART;TZID=Europe/Berlin:20250322T120000
DTEND;TZID=Europe/Berlin:20250322T140000
DTSTAMP:20260424T005028
CREATED:20241218T133017Z
LAST-MODIFIED:20250401T113228Z
UID:10010342-1742644800-1742652000@ackermannbogen-ev.de
SUMMARY:Obst und Gemüse vom Demeterhof Birkmeir
DESCRIPTION:Hubert und Elisabeth Birkmeir beliefern uns mit ihren frischen Bio-Produkten. Die Familie bewirtschaftet ihren Hof bei Pöttmes seit 1954 in dritter Generation nach der biodynamischen Wirtschaftsweise.\nWas die Birkmeirs diesmal mitbringen:\nKartoffeln in drei Sorten\, Zwiebeln in Sorten\, Karotten\, Rote Bete\, Sellerie\, Äpfel in Sorten\, Apfelsaft und Eier. (Eierschachteln bitte gerne mitbringen.) \nDieses Mal gibt es auch die Ziegenprodukte vom Biohof Blumenthal und außerdem Honig von der Stadtimkerin Diana Ulich. \nErstmals erhältlich sind frische Bio-Edelpilze aus der Region von Schlosspilze. \n  \nIm Anschluss an den Verkauf gibt es im StadtAcker Gelegenheit\, mit den Birkmeirs ins Gespräch über gärtnerische Praxis und Ernährung einzutauchen. Mehr dazu. \n 
URL:https://ackermannbogen-ev.de/programm/obst-und-gemuese-vom-demeterhof-birkmeir-3/
LOCATION:KulturPassage\, Rosa-Aschenbrenner-Bogen 9\, München\, 80797\, Germany
ATTACH;FMTTYPE=image/jpeg:https://ackermannbogen-ev.de/wp-content/uploads/2024/07/24-IMG_20221119_125321_1-scaled-e1721985854367.jpg
ORGANIZER;CN="StadtNatur":MAILTO:stadtnatur@ackermannbogen-ev.de
GEO:48.1647793;11.5585741
X-APPLE-STRUCTURED-LOCATION;VALUE=URI;X-ADDRESS=KulturPassage Rosa-Aschenbrenner-Bogen 9 München 80797 Germany;X-APPLE-RADIUS=500;X-TITLE=Rosa-Aschenbrenner-Bogen 9:geo:11.5585741,48.1647793
END:VEVENT
BEGIN:VEVENT
DTSTART;TZID=Europe/Berlin:20250322T140000
DTEND;TZID=Europe/Berlin:20250322T153000
DTSTAMP:20260424T005028
CREATED:20250218T145916Z
LAST-MODIFIED:20250401T113214Z
UID:10010646-1742652000-1742657400@ackermannbogen-ev.de
SUMMARY:Landwirtschaft der Herzen – Urbane Gärtner:innen treffen regionale Ökolandwirt:innen
DESCRIPTION:Einladung zum Austausch mit Hubert und Elisabeth Birkmeir über gärtnerische Praxis und Ernährung mit Tipps von den Profis. \nWeitere Infos und Anmeldung HIER.
URL:https://ackermannbogen-ev.de/programm/landwirtschaft-der-herzen-urbane-gaertnerinnen-treffen-regionale-oekolandwirtinnen/
LOCATION:Im Freien - StadtAcker
CATEGORIES:Umwelt & Natur
ATTACH;FMTTYPE=image/jpeg:https://ackermannbogen-ev.de/wp-content/uploads/2025/02/plaubel-e1739894316361.jpg
ORGANIZER;CN="StadtNatur":MAILTO:stadtnatur@ackermannbogen-ev.de
END:VEVENT
BEGIN:VEVENT
DTSTART;TZID=Europe/Berlin:20250322T160000
DTEND;TZID=Europe/Berlin:20250322T180000
DTSTAMP:20260424T005028
CREATED:20250131T115326Z
LAST-MODIFIED:20250131T115614Z
UID:10010473-1742659200-1742666400@ackermannbogen-ev.de
SUMMARY:Ausstellung FrauenLeben
DESCRIPTION:Fotografien aus Indien von Bettina Lindenberg\nAuf der Reise nach Nordindien im Sommer 2024 setzt Bettina Lindenberg den fotografischen Fokus auf das Leben der Frauen. Mehrere Wochen arbeitet sie im Saheli Trust-Frauenprojekt in Dehradun\, Uttarakhand mit (www.sahelitrust.org) und erhält Einblicke in verschiedene Frauenleben\, zwischen Armut und Selbstbestimmung.\nDie Ausstellung ist diesen Frauen zum Internationalen Frauentag am 8. März 2025 gewidmet. \nReise-Diavortrag: Sonntag\, 23. März um 16 Uhr in der KreativGarage\, Rosa-Aschenbrenner-Bogen 9\nKontakt: beli@mnet-mail.de\, www.bettinalindenberg.co \n 
URL:https://ackermannbogen-ev.de/programm/ausstellung-frauenleben/2025-03-22/
LOCATION:SchauRaum\, Therese-Studer-Str. 9\, München\, 80797\, Germany
CATEGORIES:Austausch & Dialog,Interessen & Freizeit,Kultur & Kreatives,Kunst
ATTACH;FMTTYPE=image/png:https://ackermannbogen-ev.de/wp-content/uploads/2025/01/BettinaIndien_Schauraum2025A1.pdf-e1738324061200.png
ORGANIZER;CN="KulturB%C3%BCro":MAILTO:kulturbuero@ackermannbogen-ev.de
GEO:48.1655949;11.559837
X-APPLE-STRUCTURED-LOCATION;VALUE=URI;X-ADDRESS=SchauRaum Therese-Studer-Str. 9 München 80797 Germany;X-APPLE-RADIUS=500;X-TITLE=Therese-Studer-Str. 9:geo:11.559837,48.1655949
END:VEVENT
END:VCALENDAR