BEGIN:VCALENDAR
VERSION:2.0
PRODID:-//Ackermannbogen e.V. - ECPv6.15.20//NONSGML v1.0//EN
CALSCALE:GREGORIAN
METHOD:PUBLISH
X-WR-CALNAME:Ackermannbogen e.V.
X-ORIGINAL-URL:https://ackermannbogen-ev.de
X-WR-CALDESC:Veranstaltungen für Ackermannbogen e.V.
REFRESH-INTERVAL;VALUE=DURATION:PT1H
X-Robots-Tag:noindex
X-PUBLISHED-TTL:PT1H
BEGIN:VTIMEZONE
TZID:Europe/Berlin
BEGIN:DAYLIGHT
TZOFFSETFROM:+0100
TZOFFSETTO:+0200
TZNAME:CEST
DTSTART:20240331T010000
END:DAYLIGHT
BEGIN:STANDARD
TZOFFSETFROM:+0200
TZOFFSETTO:+0100
TZNAME:CET
DTSTART:20241027T010000
END:STANDARD
BEGIN:DAYLIGHT
TZOFFSETFROM:+0100
TZOFFSETTO:+0200
TZNAME:CEST
DTSTART:20250330T010000
END:DAYLIGHT
BEGIN:STANDARD
TZOFFSETFROM:+0200
TZOFFSETTO:+0100
TZNAME:CET
DTSTART:20251026T010000
END:STANDARD
BEGIN:DAYLIGHT
TZOFFSETFROM:+0100
TZOFFSETTO:+0200
TZNAME:CEST
DTSTART:20260329T010000
END:DAYLIGHT
BEGIN:STANDARD
TZOFFSETFROM:+0200
TZOFFSETTO:+0100
TZNAME:CET
DTSTART:20261025T010000
END:STANDARD
END:VTIMEZONE
BEGIN:VEVENT
DTSTART;TZID=Europe/Berlin:20250405T160000
DTEND;TZID=Europe/Berlin:20250405T180000
DTSTAMP:20260424T021231
CREATED:20250131T115326Z
LAST-MODIFIED:20250131T115614Z
UID:10010475-1743868800-1743876000@ackermannbogen-ev.de
SUMMARY:Ausstellung FrauenLeben
DESCRIPTION:Fotografien aus Indien von Bettina Lindenberg\nAuf der Reise nach Nordindien im Sommer 2024 setzt Bettina Lindenberg den fotografischen Fokus auf das Leben der Frauen. Mehrere Wochen arbeitet sie im Saheli Trust-Frauenprojekt in Dehradun\, Uttarakhand mit (www.sahelitrust.org) und erhält Einblicke in verschiedene Frauenleben\, zwischen Armut und Selbstbestimmung.\nDie Ausstellung ist diesen Frauen zum Internationalen Frauentag am 8. März 2025 gewidmet. \nReise-Diavortrag: Sonntag\, 23. März um 16 Uhr in der KreativGarage\, Rosa-Aschenbrenner-Bogen 9\nKontakt: beli@mnet-mail.de\, www.bettinalindenberg.co \n 
URL:https://ackermannbogen-ev.de/programm/ausstellung-frauenleben/2025-04-05/
LOCATION:SchauRaum\, Therese-Studer-Str. 9\, München\, 80797\, Germany
CATEGORIES:Austausch & Dialog,Interessen & Freizeit,Kultur & Kreatives,Kunst
ATTACH;FMTTYPE=image/png:https://ackermannbogen-ev.de/wp-content/uploads/2025/01/BettinaIndien_Schauraum2025A1.pdf-e1738324061200.png
ORGANIZER;CN="KulturB%C3%BCro":MAILTO:kulturbuero@ackermannbogen-ev.de
GEO:48.1655949;11.559837
X-APPLE-STRUCTURED-LOCATION;VALUE=URI;X-ADDRESS=SchauRaum Therese-Studer-Str. 9 München 80797 Germany;X-APPLE-RADIUS=500;X-TITLE=Therese-Studer-Str. 9:geo:11.559837,48.1655949
END:VEVENT
BEGIN:VEVENT
DTSTART;TZID=Europe/Berlin:20250405T210000
DTEND;TZID=Europe/Berlin:20250406T020000
DTSTAMP:20260424T021231
CREATED:20250107T092843Z
LAST-MODIFIED:20250415T085419Z
UID:10010378-1743886800-1743904800@ackermannbogen-ev.de
SUMMARY:tanzbar – DIE Party im Ackermannbogen
DESCRIPTION:Frühjahrsparty\nam Samstag\, dem 5. April 2025\, ab 21 Uhr.\nMit bewährtem Barbetrieb\, tanzbarer Musik von unseren DJs \nAuf die ersten Gäste warten Begrüßungsschmankerl.\nSchon das Spotify-Profil tanzbar@home besucht? \nDon't Stop 'Til You Get Enough! \nDas tanzbar-Team freut sich auf euch! \n 
URL:https://ackermannbogen-ev.de/programm/tanzbar-die-party-im-ackermannbogen/
LOCATION:KreativGarage Studio\, Rosa-Aschenbrenner-Bogen 9 / UG\, München\, Bayern\, 80797\, Germany
CATEGORIES:Kultur & Kreatives,Musik,Tanz,Tanz & Bewegung
ATTACH;FMTTYPE=image/png:https://ackermannbogen-ev.de/wp-content/uploads/2024/03/Screenshot_20240920-125541-e1726829909861.png
ORGANIZER;CN="KulturB%C3%BCro":MAILTO:kulturbuero@ackermannbogen-ev.de
GEO:48.1647793;11.5585741
X-APPLE-STRUCTURED-LOCATION;VALUE=URI;X-ADDRESS=KreativGarage Studio Rosa-Aschenbrenner-Bogen 9 / UG München Bayern 80797 Germany;X-APPLE-RADIUS=500;X-TITLE=Rosa-Aschenbrenner-Bogen 9 / UG:geo:11.5585741,48.1647793
END:VEVENT
END:VCALENDAR