BEGIN:VCALENDAR
VERSION:2.0
PRODID:-//Ackermannbogen e.V. - ECPv6.15.20//NONSGML v1.0//EN
CALSCALE:GREGORIAN
METHOD:PUBLISH
X-WR-CALNAME:Ackermannbogen e.V.
X-ORIGINAL-URL:https://ackermannbogen-ev.de
X-WR-CALDESC:Veranstaltungen für Ackermannbogen e.V.
REFRESH-INTERVAL;VALUE=DURATION:PT1H
X-Robots-Tag:noindex
X-PUBLISHED-TTL:PT1H
BEGIN:VTIMEZONE
TZID:Europe/Berlin
BEGIN:DAYLIGHT
TZOFFSETFROM:+0100
TZOFFSETTO:+0200
TZNAME:CEST
DTSTART:20240331T010000
END:DAYLIGHT
BEGIN:STANDARD
TZOFFSETFROM:+0200
TZOFFSETTO:+0100
TZNAME:CET
DTSTART:20241027T010000
END:STANDARD
BEGIN:DAYLIGHT
TZOFFSETFROM:+0100
TZOFFSETTO:+0200
TZNAME:CEST
DTSTART:20250330T010000
END:DAYLIGHT
BEGIN:STANDARD
TZOFFSETFROM:+0200
TZOFFSETTO:+0100
TZNAME:CET
DTSTART:20251026T010000
END:STANDARD
BEGIN:DAYLIGHT
TZOFFSETFROM:+0100
TZOFFSETTO:+0200
TZNAME:CEST
DTSTART:20260329T010000
END:DAYLIGHT
BEGIN:STANDARD
TZOFFSETFROM:+0200
TZOFFSETTO:+0100
TZNAME:CET
DTSTART:20261025T010000
END:STANDARD
END:VTIMEZONE
BEGIN:VEVENT
DTSTART;TZID=Europe/Berlin:20250517T150000
DTEND;TZID=Europe/Berlin:20250517T170000
DTSTAMP:20260425T131241
CREATED:20250312T152619Z
LAST-MODIFIED:20250312T152619Z
UID:10010783-1747494000-1747501200@ackermannbogen-ev.de
SUMMARY:Fotoausstellung +/- 9 Jahrzehnte
DESCRIPTION:Denn obwohl ich alt bin\, lebe ich.\nEin Fotoprojekt mit Bewohnerinnen und Bewohnern des Domicil Seniorencentrums am Ackermannbogen.\nDie Ausstellung ist das Ergebnis einer tiefen Auseinandersetzung mit dem Leben und den Geschichten von Seniorinnen und Senioren. In einer Gesellschaft\, die oft die Stimmen und Erfahrungen älterer Menschen überhört\, möchten wir mit dieser Ausstellung einen Raum schaffen\, die Schönheit und Vielfalt des Alters in den Mittelpunkt zu stellen. In jedem Gesicht spiegelt sich die Geschichte einer ganzen Lebensspanne wider\, die sowohl die Unbeschwertheit der Jugend als auch die Weisheit des Alters umfasst. Die Besucher:innen werden dazu angeregt\, die Gemeinsamkeiten zwischen den Generationen zu erkennen und die Schönheit in jedem Lebensabschnitt zu feiern. \nFotografie: Veronica Alkan \nOrganisation: Christiane Benker \nWeitere Öffnungszeiten: freitags und samstags jeweils 15 bis 17 Uhr und nach Vereinbarung unter: 089 90 40 04 80 07\nFinissage: Sonntag\, 18. Mai 2025\, 15 Uhr bis 18 Uhr
URL:https://ackermannbogen-ev.de/programm/fotoausstellung-9-jahrzehnte/2025-05-17/
LOCATION:SchauRaum\, Therese-Studer-Str. 9\, München\, 80797\, Germany
CATEGORIES:Kultur & Kreatives,Kunst
ATTACH;FMTTYPE=image/png:https://ackermannbogen-ev.de/wp-content/uploads/2025/03/9-Jahrzehnte-e1741792948448.png
ORGANIZER;CN="KulturB%C3%BCro":MAILTO:kulturbuero@ackermannbogen-ev.de
GEO:48.1655949;11.559837
X-APPLE-STRUCTURED-LOCATION;VALUE=URI;X-ADDRESS=SchauRaum Therese-Studer-Str. 9 München 80797 Germany;X-APPLE-RADIUS=500;X-TITLE=Therese-Studer-Str. 9:geo:11.559837,48.1655949
END:VEVENT
END:VCALENDAR