BEGIN:VCALENDAR
VERSION:2.0
PRODID:-//Ackermannbogen e.V. - ECPv6.15.20//NONSGML v1.0//EN
CALSCALE:GREGORIAN
METHOD:PUBLISH
X-WR-CALNAME:Ackermannbogen e.V.
X-ORIGINAL-URL:https://ackermannbogen-ev.de
X-WR-CALDESC:Veranstaltungen für Ackermannbogen e.V.
REFRESH-INTERVAL;VALUE=DURATION:PT1H
X-Robots-Tag:noindex
X-PUBLISHED-TTL:PT1H
BEGIN:VTIMEZONE
TZID:Europe/Berlin
BEGIN:DAYLIGHT
TZOFFSETFROM:+0100
TZOFFSETTO:+0200
TZNAME:CEST
DTSTART:20250330T010000
END:DAYLIGHT
BEGIN:STANDARD
TZOFFSETFROM:+0200
TZOFFSETTO:+0100
TZNAME:CET
DTSTART:20251026T010000
END:STANDARD
BEGIN:DAYLIGHT
TZOFFSETFROM:+0100
TZOFFSETTO:+0200
TZNAME:CEST
DTSTART:20260329T010000
END:DAYLIGHT
BEGIN:STANDARD
TZOFFSETFROM:+0200
TZOFFSETTO:+0100
TZNAME:CET
DTSTART:20261025T010000
END:STANDARD
BEGIN:DAYLIGHT
TZOFFSETFROM:+0100
TZOFFSETTO:+0200
TZNAME:CEST
DTSTART:20270328T010000
END:DAYLIGHT
BEGIN:STANDARD
TZOFFSETFROM:+0200
TZOFFSETTO:+0100
TZNAME:CET
DTSTART:20271031T010000
END:STANDARD
END:VTIMEZONE
BEGIN:VEVENT
DTSTART;TZID=Europe/Berlin:20260418T120000
DTEND;TZID=Europe/Berlin:20260418T140000
DTSTAMP:20260423T135037
CREATED:20260204T131456Z
LAST-MODIFIED:20260414T151458Z
UID:10012972-1776513600-1776520800@ackermannbogen-ev.de
SUMMARY:Obst und Gemüse vom Demeterhof Birkmeir
DESCRIPTION:Hubert und Elisabeth Birkmeir beliefern uns mit ihren frischen Bio-Produkten. Die Familie bewirtschaftet ihren Hof bei Pöttmes seit 1954 in dritter Generation nach der biodynamischen Wirtschaftsweise. Ihre Böden sind nachweislich gesünder als Flächen\, die mit Kunstdünger und Pestiziden behandelt werden. Und die Äpfel der Birkmeirs stammen von ihren artenreichen Steuobstwiesen\, die ein wahres Paradies für Insekten sind. \nLetzte Gelegenheit\, den Kartoffel-Vorrat aufzufüllen! \nes ist der letzte Markttag in diesem Frühjahr. Danach kommen die Birkmeirs erst wieder im Herbst. \nEs gibt: \n\ngelbe und rote Zwiebeln\,\nKartoffeln in drei Sorten\,\nSalat Lollo bionda\nApfelsaft (5 und 10 Liter)\nRucola und Schnittlauch aus Blumenthal\nZiegenprodukte (Wurst und Käse) aus Blumenthal\n\n 
URL:https://ackermannbogen-ev.de/programm/obst-und-gemuese-vom-demeterhof-birkmeir-10/
LOCATION:KulturPassage\, Rosa-Aschenbrenner-Bogen 9\, München\, 80797\, Germany
CATEGORIES:_Verein Newsletter,Fitness & Gesundheit,Umwelt & Natur
ATTACH;FMTTYPE=image/jpeg:https://ackermannbogen-ev.de/wp-content/uploads/2026/02/IMG_20221119_120501_1-scaled-e1776169120318.jpg
ORGANIZER;CN="StadtNatur":MAILTO:stadtnatur@ackermannbogen-ev.de
GEO:48.1647793;11.5585741
X-APPLE-STRUCTURED-LOCATION;VALUE=URI;X-ADDRESS=KulturPassage Rosa-Aschenbrenner-Bogen 9 München 80797 Germany;X-APPLE-RADIUS=500;X-TITLE=Rosa-Aschenbrenner-Bogen 9:geo:11.5585741,48.1647793
END:VEVENT
BEGIN:VEVENT
DTSTART;TZID=Europe/Berlin:20260418T140000
DTEND;TZID=Europe/Berlin:20260418T180000
DTSTAMP:20260423T135037
CREATED:20260302T141055Z
LAST-MODIFIED:20260330T135307Z
UID:10013010-1776520800-1776535200@ackermannbogen-ev.de
SUMMARY:Meine Daten - Workshop
DESCRIPTION:Es ist 5 nach 12\, es beginnt ein neuer Tag. \nDieser Workshop vermittelt in Theorie und Praxis die Struktur und den Umgang mit dem großen Angebot an Open Source Software. Das Aufsetzen des Betriebssystems Linux steht im Mittelpunkt.\nKommen Sie mit oder ohne eigenen Rechner und gewinnen Sie einen Eindruck über die Möglichkeiten\, ohne proprietäre Software zu leben.\nBringen Sie Ihren Rechner mit\, welchen Sie mit Linux betreiben wollen. Zur Installation benötigen Sie noch einen leeren USB Stick (4 GByte oder mehr). Vorhandene Daten und Betriebssysteme auf Ihrem Rechner werden hierbei gelöscht\, damit Sie die freie Softwarewelt unbeschwert erreichen. \n 
URL:https://ackermannbogen-ev.de/programm/meine-daten-workshop/
LOCATION:RAB 9 kleiner Raum\, Rosa-Aschenbrenner-Bogen 9\, München\, 80797\, Germany
CATEGORIES:_Verein Newsletter
ATTACH;FMTTYPE=image/jpeg:https://ackermannbogen-ev.de/wp-content/uploads/2026/03/MeineDaten-scaled-e1772460489572.jpg
ORGANIZER;CN="NachbarschaftsB%C3%B6rse":MAILTO:nachbarschaftsboerse@ackermannbogen-ev.de
GEO:48.1647793;11.5585741
X-APPLE-STRUCTURED-LOCATION;VALUE=URI;X-ADDRESS=RAB 9 kleiner Raum Rosa-Aschenbrenner-Bogen 9 München 80797 Germany;X-APPLE-RADIUS=500;X-TITLE=Rosa-Aschenbrenner-Bogen 9:geo:11.5585741,48.1647793
END:VEVENT
END:VCALENDAR