BEGIN:VCALENDAR
VERSION:2.0
PRODID:-//Ackermannbogen e.V. - ECPv6.15.20//NONSGML v1.0//EN
CALSCALE:GREGORIAN
METHOD:PUBLISH
X-WR-CALNAME:Ackermannbogen e.V.
X-ORIGINAL-URL:https://ackermannbogen-ev.de
X-WR-CALDESC:Veranstaltungen für Ackermannbogen e.V.
REFRESH-INTERVAL;VALUE=DURATION:PT1H
X-Robots-Tag:noindex
X-PUBLISHED-TTL:PT1H
BEGIN:VTIMEZONE
TZID:Europe/Berlin
BEGIN:DAYLIGHT
TZOFFSETFROM:+0100
TZOFFSETTO:+0200
TZNAME:CEST
DTSTART:20250330T010000
END:DAYLIGHT
BEGIN:STANDARD
TZOFFSETFROM:+0200
TZOFFSETTO:+0100
TZNAME:CET
DTSTART:20251026T010000
END:STANDARD
BEGIN:DAYLIGHT
TZOFFSETFROM:+0100
TZOFFSETTO:+0200
TZNAME:CEST
DTSTART:20260329T010000
END:DAYLIGHT
BEGIN:STANDARD
TZOFFSETFROM:+0200
TZOFFSETTO:+0100
TZNAME:CET
DTSTART:20261025T010000
END:STANDARD
BEGIN:DAYLIGHT
TZOFFSETFROM:+0100
TZOFFSETTO:+0200
TZNAME:CEST
DTSTART:20270328T010000
END:DAYLIGHT
BEGIN:STANDARD
TZOFFSETFROM:+0200
TZOFFSETTO:+0100
TZNAME:CET
DTSTART:20271031T010000
END:STANDARD
END:VTIMEZONE
BEGIN:VEVENT
DTSTART;TZID=Europe/Berlin:20260421T154500
DTEND;TZID=Europe/Berlin:20260421T164500
DTSTAMP:20260424T144125
CREATED:20250825T125948Z
LAST-MODIFIED:20260303T125614Z
UID:10013018-1776786300-1776789900@ackermannbogen-ev.de
SUMMARY:Salsa SUELTA\, 50 plus
DESCRIPTION:Salsa suelta heißt\, wir tanzen solo in der Gruppe. Der Vorteil ist: Sie können alleine teilnehmen\, Sie brauchen keinen Tanzpartner dazu. Wir tanzen verschiedene Salsa-Schrittkombinationen und haben viel Spaß dabei. Für Anfänger mit Vorkenntnissen und für Fortgeschrittene. Für Teilnehmer 50 plus. \nKursleiterin: Marlene Zehetmaier\, Information: Telefon 089-33 55 58 und www.salsa50plus.de \n€ 85\,- für einen Kurs (10 Termine)
URL:https://ackermannbogen-ev.de/programm/salsa-suelta-50-plus/2026-04-21/
LOCATION:Raum Olymp\, Elisabeth-Kohn-Str. 29\, München\, 80797\, Germany
CATEGORIES:Interessen & Freizeit,Tanz & Bewegung
ATTACH;FMTTYPE=image/jpeg:https://ackermannbogen-ev.de/wp-content/uploads/2024/01/Salsa-e1711099852470.jpg
ORGANIZER;CN="NachbarschaftsB%C3%B6rse":MAILTO:nachbarschaftsboerse@ackermannbogen-ev.de
GEO:48.1662941;11.554859
X-APPLE-STRUCTURED-LOCATION;VALUE=URI;X-ADDRESS=Raum Olymp Elisabeth-Kohn-Str. 29 München 80797 Germany;X-APPLE-RADIUS=500;X-TITLE=Elisabeth-Kohn-Str. 29:geo:11.554859,48.1662941
END:VEVENT
BEGIN:VEVENT
DTSTART;TZID=Europe/Berlin:20260421T160000
DTEND;TZID=Europe/Berlin:20260421T170000
DTSTAMP:20260424T144125
CREATED:20250728T145918Z
LAST-MODIFIED:20260330T105430Z
UID:10011453-1776787200-1776790800@ackermannbogen-ev.de
SUMMARY:Kindertanzen
DESCRIPTION:Die Kinder werden spielerisch an die Techniken des klassischen und modernen Tanzes herangeführt\, gleichzeitig werden Koordination\, Musikalität und Rhythmusgefühl geschult.\nKursleitung: Sonja Werner\, Tanzpädagogin\, Tel. 0171-831 18 76\nElisabeth-Kohn-Str. 15\n(gerne auch per SMS oder WhatsApp) \n16 - 16.45 Uhr Kindertanzen \nKurseinteilung nach Bedarf und Alter
URL:https://ackermannbogen-ev.de/programm/hip-hop-kinder-4-5-klasse-2/2026-04-21/
LOCATION:EKS 15\, Elisabeth-Kohn-Str. 15\, München\, 80797\, Germany
CATEGORIES:Tanz & Bewegung
ATTACH;FMTTYPE=image/jpeg:https://ackermannbogen-ev.de/wp-content/uploads/2024/03/Kindertanzen-e1711549710550.jpg
ORGANIZER;CN="NachbarschaftsB%C3%B6rse":MAILTO:nachbarschaftsboerse@ackermannbogen-ev.de
GEO:48.164854418235;11.554277501613
X-APPLE-STRUCTURED-LOCATION;VALUE=URI;X-ADDRESS=EKS 15 Elisabeth-Kohn-Str. 15 München 80797 Germany;X-APPLE-RADIUS=500;X-TITLE=Elisabeth-Kohn-Str. 15:geo:11.554277501613,48.164854418235
END:VEVENT
BEGIN:VEVENT
DTSTART;TZID=Europe/Berlin:20260421T170000
DTEND;TZID=Europe/Berlin:20260421T180000
DTSTAMP:20260424T144125
CREATED:20250728T150532Z
LAST-MODIFIED:20250912T112547Z
UID:10011545-1776790800-1776794400@ackermannbogen-ev.de
SUMMARY:17 - 18 Uhr Hip Hop Teens (7./8. Klasse)
DESCRIPTION:Hip Hop: Hier werden coole Moves geübt\, kurze Schrittabfolgen getanzt\, gedehnt und zum Schluss auch eine Choreografie einstudiert.\nKursleitung: Sonja Werner\, Tanzpädagogin\, Tel. 0171-831 18 76\nElisabeth-Kohn-Str. 15\n(gerne auch per SMS oder WhatsApp)\nKurseinteilung nach Bedarf und Alter \n17 - 18 Uhr Hip Hop Teens (7./8. Klasse) \n 
URL:https://ackermannbogen-ev.de/programm/17-18-uhr-hip-hop-teens-7-8-klasse/2026-04-21/
LOCATION:EKS 15\, Elisabeth-Kohn-Str. 15\, München\, 80797\, Germany
CATEGORIES:Tanz & Bewegung
ATTACH;FMTTYPE=image/jpeg:https://ackermannbogen-ev.de/wp-content/uploads/2025/07/HipHop-1-e1757676314281.jpg
ORGANIZER;CN="NachbarschaftsB%C3%B6rse":MAILTO:nachbarschaftsboerse@ackermannbogen-ev.de
GEO:48.164854418235;11.554277501613
X-APPLE-STRUCTURED-LOCATION;VALUE=URI;X-ADDRESS=EKS 15 Elisabeth-Kohn-Str. 15 München 80797 Germany;X-APPLE-RADIUS=500;X-TITLE=Elisabeth-Kohn-Str. 15:geo:11.554277501613,48.164854418235
END:VEVENT
BEGIN:VEVENT
DTSTART;TZID=Europe/Berlin:20260421T170000
DTEND;TZID=Europe/Berlin:20260421T180000
DTSTAMP:20260424T144125
CREATED:20250825T130649Z
LAST-MODIFIED:20260303T125311Z
UID:10013014-1776790800-1776794400@ackermannbogen-ev.de
SUMMARY:Salsa PAARWEISE\, 50 plus
DESCRIPTION:Wir tanzen paarweise kubanische Salsa. Geeignet ist der Kurs für Mittelstufe-Tänzer:innen und für leicht Fortgeschrittene. Für Teilnehmer:innen 50 plus. \nKursleitung: Marlene Zehetmaier \nTel. 089-33 55 58 und www.salsa50plus.de \n€ 110\,- für einen Kurs (10 Termine)
URL:https://ackermannbogen-ev.de/programm/salsa-paarweise-50-plus/2026-04-21/
LOCATION:Raum Olymp\, Elisabeth-Kohn-Str. 29\, München\, 80797\, Germany
CATEGORIES:Interessen & Freizeit,Tanz & Bewegung
ATTACH;FMTTYPE=image/jpeg:https://ackermannbogen-ev.de/wp-content/uploads/2024/01/Salsa-e1711099852470.jpg
ORGANIZER;CN="NachbarschaftsB%C3%B6rse":MAILTO:nachbarschaftsboerse@ackermannbogen-ev.de
GEO:48.1662941;11.554859
X-APPLE-STRUCTURED-LOCATION;VALUE=URI;X-ADDRESS=Raum Olymp Elisabeth-Kohn-Str. 29 München 80797 Germany;X-APPLE-RADIUS=500;X-TITLE=Elisabeth-Kohn-Str. 29:geo:11.554859,48.1662941
END:VEVENT
BEGIN:VEVENT
DTSTART;TZID=Europe/Berlin:20260421T183000
DTEND;TZID=Europe/Berlin:20260421T200000
DTSTAMP:20260424T144125
CREATED:20250914T135419Z
LAST-MODIFIED:20251222T112638Z
UID:10012126-1776796200-1776801600@ackermannbogen-ev.de
SUMMARY:Hatha Yoga
DESCRIPTION:Kursleitung: Maria Seitle\, zertifizierte Iyengar Yogalehrerin\,\nTel. 089-470 31 07\nDienstags 18.30 – 20 Uhr\,\nEKS 15\, 90 min. € 16\,–\, Einstieg jederzeit möglich
URL:https://ackermannbogen-ev.de/programm/hatha-yoga-4/2026-04-21/
LOCATION:EKS 15\, Elisabeth-Kohn-Str. 15\, München\, 80797\, Germany
CATEGORIES:Fitness & Gesundheit
ATTACH;FMTTYPE=image/jpeg:https://ackermannbogen-ev.de/wp-content/uploads/2025/09/Yoga.jpg
ORGANIZER;CN="NachbarschaftsB%C3%B6rse":MAILTO:nachbarschaftsboerse@ackermannbogen-ev.de
GEO:48.164854418235;11.554277501613
X-APPLE-STRUCTURED-LOCATION;VALUE=URI;X-ADDRESS=EKS 15 Elisabeth-Kohn-Str. 15 München 80797 Germany;X-APPLE-RADIUS=500;X-TITLE=Elisabeth-Kohn-Str. 15:geo:11.554277501613,48.164854418235
END:VEVENT
BEGIN:VEVENT
DTSTART;TZID=Europe/Berlin:20260421T190000
DTEND;TZID=Europe/Berlin:20260421T200000
DTSTAMP:20260424T144125
CREATED:20250914T150420Z
LAST-MODIFIED:20251031T091326Z
UID:10012311-1776798000-1776801600@ackermannbogen-ev.de
SUMMARY:Feldenkrais
DESCRIPTION:Bewusstheit durch Bewegung\nEine Methode für alle\, die ihren Bewegungsspielraum erweitern und einseitigen Belastungen vielseitige Alternativen entgegenstellen wollen. \nLeitung: Christl Karnehm\, Tel. 089-16 09 22
URL:https://ackermannbogen-ev.de/programm/feldenkrais-3/2026-04-21/
LOCATION:RAB 9 großer Raum\, Rosa-Aschenbrenner-Bogen 9\, München\, 80797\, Germany
CATEGORIES:Fitness & Gesundheit
ATTACH;FMTTYPE=image/jpeg:https://ackermannbogen-ev.de/wp-content/uploads/2025/09/yogamatten.jpg
ORGANIZER;CN="NachbarschaftsB%C3%B6rse":MAILTO:nachbarschaftsboerse@ackermannbogen-ev.de
GEO:48.1647793;11.5585741
X-APPLE-STRUCTURED-LOCATION;VALUE=URI;X-ADDRESS=RAB 9 großer Raum Rosa-Aschenbrenner-Bogen 9 München 80797 Germany;X-APPLE-RADIUS=500;X-TITLE=Rosa-Aschenbrenner-Bogen 9:geo:11.5585741,48.1647793
END:VEVENT
END:VCALENDAR