BEGIN:VCALENDAR
VERSION:2.0
PRODID:-//Ackermannbogen e.V. - ECPv6.15.20//NONSGML v1.0//EN
CALSCALE:GREGORIAN
METHOD:PUBLISH
X-WR-CALNAME:Ackermannbogen e.V.
X-ORIGINAL-URL:https://ackermannbogen-ev.de
X-WR-CALDESC:Veranstaltungen für Ackermannbogen e.V.
REFRESH-INTERVAL;VALUE=DURATION:PT1H
X-Robots-Tag:noindex
X-PUBLISHED-TTL:PT1H
BEGIN:VTIMEZONE
TZID:Europe/Berlin
BEGIN:DAYLIGHT
TZOFFSETFROM:+0100
TZOFFSETTO:+0200
TZNAME:CEST
DTSTART:20250330T010000
END:DAYLIGHT
BEGIN:STANDARD
TZOFFSETFROM:+0200
TZOFFSETTO:+0100
TZNAME:CET
DTSTART:20251026T010000
END:STANDARD
BEGIN:DAYLIGHT
TZOFFSETFROM:+0100
TZOFFSETTO:+0200
TZNAME:CEST
DTSTART:20260329T010000
END:DAYLIGHT
BEGIN:STANDARD
TZOFFSETFROM:+0200
TZOFFSETTO:+0100
TZNAME:CET
DTSTART:20261025T010000
END:STANDARD
BEGIN:DAYLIGHT
TZOFFSETFROM:+0100
TZOFFSETTO:+0200
TZNAME:CEST
DTSTART:20270328T010000
END:DAYLIGHT
BEGIN:STANDARD
TZOFFSETFROM:+0200
TZOFFSETTO:+0100
TZNAME:CET
DTSTART:20271031T010000
END:STANDARD
END:VTIMEZONE
BEGIN:VEVENT
DTSTART;TZID=Europe/Berlin:20260425T110000
DTEND;TZID=Europe/Berlin:20260425T140000
DTSTAMP:20260425T012356
CREATED:20260202T142835Z
LAST-MODIFIED:20260211T114939Z
UID:10012956-1777114800-1777125600@ackermannbogen-ev.de
SUMMARY:RepairCafé: Elektro
DESCRIPTION:Unsere ehrenamtlichen Reparierer:innen zeigen\, wie man einfache Defekte am elektrischen Klein- und Haushaltsgeräten selbst reparieren kann. \nAnmeldung erbeten mit Angabe des Defekts unter repaircafe@ackermannbogen-ev.de \nInteressierte Reparierer:innen gerne melden oder eine:n der Reparierer:innen ansprechen.
URL:https://ackermannbogen-ev.de/programm/repaircafe-elektro-13-2/2026-04-25/
LOCATION:RAB 9 kleiner Raum\, Rosa-Aschenbrenner-Bogen 9\, München\, 80797\, Germany
CATEGORIES:Umwelt & Natur
ATTACH;FMTTYPE=image/jpeg:https://ackermannbogen-ev.de/wp-content/uploads/2025/04/20240427_121115-scaled-e1744706992186.jpg
ORGANIZER;CN="NachbarschaftsB%C3%B6rse":MAILTO:nachbarschaftsboerse@ackermannbogen-ev.de
GEO:48.1647793;11.5585741
X-APPLE-STRUCTURED-LOCATION;VALUE=URI;X-ADDRESS=RAB 9 kleiner Raum Rosa-Aschenbrenner-Bogen 9 München 80797 Germany;X-APPLE-RADIUS=500;X-TITLE=Rosa-Aschenbrenner-Bogen 9:geo:11.5585741,48.1647793
END:VEVENT
BEGIN:VEVENT
DTSTART;TZID=Europe/Berlin:20260425T110000
DTEND;TZID=Europe/Berlin:20260425T140000
DTSTAMP:20260425T012356
CREATED:20260202T143432Z
LAST-MODIFIED:20260330T104038Z
UID:10012963-1777114800-1777125600@ackermannbogen-ev.de
SUMMARY:RepairCafé: Radl
DESCRIPTION:Unsere ehrenamtlichen Reparierer:innen helfen Ihnen\, wie man einfache Defekte am Fahrrad selbst reparieren kann. \nAnmeldung erbeten mit Angabe des Defekts unter radl-repaircafe@ackermannbogen-ev.de \nInteressierte Reparierer:innen gerne melden oder eine:n der Reparierer:innen ansprechen. \nReparieren kostenlos\, Spenden erbeten!
URL:https://ackermannbogen-ev.de/programm/repaircafe-radl-13-2/2026-04-25/
LOCATION:KreativGarage Werkstatt\, Rosa-Aschenbrenner-Bogen 9\, München\, 80797\, Germany
CATEGORIES:Umwelt & Natur
ATTACH;FMTTYPE=image/jpeg:https://ackermannbogen-ev.de/wp-content/uploads/2024/03/RadlRepair-e1711099351157.jpg
ORGANIZER;CN="NachbarschaftsB%C3%B6rse":MAILTO:nachbarschaftsboerse@ackermannbogen-ev.de
GEO:48.1647793;11.5585741
X-APPLE-STRUCTURED-LOCATION;VALUE=URI;X-ADDRESS=KreativGarage Werkstatt Rosa-Aschenbrenner-Bogen 9 München 80797 Germany;X-APPLE-RADIUS=500;X-TITLE=Rosa-Aschenbrenner-Bogen 9:geo:11.5585741,48.1647793
END:VEVENT
BEGIN:VEVENT
DTSTART;TZID=Europe/Berlin:20260425T110000
DTEND;TZID=Europe/Berlin:20260425T140000
DTSTAMP:20260425T012356
CREATED:20260325T185352Z
LAST-MODIFIED:20260326T103043Z
UID:10014315-1777114800-1777125600@ackermannbogen-ev.de
SUMMARY:Wichtel-Rallye im Frühling – Natur erleben mit allen Sinnen
DESCRIPTION:Entdeckungstour am Ackermannbogen für Familien \nKennst du die Pflanzen und Tiere\, die bei uns in der Stadt leben?\nKomm mit auf die Frühlings‑Rallye am Ackermannbogen! Die kleinen Wichtel sind zurück und haben sich überall im Viertel versteckt – jeder von ihnen hat etwas Spannendes vorbereitet\, zum Beispiel über Bäume\, Insekten\, Vögel und Kräuter. Gemeinsam könnt ihr entdecken\, wie vielfältig die Natur in unserer Stadt ist. \nDie acht Wichtel freuen sich auf neugierige Kinder und ihre Familien – natürlich haben sie auch eine kleine Überraschung für euch. \nFür Kinder ab 4 Jahren in Begleitung. \nSamstag\, 25. April 2026\, 11-14 Uhr\, Startpunkt: Brunnen am Stadtplatz (bei der Bushaltestelle Georg-Birk-Straße) \nEine Veranstaltung in Kooperation mit der PA/SPIELkultur
URL:https://ackermannbogen-ev.de/programm/wichtel-rallye-im-fruehling-natur-erleben-mit-allen-sinnen/
LOCATION:Bayern
CATEGORIES:_Verein Newsletter,Interessen & Freizeit,Umwelt & Natur
ATTACH;FMTTYPE=image/jpeg:https://ackermannbogen-ev.de/wp-content/uploads/2026/03/Designer-1-e1774467358279.jpg
ORGANIZER;CN="StadtNatur":MAILTO:stadtnatur@ackermannbogen-ev.de
END:VEVENT
BEGIN:VEVENT
DTSTART;TZID=Europe/Berlin:20260425T110000
DTEND;TZID=Europe/Berlin:20260425T140000
DTSTAMP:20260425T012356
CREATED:20260421T093608Z
LAST-MODIFIED:20260421T093608Z
UID:10014364-1777114800-1777125600@ackermannbogen-ev.de
SUMMARY:Kindersachen-Flohmarkt
DESCRIPTION:Kinder verkaufen an Kinder: Bücher\, Spiele\, Kuscheltiere\, etc. \nEltern verkaufen an Eltern: Baby- und Kinderkleidung\, Zubehör rund um's Kind. \nKeine Anmeldung erforderlich. Mitmachen kostet nichts!
URL:https://ackermannbogen-ev.de/programm/kindersachen-flohmarkt-2/
LOCATION:KulturPassage\, Rosa-Aschenbrenner-Bogen 9\, München\, 80797\, Germany
CATEGORIES:Austausch & Dialog,kostenlos
ATTACH;FMTTYPE=image/jpeg:https://ackermannbogen-ev.de/wp-content/uploads/2022/02/DSC00555-scaled-e1712056538578.jpg
ORGANIZER;CN="NachbarschaftsB%C3%B6rse":MAILTO:nachbarschaftsboerse@ackermannbogen-ev.de
GEO:48.1647793;11.5585741
X-APPLE-STRUCTURED-LOCATION;VALUE=URI;X-ADDRESS=KulturPassage Rosa-Aschenbrenner-Bogen 9 München 80797 Germany;X-APPLE-RADIUS=500;X-TITLE=Rosa-Aschenbrenner-Bogen 9:geo:11.5585741,48.1647793
END:VEVENT
BEGIN:VEVENT
DTSTART;TZID=Europe/Berlin:20260425T120000
DTEND;TZID=Europe/Berlin:20260425T130000
DTSTAMP:20260425T012356
CREATED:20260326T171906Z
LAST-MODIFIED:20260326T171906Z
UID:10014334-1777118400-1777122000@ackermannbogen-ev.de
SUMMARY:Platz für die Wilden – Pflanzaktion am Frühlingsbeet
DESCRIPTION:Viele Nachbar:innen haben mitgemacht: Letzten Herbst bepflanzten wir das Beet am Radweg neben dem Rigoletto mit 30 heimischen Wildpflanzen. Es sind alles Arten\, die an diesem halbschattigen Standort von Natur aus wachsen könnten - wenn man den Wilden etwas mehr Platz zugestehen würde. Momentan blühen die Waldschlüsselblume\, der Zweiblättrige Blaustern und die Frühlingsplatterbse öffnet sich demnächst. Sie sind nicht nur schön\, sondern auch begehrte Nahrungsquelle für Wildinsekten\, die zu einem hohen Prozentsatz gefährdet sind.\nDiese Pflanzung ist eine der vielen Maßnahmen\, die im Rahmen des BioDivHub-Projekts vom Bundesamt für Naturschutz gefördert werden. Denn auch in der Stadt ist es wichtig und möglich etwas für die biologische Vielfalt tun. \nGanz von alleine geht es allerdings nicht. Das Beet braucht noch etwas Entwicklungshilfe. Deshalb treffen wir uns gelegentlich\, um vorsichtig einzugreifen und bei Bedarf nachzupflanzen. Am Samstag\, 25. April treffen wir uns um 12h am Beet\, um einige Arten zu pflanzen und noch mehr Blütenfülle zu schaffen.
URL:https://ackermannbogen-ev.de/programm/platz-fuer-die-wilden-pflanzaktion-am-fruehlingsbeet/
LOCATION:Im Freien - Radweg südl. Rigoletto
CATEGORIES:_Verein Newsletter,Umwelt & Natur
ATTACH;FMTTYPE=image/jpeg:https://ackermannbogen-ev.de/wp-content/uploads/2026/03/IMG_20260323_152552-scaled-e1774545149853.jpg
ORGANIZER;CN="StadtNatur":MAILTO:stadtnatur@ackermannbogen-ev.de
END:VEVENT
BEGIN:VEVENT
DTSTART;TZID=Europe/Berlin:20260425T150000
DTEND;TZID=Europe/Berlin:20260425T170000
DTSTAMP:20260425T012356
CREATED:20260421T095306Z
LAST-MODIFIED:20260421T095306Z
UID:10014365-1777129200-1777136400@ackermannbogen-ev.de
SUMMARY:RamaDama
DESCRIPTION:Wir räumen auf im Quartier. Müllzangen und -beutel sind vorhanden\, gerne auch mitbringen\, was Ihr zu Hause habt.\nFür Kinder\, Jugendliche und Erwachsene. \nTreffpunkt um 15 Uhr beim Rigoletto\, Rosa-Aschenbrenner-Bogen 9\nKeine Anmeldung erforderlich. Mitmachen kostet nichts!
URL:https://ackermannbogen-ev.de/programm/ramadama/
LOCATION:Café Rigoletto\, Rosa-Aschenbrenner-Bogen 9\, München\, Bayern\, 80797\, Germany
CATEGORIES:Austausch & Dialog,Umwelt & Natur
ATTACH;FMTTYPE=image/jpeg:https://ackermannbogen-ev.de/wp-content/uploads/2026/04/Eimer-voll-scaled-e1776765114837.jpg
ORGANIZER;CN="NachbarschaftsB%C3%B6rse":MAILTO:nachbarschaftsboerse@ackermannbogen-ev.de
GEO:48.1647793;11.5585741
X-APPLE-STRUCTURED-LOCATION;VALUE=URI;X-ADDRESS=Café Rigoletto Rosa-Aschenbrenner-Bogen 9 München Bayern 80797 Germany;X-APPLE-RADIUS=500;X-TITLE=Rosa-Aschenbrenner-Bogen 9:geo:11.5585741,48.1647793
END:VEVENT
BEGIN:VEVENT
DTSTART;TZID=Europe/Berlin:20260425T193000
DTEND;TZID=Europe/Berlin:20260425T213000
DTSTAMP:20260425T012356
CREATED:20260421T092854Z
LAST-MODIFIED:20260421T092854Z
UID:10014363-1777145400-1777152600@ackermannbogen-ev.de
SUMMARY:Kleidertausch-Party
DESCRIPTION:Neu: Diesmal auch mit XXL-Größen!\nGut erhaltene Kleidung\, Schuhe\, Accessoires\, Taschen mitbringen\, „neue“ Lieblingsstücke mit nach Hause nehmen.\nSchont die Umwelt und den Geldbeutel.
URL:https://ackermannbogen-ev.de/programm/kleidertausch-party/
LOCATION:EKS 15\, Elisabeth-Kohn-Str. 15\, München\, 80797\, Germany
CATEGORIES:Austausch & Dialog,kostenlos
ATTACH;FMTTYPE=image/jpeg:https://ackermannbogen-ev.de/wp-content/uploads/2024/04/120505-KleiderTauschParty-7-2-e1746776947421.jpg
ORGANIZER;CN="NachbarschaftsB%C3%B6rse":MAILTO:nachbarschaftsboerse@ackermannbogen-ev.de
GEO:48.164854418235;11.554277501613
X-APPLE-STRUCTURED-LOCATION;VALUE=URI;X-ADDRESS=EKS 15 Elisabeth-Kohn-Str. 15 München 80797 Germany;X-APPLE-RADIUS=500;X-TITLE=Elisabeth-Kohn-Str. 15:geo:11.554277501613,48.164854418235
END:VEVENT
END:VCALENDAR