BEGIN:VCALENDAR
VERSION:2.0
PRODID:-//Ackermannbogen e.V. - ECPv6.15.20//NONSGML v1.0//EN
CALSCALE:GREGORIAN
METHOD:PUBLISH
X-ORIGINAL-URL:https://ackermannbogen-ev.de
X-WR-CALDESC:Veranstaltungen für Ackermannbogen e.V.
REFRESH-INTERVAL;VALUE=DURATION:PT1H
X-Robots-Tag:noindex
X-PUBLISHED-TTL:PT1H
BEGIN:VTIMEZONE
TZID:Europe/Berlin
BEGIN:DAYLIGHT
TZOFFSETFROM:+0100
TZOFFSETTO:+0200
TZNAME:CEST
DTSTART:20240331T010000
END:DAYLIGHT
BEGIN:STANDARD
TZOFFSETFROM:+0200
TZOFFSETTO:+0100
TZNAME:CET
DTSTART:20241027T010000
END:STANDARD
BEGIN:DAYLIGHT
TZOFFSETFROM:+0100
TZOFFSETTO:+0200
TZNAME:CEST
DTSTART:20250330T010000
END:DAYLIGHT
BEGIN:STANDARD
TZOFFSETFROM:+0200
TZOFFSETTO:+0100
TZNAME:CET
DTSTART:20251026T010000
END:STANDARD
BEGIN:DAYLIGHT
TZOFFSETFROM:+0100
TZOFFSETTO:+0200
TZNAME:CEST
DTSTART:20260329T010000
END:DAYLIGHT
BEGIN:STANDARD
TZOFFSETFROM:+0200
TZOFFSETTO:+0100
TZNAME:CET
DTSTART:20261025T010000
END:STANDARD
END:VTIMEZONE
BEGIN:VEVENT
DTSTART;TZID=Europe/Berlin:20251119T190000
DTEND;TZID=Europe/Berlin:20251119T210000
DTSTAMP:20260423T211819
CREATED:20251016T155237Z
LAST-MODIFIED:20260213T121026Z
UID:10012575-1763578800-1763586000@ackermannbogen-ev.de
SUMMARY:Wildes Leben zwischen Häusern - Vernissage im SchauRaum
DESCRIPTION:Eine Ausstellung zur biologischen Vielfalt im Quartier   \nWie lässt sich Natur mitten in der Stadt erleben? Die Ausstellung zeigt Fotografien und Druckgrafiken von Nachbar:innen\, die urbane Biodiversität sichtbar und erfahrbar machen.   \nDie Fotografien werden für eine Untersuchung der TUM zur Stadtnatur verwendet\, im Fokus stehen aber auch künstlerische Perspektiven – etwa Arbeiten zur Insektenvielfalt aus der Rewilding-Aktion im Oktober.   \nAus dem künstlerischen und ökologischen Blickwinkel der Nachbarschaft erzählen Pflanzen\, Tiere und kreative Arbeiten vom „wilden Leben zwischen Häusern“.   \nmehr dazu \nVernissage: 19. November 2025\, 19 Uhr  \nSchaufenster-Ausstellung: 20. November 2025 - 21. März 2026 \nÖffnungszeiten nach Vereinbarung  \n  \nBild: Ruth Mahla
URL:https://ackermannbogen-ev.de/programm/wildes-leben-zwischen-haeusern/
LOCATION:SchauRaum\, Therese-Studer-Str. 9\, München\, 80797\, Germany
CATEGORIES:Kultur & Kreatives,Kunst,Umwelt & Natur
ATTACH;FMTTYPE=image/jpeg:https://ackermannbogen-ev.de/wp-content/uploads/2025/10/Balkonprojekt_Juli_25-14-e1760616255250.jpg
ORGANIZER;CN="StadtNatur":MAILTO:stadtnatur@ackermannbogen-ev.de
GEO:48.1655949;11.559837
X-APPLE-STRUCTURED-LOCATION;VALUE=URI;X-ADDRESS=SchauRaum Therese-Studer-Str. 9 München 80797 Germany;X-APPLE-RADIUS=500;X-TITLE=Therese-Studer-Str. 9:geo:11.559837,48.1655949
END:VEVENT
END:VCALENDAR