BEGIN:VCALENDAR
VERSION:2.0
PRODID:-//Ackermannbogen e.V. - ECPv6.15.20//NONSGML v1.0//EN
CALSCALE:GREGORIAN
METHOD:PUBLISH
X-WR-CALNAME:Ackermannbogen e.V.
X-ORIGINAL-URL:https://ackermannbogen-ev.de
X-WR-CALDESC:Veranstaltungen für Ackermannbogen e.V.
REFRESH-INTERVAL;VALUE=DURATION:PT1H
X-Robots-Tag:noindex
X-PUBLISHED-TTL:PT1H
BEGIN:VTIMEZONE
TZID:Europe/Berlin
BEGIN:DAYLIGHT
TZOFFSETFROM:+0100
TZOFFSETTO:+0200
TZNAME:CEST
DTSTART:20240331T010000
END:DAYLIGHT
BEGIN:STANDARD
TZOFFSETFROM:+0200
TZOFFSETTO:+0100
TZNAME:CET
DTSTART:20241027T010000
END:STANDARD
BEGIN:DAYLIGHT
TZOFFSETFROM:+0100
TZOFFSETTO:+0200
TZNAME:CEST
DTSTART:20250330T010000
END:DAYLIGHT
BEGIN:STANDARD
TZOFFSETFROM:+0200
TZOFFSETTO:+0100
TZNAME:CET
DTSTART:20251026T010000
END:STANDARD
BEGIN:DAYLIGHT
TZOFFSETFROM:+0100
TZOFFSETTO:+0200
TZNAME:CEST
DTSTART:20260329T010000
END:DAYLIGHT
BEGIN:STANDARD
TZOFFSETFROM:+0200
TZOFFSETTO:+0100
TZNAME:CET
DTSTART:20261025T010000
END:STANDARD
END:VTIMEZONE
BEGIN:VEVENT
DTSTART;VALUE=DATE:20251103
DTEND;VALUE=DATE:20251108
DTSTAMP:20260424T192420
CREATED:20250819T090725Z
LAST-MODIFIED:20251020T130803Z
UID:10011713-1762138800-1762484399@ackermannbogen-ev.de
SUMMARY:Basketball-Feriencamp 1 Inzell U14 Jungs
DESCRIPTION:Was: Basketball-Feriencamp \nWer: U14 Jungs \nWann: 3.11.2025 - 6.11.2025 \nOrt: BLSV Sportcamp Inzell gGmbH\, Holzen 4-6\, 83334 Inzell \nIm Ticketpreis sind enthalten: \n\nBusanreise\nVollverpflegung\nUnterkunft in Blockhäusern (6-8 Betten in einem Blockhaus)\nIndividuelles Basketballtrainings-programm inkl. Theorieeinheiten\nNutzung der Sporthallen & Outdoor-flächen\, Seminarraum\, Schwimmbad\nAusflüge zB. zur Max Aicher Arena – Eislaufen & Besichtigung\, Moor-Erlebnis-Pfad Inzell\, Fußballgolf im Soccerpark Inzell\n\nweitere Details sowie die Teilnahmebedingungen sind hier aufgeführt (bitte gern abspeichern): AK Tigers Inzell Herbst-Camp 1 2025 Infos und Teilnahmebedingungen \nDas Camp findet nur statt\, wenn die Mindest-Teilnehmerzahl von 15 bis zum 30.09.2025 erreicht wird \n  \n 
URL:https://ackermannbogen-ev.de/programm/basketball-feriencamp-inzell-u14/
LOCATION:BLSV Sport­camp Inzell gGmbH\, Holzen 4–6\, Inzell\, Bayern\, 83334\, Germany
CATEGORIES:Bildung & Betreuung,Fitness & Gesundheit
ATTACH;FMTTYPE=image/jpeg:https://ackermannbogen-ev.de/wp-content/uploads/2025/08/young-people-3575167_1280-e1755521256290.jpg
ORGANIZER;CN="Hallensport":MAILTO:hallensport@ackermannbogen-ev.de
END:VEVENT
BEGIN:VEVENT
DTSTART;VALUE=DATE:20251106
DTEND;VALUE=DATE:20251111
DTSTAMP:20260424T192420
CREATED:20250820T115158Z
LAST-MODIFIED:20251020T130818Z
UID:10011725-1762398000-1762743599@ackermannbogen-ev.de
SUMMARY:Basketball-Feriencamp 2 Inzell U16 Jungs
DESCRIPTION:Was: Basketball-Feriencamp \nWer: U16 Jungs \nWann: 6.11.2025 - 9.11.2025 \nOrt: BLSV Sportcamp Inzell gGmbH\, Holzen 4-6\, 83334 Inzell \nIm Ticketpreis sind enthalten: \n\nBusanreise\nVollverpflegung\nUnterkunft in Blockhäusern (6-8 Betten in einem Blockhaus)\nIndividuelles Basketballtrainings-programm inkl. Theorieeinheiten\nNutzung der Sporthallen & Outdoor-flächen\, Seminarraum\, Schwimmbad\nAusflüge zB. zur Max Aicher Arena – Eislaufen & Besichtigung\, Moor-Erlebnis-Pfad Inzell\, Fußballgolf im Soccerpark Inzell\n\nweitere Details sowie die Teilnahmebedingungen sind hier aufgeführt (bitte gern abspeichern): AK Tigers Inzell Herbst-Camp 2 2025 Infos und Teilnahmebedingungen \nDas Camp findet nur statt\, wenn die Teilnehmerzahl von 15 bis zum 30.09.2025 erreicht wird \n  \n 
URL:https://ackermannbogen-ev.de/programm/basketball-feriencamp-inzell-u16-2/
LOCATION:BLSV Sport­camp Inzell gGmbH\, Holzen 4–6\, Inzell\, Bayern\, 83334\, Germany
CATEGORIES:Bildung & Betreuung,Fitness & Gesundheit
ATTACH;FMTTYPE=image/jpeg:https://ackermannbogen-ev.de/wp-content/uploads/2025/08/young-people-3575167_1280-e1755521256290.jpg
ORGANIZER;CN="Hallensport":MAILTO:hallensport@ackermannbogen-ev.de
END:VEVENT
END:VCALENDAR