BEGIN:VCALENDAR
VERSION:2.0
PRODID:-//Ackermannbogen e.V. - ECPv6.15.20//NONSGML v1.0//EN
CALSCALE:GREGORIAN
METHOD:PUBLISH
X-ORIGINAL-URL:https://ackermannbogen-ev.de
X-WR-CALDESC:Veranstaltungen für Ackermannbogen e.V.
REFRESH-INTERVAL;VALUE=DURATION:PT1H
X-Robots-Tag:noindex
X-PUBLISHED-TTL:PT1H
BEGIN:VTIMEZONE
TZID:Europe/Berlin
BEGIN:DAYLIGHT
TZOFFSETFROM:+0100
TZOFFSETTO:+0200
TZNAME:CEST
DTSTART:20250330T010000
END:DAYLIGHT
BEGIN:STANDARD
TZOFFSETFROM:+0200
TZOFFSETTO:+0100
TZNAME:CET
DTSTART:20251026T010000
END:STANDARD
BEGIN:DAYLIGHT
TZOFFSETFROM:+0100
TZOFFSETTO:+0200
TZNAME:CEST
DTSTART:20260329T010000
END:DAYLIGHT
BEGIN:STANDARD
TZOFFSETFROM:+0200
TZOFFSETTO:+0100
TZNAME:CET
DTSTART:20261025T010000
END:STANDARD
BEGIN:DAYLIGHT
TZOFFSETFROM:+0100
TZOFFSETTO:+0200
TZNAME:CEST
DTSTART:20270328T010000
END:DAYLIGHT
BEGIN:STANDARD
TZOFFSETFROM:+0200
TZOFFSETTO:+0100
TZNAME:CET
DTSTART:20271031T010000
END:STANDARD
END:VTIMEZONE
BEGIN:VEVENT
DTSTART;TZID=Europe/Berlin:20260113T170000
DTEND;TZID=Europe/Berlin:20260113T180000
DTSTAMP:20260419T203109
CREATED:20250728T150532Z
LAST-MODIFIED:20250912T112547Z
UID:10011534-1768323600-1768327200@ackermannbogen-ev.de
SUMMARY:17 - 18 Uhr Hip Hop Teens (7./8. Klasse)
DESCRIPTION:Hip Hop: Hier werden coole Moves geübt\, kurze Schrittabfolgen getanzt\, gedehnt und zum Schluss auch eine Choreografie einstudiert.\nKursleitung: Sonja Werner\, Tanzpädagogin\, Tel. 0171-831 18 76\nElisabeth-Kohn-Str. 15\n(gerne auch per SMS oder WhatsApp)\nKurseinteilung nach Bedarf und Alter \n17 - 18 Uhr Hip Hop Teens (7./8. Klasse) \n 
URL:https://ackermannbogen-ev.de/programm/17-18-uhr-hip-hop-teens-7-8-klasse/2026-01-13/
LOCATION:EKS 15\, Elisabeth-Kohn-Str. 15\, München\, 80797\, Germany
CATEGORIES:Tanz & Bewegung
ATTACH;FMTTYPE=image/jpeg:https://ackermannbogen-ev.de/wp-content/uploads/2025/07/HipHop-1-e1757676314281.jpg
ORGANIZER;CN="NachbarschaftsB%C3%B6rse":MAILTO:nachbarschaftsboerse@ackermannbogen-ev.de
GEO:48.164854418235;11.554277501613
X-APPLE-STRUCTURED-LOCATION;VALUE=URI;X-ADDRESS=EKS 15 Elisabeth-Kohn-Str. 15 München 80797 Germany;X-APPLE-RADIUS=500;X-TITLE=Elisabeth-Kohn-Str. 15:geo:11.554277501613,48.164854418235
END:VEVENT
BEGIN:VEVENT
DTSTART;TZID=Europe/Berlin:20260113T190000
DTEND;TZID=Europe/Berlin:20260113T200000
DTSTAMP:20260419T203109
CREATED:20250914T150420Z
LAST-MODIFIED:20251031T091326Z
UID:10012300-1768330800-1768334400@ackermannbogen-ev.de
SUMMARY:Feldenkrais
DESCRIPTION:Bewusstheit durch Bewegung\nEine Methode für alle\, die ihren Bewegungsspielraum erweitern und einseitigen Belastungen vielseitige Alternativen entgegenstellen wollen. \nLeitung: Christl Karnehm\, Tel. 089-16 09 22
URL:https://ackermannbogen-ev.de/programm/feldenkrais-3/2026-01-13/
LOCATION:RAB 9 großer Raum\, Rosa-Aschenbrenner-Bogen 9\, München\, 80797\, Germany
CATEGORIES:Fitness & Gesundheit
ATTACH;FMTTYPE=image/jpeg:https://ackermannbogen-ev.de/wp-content/uploads/2025/09/yogamatten.jpg
ORGANIZER;CN="NachbarschaftsB%C3%B6rse":MAILTO:nachbarschaftsboerse@ackermannbogen-ev.de
GEO:48.1647793;11.5585741
X-APPLE-STRUCTURED-LOCATION;VALUE=URI;X-ADDRESS=RAB 9 großer Raum Rosa-Aschenbrenner-Bogen 9 München 80797 Germany;X-APPLE-RADIUS=500;X-TITLE=Rosa-Aschenbrenner-Bogen 9:geo:11.5585741,48.1647793
END:VEVENT
BEGIN:VEVENT
DTSTART;TZID=Europe/Berlin:20260115T170000
DTEND;TZID=Europe/Berlin:20260115T180000
DTSTAMP:20260419T203109
CREATED:20250912T173818Z
LAST-MODIFIED:20251210T154929Z
UID:10012077-1768496400-1768500000@ackermannbogen-ev.de
SUMMARY:Hip Hop (Kinder 3./4. Klasse)
DESCRIPTION:Hip Hop: Hier werden coole Moves geübt\, kurze Schrittabfolgen getanzt\, gedehnt und zum Schluss auch eine Choreografie einstudiert.\nKursleitung: Sonja Werner\, Tanzpädagogin\, Tel. 0171-831 18 76\nElisabeth-Kohn-Str. 15\n(gerne auch per SMS oder WhatsApp) \n16 - 17 Uhr  -  Hip Hop (Kinder der 3./4. Klasse) \nKurseinteilung nach Bedarf und Alter \n 
URL:https://ackermannbogen-ev.de/programm/hip-hop-kinder-3-4-klasse/2026-01-15/
LOCATION:EKS 15\, Elisabeth-Kohn-Str. 15\, München\, 80797\, Germany
CATEGORIES:Tanz & Bewegung
ATTACH;FMTTYPE=image/jpeg:https://ackermannbogen-ev.de/wp-content/uploads/2025/09/hip-hop-e1765381753343.jpg
ORGANIZER;CN="NachbarschaftsB%C3%B6rse":MAILTO:nachbarschaftsboerse@ackermannbogen-ev.de
GEO:48.164854418235;11.554277501613
X-APPLE-STRUCTURED-LOCATION;VALUE=URI;X-ADDRESS=EKS 15 Elisabeth-Kohn-Str. 15 München 80797 Germany;X-APPLE-RADIUS=500;X-TITLE=Elisabeth-Kohn-Str. 15:geo:11.554277501613,48.164854418235
END:VEVENT
BEGIN:VEVENT
DTSTART;TZID=Europe/Berlin:20260115T183000
DTEND;TZID=Europe/Berlin:20260115T193000
DTSTAMP:20260419T203109
CREATED:20250914T140439Z
LAST-MODIFIED:20251030T151425Z
UID:10012152-1768501800-1768505400@ackermannbogen-ev.de
SUMMARY:Pilates
DESCRIPTION:Kräftigung und Entspannung von Kopf bis Fuß für die großen\, aber auch kleinen Muskeln im Körper. Durch den besonderen Fokus auf die Harmonie von Bewegung und Atmung bietet Pilates auch ein Training für den Geist. Ein effektives Ganzkörpertraining\, welches neben dem Schwerpunkt für Rücken\, Bauch und Beckenboden auch die Beine und Arme miteinschließt.\nKursleitung: Janine Dietrich\, janine_dietrich@web.de\nDonnerstags 18.30 – 19.30 Uhr\, Elisabeth-Kohn-Str. 15\nKosten: € 12\,– / Stunde oder € 60\,– / 5er-Block .
URL:https://ackermannbogen-ev.de/programm/pilates-4/2026-01-15/
LOCATION:EKS 15\, Elisabeth-Kohn-Str. 15\, München\, 80797\, Germany
CATEGORIES:Fitness & Gesundheit
ATTACH;FMTTYPE=image/jpeg:https://ackermannbogen-ev.de/wp-content/uploads/2025/09/Pilates.jpg
ORGANIZER;CN="NachbarschaftsB%C3%B6rse":MAILTO:nachbarschaftsboerse@ackermannbogen-ev.de
GEO:48.164854418235;11.554277501613
X-APPLE-STRUCTURED-LOCATION;VALUE=URI;X-ADDRESS=EKS 15 Elisabeth-Kohn-Str. 15 München 80797 Germany;X-APPLE-RADIUS=500;X-TITLE=Elisabeth-Kohn-Str. 15:geo:11.554277501613,48.164854418235
END:VEVENT
BEGIN:VEVENT
DTSTART;TZID=Europe/Berlin:20260120T170000
DTEND;TZID=Europe/Berlin:20260120T180000
DTSTAMP:20260419T203109
CREATED:20250728T150532Z
LAST-MODIFIED:20250912T112547Z
UID:10011535-1768928400-1768932000@ackermannbogen-ev.de
SUMMARY:17 - 18 Uhr Hip Hop Teens (7./8. Klasse)
DESCRIPTION:Hip Hop: Hier werden coole Moves geübt\, kurze Schrittabfolgen getanzt\, gedehnt und zum Schluss auch eine Choreografie einstudiert.\nKursleitung: Sonja Werner\, Tanzpädagogin\, Tel. 0171-831 18 76\nElisabeth-Kohn-Str. 15\n(gerne auch per SMS oder WhatsApp)\nKurseinteilung nach Bedarf und Alter \n17 - 18 Uhr Hip Hop Teens (7./8. Klasse) \n 
URL:https://ackermannbogen-ev.de/programm/17-18-uhr-hip-hop-teens-7-8-klasse/2026-01-20/
LOCATION:EKS 15\, Elisabeth-Kohn-Str. 15\, München\, 80797\, Germany
CATEGORIES:Tanz & Bewegung
ATTACH;FMTTYPE=image/jpeg:https://ackermannbogen-ev.de/wp-content/uploads/2025/07/HipHop-1-e1757676314281.jpg
ORGANIZER;CN="NachbarschaftsB%C3%B6rse":MAILTO:nachbarschaftsboerse@ackermannbogen-ev.de
GEO:48.164854418235;11.554277501613
X-APPLE-STRUCTURED-LOCATION;VALUE=URI;X-ADDRESS=EKS 15 Elisabeth-Kohn-Str. 15 München 80797 Germany;X-APPLE-RADIUS=500;X-TITLE=Elisabeth-Kohn-Str. 15:geo:11.554277501613,48.164854418235
END:VEVENT
BEGIN:VEVENT
DTSTART;TZID=Europe/Berlin:20260120T190000
DTEND;TZID=Europe/Berlin:20260120T200000
DTSTAMP:20260419T203109
CREATED:20250914T150420Z
LAST-MODIFIED:20251031T091326Z
UID:10012301-1768935600-1768939200@ackermannbogen-ev.de
SUMMARY:Feldenkrais
DESCRIPTION:Bewusstheit durch Bewegung\nEine Methode für alle\, die ihren Bewegungsspielraum erweitern und einseitigen Belastungen vielseitige Alternativen entgegenstellen wollen. \nLeitung: Christl Karnehm\, Tel. 089-16 09 22
URL:https://ackermannbogen-ev.de/programm/feldenkrais-3/2026-01-20/
LOCATION:RAB 9 großer Raum\, Rosa-Aschenbrenner-Bogen 9\, München\, 80797\, Germany
CATEGORIES:Fitness & Gesundheit
ATTACH;FMTTYPE=image/jpeg:https://ackermannbogen-ev.de/wp-content/uploads/2025/09/yogamatten.jpg
ORGANIZER;CN="NachbarschaftsB%C3%B6rse":MAILTO:nachbarschaftsboerse@ackermannbogen-ev.de
GEO:48.1647793;11.5585741
X-APPLE-STRUCTURED-LOCATION;VALUE=URI;X-ADDRESS=RAB 9 großer Raum Rosa-Aschenbrenner-Bogen 9 München 80797 Germany;X-APPLE-RADIUS=500;X-TITLE=Rosa-Aschenbrenner-Bogen 9:geo:11.5585741,48.1647793
END:VEVENT
BEGIN:VEVENT
DTSTART;TZID=Europe/Berlin:20260122T170000
DTEND;TZID=Europe/Berlin:20260122T180000
DTSTAMP:20260419T203109
CREATED:20250912T173818Z
LAST-MODIFIED:20251210T154929Z
UID:10012078-1769101200-1769104800@ackermannbogen-ev.de
SUMMARY:Hip Hop (Kinder 3./4. Klasse)
DESCRIPTION:Hip Hop: Hier werden coole Moves geübt\, kurze Schrittabfolgen getanzt\, gedehnt und zum Schluss auch eine Choreografie einstudiert.\nKursleitung: Sonja Werner\, Tanzpädagogin\, Tel. 0171-831 18 76\nElisabeth-Kohn-Str. 15\n(gerne auch per SMS oder WhatsApp) \n16 - 17 Uhr  -  Hip Hop (Kinder der 3./4. Klasse) \nKurseinteilung nach Bedarf und Alter \n 
URL:https://ackermannbogen-ev.de/programm/hip-hop-kinder-3-4-klasse/2026-01-22/
LOCATION:EKS 15\, Elisabeth-Kohn-Str. 15\, München\, 80797\, Germany
CATEGORIES:Tanz & Bewegung
ATTACH;FMTTYPE=image/jpeg:https://ackermannbogen-ev.de/wp-content/uploads/2025/09/hip-hop-e1765381753343.jpg
ORGANIZER;CN="NachbarschaftsB%C3%B6rse":MAILTO:nachbarschaftsboerse@ackermannbogen-ev.de
GEO:48.164854418235;11.554277501613
X-APPLE-STRUCTURED-LOCATION;VALUE=URI;X-ADDRESS=EKS 15 Elisabeth-Kohn-Str. 15 München 80797 Germany;X-APPLE-RADIUS=500;X-TITLE=Elisabeth-Kohn-Str. 15:geo:11.554277501613,48.164854418235
END:VEVENT
BEGIN:VEVENT
DTSTART;TZID=Europe/Berlin:20260122T183000
DTEND;TZID=Europe/Berlin:20260122T193000
DTSTAMP:20260419T203109
CREATED:20250914T140439Z
LAST-MODIFIED:20251030T151425Z
UID:10012153-1769106600-1769110200@ackermannbogen-ev.de
SUMMARY:Pilates
DESCRIPTION:Kräftigung und Entspannung von Kopf bis Fuß für die großen\, aber auch kleinen Muskeln im Körper. Durch den besonderen Fokus auf die Harmonie von Bewegung und Atmung bietet Pilates auch ein Training für den Geist. Ein effektives Ganzkörpertraining\, welches neben dem Schwerpunkt für Rücken\, Bauch und Beckenboden auch die Beine und Arme miteinschließt.\nKursleitung: Janine Dietrich\, janine_dietrich@web.de\nDonnerstags 18.30 – 19.30 Uhr\, Elisabeth-Kohn-Str. 15\nKosten: € 12\,– / Stunde oder € 60\,– / 5er-Block .
URL:https://ackermannbogen-ev.de/programm/pilates-4/2026-01-22/
LOCATION:EKS 15\, Elisabeth-Kohn-Str. 15\, München\, 80797\, Germany
CATEGORIES:Fitness & Gesundheit
ATTACH;FMTTYPE=image/jpeg:https://ackermannbogen-ev.de/wp-content/uploads/2025/09/Pilates.jpg
ORGANIZER;CN="NachbarschaftsB%C3%B6rse":MAILTO:nachbarschaftsboerse@ackermannbogen-ev.de
GEO:48.164854418235;11.554277501613
X-APPLE-STRUCTURED-LOCATION;VALUE=URI;X-ADDRESS=EKS 15 Elisabeth-Kohn-Str. 15 München 80797 Germany;X-APPLE-RADIUS=500;X-TITLE=Elisabeth-Kohn-Str. 15:geo:11.554277501613,48.164854418235
END:VEVENT
BEGIN:VEVENT
DTSTART;TZID=Europe/Berlin:20260127T170000
DTEND;TZID=Europe/Berlin:20260127T180000
DTSTAMP:20260419T203109
CREATED:20250728T150532Z
LAST-MODIFIED:20250912T112547Z
UID:10011536-1769533200-1769536800@ackermannbogen-ev.de
SUMMARY:17 - 18 Uhr Hip Hop Teens (7./8. Klasse)
DESCRIPTION:Hip Hop: Hier werden coole Moves geübt\, kurze Schrittabfolgen getanzt\, gedehnt und zum Schluss auch eine Choreografie einstudiert.\nKursleitung: Sonja Werner\, Tanzpädagogin\, Tel. 0171-831 18 76\nElisabeth-Kohn-Str. 15\n(gerne auch per SMS oder WhatsApp)\nKurseinteilung nach Bedarf und Alter \n17 - 18 Uhr Hip Hop Teens (7./8. Klasse) \n 
URL:https://ackermannbogen-ev.de/programm/17-18-uhr-hip-hop-teens-7-8-klasse/2026-01-27/
LOCATION:EKS 15\, Elisabeth-Kohn-Str. 15\, München\, 80797\, Germany
CATEGORIES:Tanz & Bewegung
ATTACH;FMTTYPE=image/jpeg:https://ackermannbogen-ev.de/wp-content/uploads/2025/07/HipHop-1-e1757676314281.jpg
ORGANIZER;CN="NachbarschaftsB%C3%B6rse":MAILTO:nachbarschaftsboerse@ackermannbogen-ev.de
GEO:48.164854418235;11.554277501613
X-APPLE-STRUCTURED-LOCATION;VALUE=URI;X-ADDRESS=EKS 15 Elisabeth-Kohn-Str. 15 München 80797 Germany;X-APPLE-RADIUS=500;X-TITLE=Elisabeth-Kohn-Str. 15:geo:11.554277501613,48.164854418235
END:VEVENT
BEGIN:VEVENT
DTSTART;TZID=Europe/Berlin:20260127T190000
DTEND;TZID=Europe/Berlin:20260127T200000
DTSTAMP:20260419T203109
CREATED:20250914T150420Z
LAST-MODIFIED:20251031T091326Z
UID:10012302-1769540400-1769544000@ackermannbogen-ev.de
SUMMARY:Feldenkrais
DESCRIPTION:Bewusstheit durch Bewegung\nEine Methode für alle\, die ihren Bewegungsspielraum erweitern und einseitigen Belastungen vielseitige Alternativen entgegenstellen wollen. \nLeitung: Christl Karnehm\, Tel. 089-16 09 22
URL:https://ackermannbogen-ev.de/programm/feldenkrais-3/2026-01-27/
LOCATION:RAB 9 großer Raum\, Rosa-Aschenbrenner-Bogen 9\, München\, 80797\, Germany
CATEGORIES:Fitness & Gesundheit
ATTACH;FMTTYPE=image/jpeg:https://ackermannbogen-ev.de/wp-content/uploads/2025/09/yogamatten.jpg
ORGANIZER;CN="NachbarschaftsB%C3%B6rse":MAILTO:nachbarschaftsboerse@ackermannbogen-ev.de
GEO:48.1647793;11.5585741
X-APPLE-STRUCTURED-LOCATION;VALUE=URI;X-ADDRESS=RAB 9 großer Raum Rosa-Aschenbrenner-Bogen 9 München 80797 Germany;X-APPLE-RADIUS=500;X-TITLE=Rosa-Aschenbrenner-Bogen 9:geo:11.5585741,48.1647793
END:VEVENT
BEGIN:VEVENT
DTSTART;TZID=Europe/Berlin:20260129T170000
DTEND;TZID=Europe/Berlin:20260129T180000
DTSTAMP:20260419T203109
CREATED:20250912T173818Z
LAST-MODIFIED:20251210T154929Z
UID:10012079-1769706000-1769709600@ackermannbogen-ev.de
SUMMARY:Hip Hop (Kinder 3./4. Klasse)
DESCRIPTION:Hip Hop: Hier werden coole Moves geübt\, kurze Schrittabfolgen getanzt\, gedehnt und zum Schluss auch eine Choreografie einstudiert.\nKursleitung: Sonja Werner\, Tanzpädagogin\, Tel. 0171-831 18 76\nElisabeth-Kohn-Str. 15\n(gerne auch per SMS oder WhatsApp) \n16 - 17 Uhr  -  Hip Hop (Kinder der 3./4. Klasse) \nKurseinteilung nach Bedarf und Alter \n 
URL:https://ackermannbogen-ev.de/programm/hip-hop-kinder-3-4-klasse/2026-01-29/
LOCATION:EKS 15\, Elisabeth-Kohn-Str. 15\, München\, 80797\, Germany
CATEGORIES:Tanz & Bewegung
ATTACH;FMTTYPE=image/jpeg:https://ackermannbogen-ev.de/wp-content/uploads/2025/09/hip-hop-e1765381753343.jpg
ORGANIZER;CN="NachbarschaftsB%C3%B6rse":MAILTO:nachbarschaftsboerse@ackermannbogen-ev.de
GEO:48.164854418235;11.554277501613
X-APPLE-STRUCTURED-LOCATION;VALUE=URI;X-ADDRESS=EKS 15 Elisabeth-Kohn-Str. 15 München 80797 Germany;X-APPLE-RADIUS=500;X-TITLE=Elisabeth-Kohn-Str. 15:geo:11.554277501613,48.164854418235
END:VEVENT
BEGIN:VEVENT
DTSTART;TZID=Europe/Berlin:20260129T183000
DTEND;TZID=Europe/Berlin:20260129T193000
DTSTAMP:20260419T203109
CREATED:20250914T140439Z
LAST-MODIFIED:20251030T151425Z
UID:10012154-1769711400-1769715000@ackermannbogen-ev.de
SUMMARY:Pilates
DESCRIPTION:Kräftigung und Entspannung von Kopf bis Fuß für die großen\, aber auch kleinen Muskeln im Körper. Durch den besonderen Fokus auf die Harmonie von Bewegung und Atmung bietet Pilates auch ein Training für den Geist. Ein effektives Ganzkörpertraining\, welches neben dem Schwerpunkt für Rücken\, Bauch und Beckenboden auch die Beine und Arme miteinschließt.\nKursleitung: Janine Dietrich\, janine_dietrich@web.de\nDonnerstags 18.30 – 19.30 Uhr\, Elisabeth-Kohn-Str. 15\nKosten: € 12\,– / Stunde oder € 60\,– / 5er-Block .
URL:https://ackermannbogen-ev.de/programm/pilates-4/2026-01-29/
LOCATION:EKS 15\, Elisabeth-Kohn-Str. 15\, München\, 80797\, Germany
CATEGORIES:Fitness & Gesundheit
ATTACH;FMTTYPE=image/jpeg:https://ackermannbogen-ev.de/wp-content/uploads/2025/09/Pilates.jpg
ORGANIZER;CN="NachbarschaftsB%C3%B6rse":MAILTO:nachbarschaftsboerse@ackermannbogen-ev.de
GEO:48.164854418235;11.554277501613
X-APPLE-STRUCTURED-LOCATION;VALUE=URI;X-ADDRESS=EKS 15 Elisabeth-Kohn-Str. 15 München 80797 Germany;X-APPLE-RADIUS=500;X-TITLE=Elisabeth-Kohn-Str. 15:geo:11.554277501613,48.164854418235
END:VEVENT
END:VCALENDAR