BEGIN:VCALENDAR
VERSION:2.0
PRODID:-//Ackermannbogen e.V. - ECPv6.15.20//NONSGML v1.0//EN
CALSCALE:GREGORIAN
METHOD:PUBLISH
X-ORIGINAL-URL:https://ackermannbogen-ev.de
X-WR-CALDESC:Veranstaltungen für Ackermannbogen e.V.
REFRESH-INTERVAL;VALUE=DURATION:PT1H
X-Robots-Tag:noindex
X-PUBLISHED-TTL:PT1H
BEGIN:VTIMEZONE
TZID:Europe/Berlin
BEGIN:DAYLIGHT
TZOFFSETFROM:+0100
TZOFFSETTO:+0200
TZNAME:CEST
DTSTART:20230326T010000
END:DAYLIGHT
BEGIN:STANDARD
TZOFFSETFROM:+0200
TZOFFSETTO:+0100
TZNAME:CET
DTSTART:20231029T010000
END:STANDARD
BEGIN:DAYLIGHT
TZOFFSETFROM:+0100
TZOFFSETTO:+0200
TZNAME:CEST
DTSTART:20240331T010000
END:DAYLIGHT
BEGIN:STANDARD
TZOFFSETFROM:+0200
TZOFFSETTO:+0100
TZNAME:CET
DTSTART:20241027T010000
END:STANDARD
BEGIN:DAYLIGHT
TZOFFSETFROM:+0100
TZOFFSETTO:+0200
TZNAME:CEST
DTSTART:20250330T010000
END:DAYLIGHT
BEGIN:STANDARD
TZOFFSETFROM:+0200
TZOFFSETTO:+0100
TZNAME:CET
DTSTART:20251026T010000
END:STANDARD
END:VTIMEZONE
BEGIN:VEVENT
DTSTART;TZID=Europe/Berlin:20241002T183000
DTEND;TZID=Europe/Berlin:20241002T193000
DTSTAMP:20260423T141354
CREATED:20240710T100607Z
LAST-MODIFIED:20241127T153436Z
UID:10008756-1727893800-1727897400@ackermannbogen-ev.de
SUMMARY:Let´s Move - Tanz-Fitness für Erwachsene
DESCRIPTION:Kursleitung: Sonja Werner\, Tanzpädagogin\, Tel. 0171-831 18 76\n(gerne auch per SMS oder WhatsApp) \n18:30 - 19:30 Uhr - Let´s Move - Tanz-Fitness für Erwachsene (3 x im Monat im Raum + 1 x im Monat outdoor)
URL:https://ackermannbogen-ev.de/programm/lets-move-tanz-fitness-fuer-erwachsene/2024-10-02/
LOCATION:EKS 15\, Elisabeth-Kohn-Str. 15\, München\, 80797\, Germany
CATEGORIES:Tanz & Bewegung
ATTACH;FMTTYPE=image/jpeg:https://ackermannbogen-ev.de/wp-content/uploads/2024/07/2-e1732721667421.jpeg
GEO:48.164854418235;11.554277501613
X-APPLE-STRUCTURED-LOCATION;VALUE=URI;X-ADDRESS=EKS 15 Elisabeth-Kohn-Str. 15 München 80797 Germany;X-APPLE-RADIUS=500;X-TITLE=Elisabeth-Kohn-Str. 15:geo:11.554277501613,48.164854418235
END:VEVENT
BEGIN:VEVENT
DTSTART;TZID=Europe/Berlin:20241009T183000
DTEND;TZID=Europe/Berlin:20241009T193000
DTSTAMP:20260423T141354
CREATED:20240710T100607Z
LAST-MODIFIED:20241127T153436Z
UID:10008757-1728498600-1728502200@ackermannbogen-ev.de
SUMMARY:Let´s Move - Tanz-Fitness für Erwachsene
DESCRIPTION:Kursleitung: Sonja Werner\, Tanzpädagogin\, Tel. 0171-831 18 76\n(gerne auch per SMS oder WhatsApp) \n18:30 - 19:30 Uhr - Let´s Move - Tanz-Fitness für Erwachsene (3 x im Monat im Raum + 1 x im Monat outdoor)
URL:https://ackermannbogen-ev.de/programm/lets-move-tanz-fitness-fuer-erwachsene/2024-10-09/
LOCATION:EKS 15\, Elisabeth-Kohn-Str. 15\, München\, 80797\, Germany
CATEGORIES:Tanz & Bewegung
ATTACH;FMTTYPE=image/jpeg:https://ackermannbogen-ev.de/wp-content/uploads/2024/07/2-e1732721667421.jpeg
GEO:48.164854418235;11.554277501613
X-APPLE-STRUCTURED-LOCATION;VALUE=URI;X-ADDRESS=EKS 15 Elisabeth-Kohn-Str. 15 München 80797 Germany;X-APPLE-RADIUS=500;X-TITLE=Elisabeth-Kohn-Str. 15:geo:11.554277501613,48.164854418235
END:VEVENT
BEGIN:VEVENT
DTSTART;TZID=Europe/Berlin:20241016T183000
DTEND;TZID=Europe/Berlin:20241016T193000
DTSTAMP:20260423T141354
CREATED:20240710T100607Z
LAST-MODIFIED:20241127T153436Z
UID:10008758-1729103400-1729107000@ackermannbogen-ev.de
SUMMARY:Let´s Move - Tanz-Fitness für Erwachsene
DESCRIPTION:Kursleitung: Sonja Werner\, Tanzpädagogin\, Tel. 0171-831 18 76\n(gerne auch per SMS oder WhatsApp) \n18:30 - 19:30 Uhr - Let´s Move - Tanz-Fitness für Erwachsene (3 x im Monat im Raum + 1 x im Monat outdoor)
URL:https://ackermannbogen-ev.de/programm/lets-move-tanz-fitness-fuer-erwachsene/2024-10-16/
LOCATION:EKS 15\, Elisabeth-Kohn-Str. 15\, München\, 80797\, Germany
CATEGORIES:Tanz & Bewegung
ATTACH;FMTTYPE=image/jpeg:https://ackermannbogen-ev.de/wp-content/uploads/2024/07/2-e1732721667421.jpeg
GEO:48.164854418235;11.554277501613
X-APPLE-STRUCTURED-LOCATION;VALUE=URI;X-ADDRESS=EKS 15 Elisabeth-Kohn-Str. 15 München 80797 Germany;X-APPLE-RADIUS=500;X-TITLE=Elisabeth-Kohn-Str. 15:geo:11.554277501613,48.164854418235
END:VEVENT
BEGIN:VEVENT
DTSTART;TZID=Europe/Berlin:20241023T183000
DTEND;TZID=Europe/Berlin:20241023T193000
DTSTAMP:20260423T141354
CREATED:20240710T100607Z
LAST-MODIFIED:20241127T153436Z
UID:10008759-1729708200-1729711800@ackermannbogen-ev.de
SUMMARY:Let´s Move - Tanz-Fitness für Erwachsene
DESCRIPTION:Kursleitung: Sonja Werner\, Tanzpädagogin\, Tel. 0171-831 18 76\n(gerne auch per SMS oder WhatsApp) \n18:30 - 19:30 Uhr - Let´s Move - Tanz-Fitness für Erwachsene (3 x im Monat im Raum + 1 x im Monat outdoor)
URL:https://ackermannbogen-ev.de/programm/lets-move-tanz-fitness-fuer-erwachsene/2024-10-23/
LOCATION:EKS 15\, Elisabeth-Kohn-Str. 15\, München\, 80797\, Germany
CATEGORIES:Tanz & Bewegung
ATTACH;FMTTYPE=image/jpeg:https://ackermannbogen-ev.de/wp-content/uploads/2024/07/2-e1732721667421.jpeg
GEO:48.164854418235;11.554277501613
X-APPLE-STRUCTURED-LOCATION;VALUE=URI;X-ADDRESS=EKS 15 Elisabeth-Kohn-Str. 15 München 80797 Germany;X-APPLE-RADIUS=500;X-TITLE=Elisabeth-Kohn-Str. 15:geo:11.554277501613,48.164854418235
END:VEVENT
END:VCALENDAR