BEGIN:VCALENDAR
VERSION:2.0
PRODID:-//Ackermannbogen e.V. - ECPv6.15.20//NONSGML v1.0//EN
CALSCALE:GREGORIAN
METHOD:PUBLISH
X-ORIGINAL-URL:https://ackermannbogen-ev.de
X-WR-CALDESC:Veranstaltungen für Ackermannbogen e.V.
REFRESH-INTERVAL;VALUE=DURATION:PT1H
X-Robots-Tag:noindex
X-PUBLISHED-TTL:PT1H
BEGIN:VTIMEZONE
TZID:Europe/Berlin
BEGIN:DAYLIGHT
TZOFFSETFROM:+0100
TZOFFSETTO:+0200
TZNAME:CEST
DTSTART:20250330T010000
END:DAYLIGHT
BEGIN:STANDARD
TZOFFSETFROM:+0200
TZOFFSETTO:+0100
TZNAME:CET
DTSTART:20251026T010000
END:STANDARD
BEGIN:DAYLIGHT
TZOFFSETFROM:+0100
TZOFFSETTO:+0200
TZNAME:CEST
DTSTART:20260329T010000
END:DAYLIGHT
BEGIN:STANDARD
TZOFFSETFROM:+0200
TZOFFSETTO:+0100
TZNAME:CET
DTSTART:20261025T010000
END:STANDARD
BEGIN:DAYLIGHT
TZOFFSETFROM:+0100
TZOFFSETTO:+0200
TZNAME:CEST
DTSTART:20270328T010000
END:DAYLIGHT
BEGIN:STANDARD
TZOFFSETFROM:+0200
TZOFFSETTO:+0100
TZNAME:CET
DTSTART:20271031T010000
END:STANDARD
END:VTIMEZONE
BEGIN:VEVENT
DTSTART;TZID=Europe/Berlin:20260421T160000
DTEND;TZID=Europe/Berlin:20260421T170000
DTSTAMP:20260421T165626
CREATED:20250728T145918Z
LAST-MODIFIED:20260330T105430Z
UID:10011453-1776787200-1776790800@ackermannbogen-ev.de
SUMMARY:Kindertanzen
DESCRIPTION:Die Kinder werden spielerisch an die Techniken des klassischen und modernen Tanzes herangeführt\, gleichzeitig werden Koordination\, Musikalität und Rhythmusgefühl geschult.\nKursleitung: Sonja Werner\, Tanzpädagogin\, Tel. 0171-831 18 76\nElisabeth-Kohn-Str. 15\n(gerne auch per SMS oder WhatsApp) \n16 - 16.45 Uhr Kindertanzen \nKurseinteilung nach Bedarf und Alter
URL:https://ackermannbogen-ev.de/programm/hip-hop-kinder-4-5-klasse-2/2026-04-21/
LOCATION:EKS 15\, Elisabeth-Kohn-Str. 15\, München\, 80797\, Germany
CATEGORIES:Tanz & Bewegung
ATTACH;FMTTYPE=image/jpeg:https://ackermannbogen-ev.de/wp-content/uploads/2024/03/Kindertanzen-e1711549710550.jpg
ORGANIZER;CN="NachbarschaftsB%C3%B6rse":MAILTO:nachbarschaftsboerse@ackermannbogen-ev.de
GEO:48.164854418235;11.554277501613
X-APPLE-STRUCTURED-LOCATION;VALUE=URI;X-ADDRESS=EKS 15 Elisabeth-Kohn-Str. 15 München 80797 Germany;X-APPLE-RADIUS=500;X-TITLE=Elisabeth-Kohn-Str. 15:geo:11.554277501613,48.164854418235
END:VEVENT
BEGIN:VEVENT
DTSTART;TZID=Europe/Berlin:20260421T170000
DTEND;TZID=Europe/Berlin:20260421T180000
DTSTAMP:20260421T165626
CREATED:20250728T150532Z
LAST-MODIFIED:20250912T112547Z
UID:10011545-1776790800-1776794400@ackermannbogen-ev.de
SUMMARY:17 - 18 Uhr Hip Hop Teens (7./8. Klasse)
DESCRIPTION:Hip Hop: Hier werden coole Moves geübt\, kurze Schrittabfolgen getanzt\, gedehnt und zum Schluss auch eine Choreografie einstudiert.\nKursleitung: Sonja Werner\, Tanzpädagogin\, Tel. 0171-831 18 76\nElisabeth-Kohn-Str. 15\n(gerne auch per SMS oder WhatsApp)\nKurseinteilung nach Bedarf und Alter \n17 - 18 Uhr Hip Hop Teens (7./8. Klasse) \n 
URL:https://ackermannbogen-ev.de/programm/17-18-uhr-hip-hop-teens-7-8-klasse/2026-04-21/
LOCATION:EKS 15\, Elisabeth-Kohn-Str. 15\, München\, 80797\, Germany
CATEGORIES:Tanz & Bewegung
ATTACH;FMTTYPE=image/jpeg:https://ackermannbogen-ev.de/wp-content/uploads/2025/07/HipHop-1-e1757676314281.jpg
ORGANIZER;CN="NachbarschaftsB%C3%B6rse":MAILTO:nachbarschaftsboerse@ackermannbogen-ev.de
GEO:48.164854418235;11.554277501613
X-APPLE-STRUCTURED-LOCATION;VALUE=URI;X-ADDRESS=EKS 15 Elisabeth-Kohn-Str. 15 München 80797 Germany;X-APPLE-RADIUS=500;X-TITLE=Elisabeth-Kohn-Str. 15:geo:11.554277501613,48.164854418235
END:VEVENT
BEGIN:VEVENT
DTSTART;TZID=Europe/Berlin:20260422T160000
DTEND;TZID=Europe/Berlin:20260422T170000
DTSTAMP:20260421T165626
CREATED:20250912T113304Z
LAST-MODIFIED:20250917T151508Z
UID:10011841-1776873600-1776877200@ackermannbogen-ev.de
SUMMARY:Kindertanzen
DESCRIPTION:Die Kinder werden spielerisch an die Techniken des klassischen und modernen Tanzes herangeführt\, gleichzeitig werden Koordination\, Musikalität und Rhythmusgefühl geschult.\nKursleitung: Sonja Werner\, Tanzpädagogin\, Tel. 0171-831 18 76\nElisabeth-Kohn-Str. 15 \n(gerne auch per SMS oder WhatsApp) \n16-16.45 Uhr \nKurseinteilung nach Bedarf und Alter
URL:https://ackermannbogen-ev.de/programm/kindertanzen/2026-04-22/
LOCATION:EKS 15\, Elisabeth-Kohn-Str. 15\, München\, 80797\, Germany
CATEGORIES:Tanz & Bewegung
ATTACH;FMTTYPE=image/jpeg:https://ackermannbogen-ev.de/wp-content/uploads/2024/03/Kindertanzen-e1711549710550.jpg
ORGANIZER;CN="NachbarschaftsB%C3%B6rse":MAILTO:nachbarschaftsboerse@ackermannbogen-ev.de
GEO:48.164854418235;11.554277501613
X-APPLE-STRUCTURED-LOCATION;VALUE=URI;X-ADDRESS=EKS 15 Elisabeth-Kohn-Str. 15 München 80797 Germany;X-APPLE-RADIUS=500;X-TITLE=Elisabeth-Kohn-Str. 15:geo:11.554277501613,48.164854418235
END:VEVENT
BEGIN:VEVENT
DTSTART;TZID=Europe/Berlin:20260422T170000
DTEND;TZID=Europe/Berlin:20260422T173000
DTSTAMP:20260421T165626
CREATED:20250912T114155Z
LAST-MODIFIED:20251210T140309Z
UID:10011878-1776877200-1776879000@ackermannbogen-ev.de
SUMMARY:Hip Hop (Kinder der 1. / 2. Klasse)
DESCRIPTION:Hip Hop: Hier werden coole Moves geübt\, kurze Schrittabfolgen getanzt\, gedehnt und zum Schluss auch eine Choreografie einstudiert.\nKursleitung: Sonja Werner\, Tanzpädagogin\, Tel. 0171-831 18 76\n(gerne auch per SMS oder WhatsApp) \n16:45 - 17:30 Uhr - Hip Hop (Kinder der 1./2. Klasse) \nKurseinteilung nach Bedarf und Alter
URL:https://ackermannbogen-ev.de/programm/hip-hop-kinder-der-1-2-klasse/2026-04-22/
LOCATION:EKS 15\, Elisabeth-Kohn-Str. 15\, München\, 80797\, Germany
CATEGORIES:Tanz & Bewegung
ATTACH;FMTTYPE=image/jpeg:https://ackermannbogen-ev.de/wp-content/uploads/2025/09/HipHop-10.12.2025-e1765375200829.jpg
GEO:48.164854418235;11.554277501613
X-APPLE-STRUCTURED-LOCATION;VALUE=URI;X-ADDRESS=EKS 15 Elisabeth-Kohn-Str. 15 München 80797 Germany;X-APPLE-RADIUS=500;X-TITLE=Elisabeth-Kohn-Str. 15:geo:11.554277501613,48.164854418235
END:VEVENT
BEGIN:VEVENT
DTSTART;TZID=Europe/Berlin:20260422T173000
DTEND;TZID=Europe/Berlin:20260422T183000
DTSTAMP:20260421T165626
CREATED:20250912T115529Z
LAST-MODIFIED:20260330T111526Z
UID:10011915-1776879000-1776882600@ackermannbogen-ev.de
SUMMARY:Hip Hop Teenies ab 15 Jahre
DESCRIPTION:Hip Hop: Hier werden coole Moves geübt\, kurze Schrittabfolgen getanzt\, gedehnt und zum Schluss auch eine Choreografie einstudiert.\nKursleitung: Sonja Werner\, Tanzpädagogin\, Tel. 0171-831 18 76\n(gerne auch per SMS oder WhatsApp) \n17:30 - 18:30 Uhr - Hip Hop Teenies ab 15 Jahre\nKurseinteilung nach Bedarf und Alter
URL:https://ackermannbogen-ev.de/programm/hip-hop-teenies-ab-15-jahre/2026-04-22/
LOCATION:EKS 15\, Elisabeth-Kohn-Str. 15\, München\, 80797\, Germany
CATEGORIES:Tanz & Bewegung
ATTACH;FMTTYPE=image/jpeg:https://ackermannbogen-ev.de/wp-content/uploads/2025/07/HipHop-1-e1757676314281.jpg
ORGANIZER;CN="NachbarschaftsB%C3%B6rse":MAILTO:nachbarschaftsboerse@ackermannbogen-ev.de
GEO:48.164854418235;11.554277501613
X-APPLE-STRUCTURED-LOCATION;VALUE=URI;X-ADDRESS=EKS 15 Elisabeth-Kohn-Str. 15 München 80797 Germany;X-APPLE-RADIUS=500;X-TITLE=Elisabeth-Kohn-Str. 15:geo:11.554277501613,48.164854418235
END:VEVENT
BEGIN:VEVENT
DTSTART;TZID=Europe/Berlin:20260423T150000
DTEND;TZID=Europe/Berlin:20260423T160000
DTSTAMP:20260421T165626
CREATED:20250912T172725Z
LAST-MODIFIED:20251031T091304Z
UID:10012015-1776956400-1776960000@ackermannbogen-ev.de
SUMMARY:Kindertanzen
DESCRIPTION:Die Kinder werden spielerisch an die Techniken des klassischen und modernen Tanzes herangeführt\, gleichzeitig werden Koordination\, Musikalität und Rhythmusgefühl geschult.\nKursleitung: Sonja Werner\, Tanzpädagogin\, Tel. 0171-831 18 76\n(gerne auch per SMS oder WhatsApp)\nKurseinteilung nach Bedarf und Alter\n15.00 – 16.00 Uhr Kindertanzen für ca. 3\,5 – 6jährige \n15:10 - 15:55 Uhr Kindertanzen
URL:https://ackermannbogen-ev.de/programm/kindertanzen-2/2026-04-23/
LOCATION:EKS 15\, Elisabeth-Kohn-Str. 15\, München\, 80797\, Germany
CATEGORIES:Tanz & Bewegung
ATTACH;FMTTYPE=image/jpeg:https://ackermannbogen-ev.de/wp-content/uploads/2024/03/Kindertanzen-e1711549710550.jpg
ORGANIZER;CN="NachbarschaftsB%C3%B6rse":MAILTO:nachbarschaftsboerse@ackermannbogen-ev.de
GEO:48.164854418235;11.554277501613
X-APPLE-STRUCTURED-LOCATION;VALUE=URI;X-ADDRESS=EKS 15 Elisabeth-Kohn-Str. 15 München 80797 Germany;X-APPLE-RADIUS=500;X-TITLE=Elisabeth-Kohn-Str. 15:geo:11.554277501613,48.164854418235
END:VEVENT
BEGIN:VEVENT
DTSTART;TZID=Europe/Berlin:20260423T160000
DTEND;TZID=Europe/Berlin:20260423T170000
DTSTAMP:20260421T165626
CREATED:20250912T173429Z
LAST-MODIFIED:20251210T140019Z
UID:10012052-1776960000-1776963600@ackermannbogen-ev.de
SUMMARY:Hip Hop (Kinder 5. Klasse)
DESCRIPTION:Hip Hop: Hier werden coole Moves geübt\, kurze Schrittabfolgen getanzt\, gedehnt und zum Schluss auch eine Choreografie einstudiert.\nKursleitung: Sonja Werner\, Tanzpädagogin\, Tel. 0171-831 18 76\n(gerne auch per SMS oder WhatsApp)\nKurseinteilung nach Bedarf und Alter \n16 - 17 Uhr Hip Hop (Kinder 5. Klasse)
URL:https://ackermannbogen-ev.de/programm/hip-hop-kinder-5-klasse/2026-04-23/
LOCATION:EKS 15\, Elisabeth-Kohn-Str. 15\, München\, 80797\, Germany
CATEGORIES:Tanz & Bewegung
ATTACH;FMTTYPE=image/jpeg:https://ackermannbogen-ev.de/wp-content/uploads/2025/09/HipHop-10.12.2025-e1765375200829.jpg
ORGANIZER;CN="NachbarschaftsB%C3%B6rse":MAILTO:nachbarschaftsboerse@ackermannbogen-ev.de
GEO:48.164854418235;11.554277501613
X-APPLE-STRUCTURED-LOCATION;VALUE=URI;X-ADDRESS=EKS 15 Elisabeth-Kohn-Str. 15 München 80797 Germany;X-APPLE-RADIUS=500;X-TITLE=Elisabeth-Kohn-Str. 15:geo:11.554277501613,48.164854418235
END:VEVENT
BEGIN:VEVENT
DTSTART;TZID=Europe/Berlin:20260423T170000
DTEND;TZID=Europe/Berlin:20260423T180000
DTSTAMP:20260421T165626
CREATED:20250912T173818Z
LAST-MODIFIED:20251210T154929Z
UID:10012088-1776963600-1776967200@ackermannbogen-ev.de
SUMMARY:Hip Hop (Kinder 3./4. Klasse)
DESCRIPTION:Hip Hop: Hier werden coole Moves geübt\, kurze Schrittabfolgen getanzt\, gedehnt und zum Schluss auch eine Choreografie einstudiert.\nKursleitung: Sonja Werner\, Tanzpädagogin\, Tel. 0171-831 18 76\nElisabeth-Kohn-Str. 15\n(gerne auch per SMS oder WhatsApp) \n16 - 17 Uhr  -  Hip Hop (Kinder der 3./4. Klasse) \nKurseinteilung nach Bedarf und Alter \n 
URL:https://ackermannbogen-ev.de/programm/hip-hop-kinder-3-4-klasse/2026-04-23/
LOCATION:EKS 15\, Elisabeth-Kohn-Str. 15\, München\, 80797\, Germany
CATEGORIES:Tanz & Bewegung
ATTACH;FMTTYPE=image/jpeg:https://ackermannbogen-ev.de/wp-content/uploads/2025/09/hip-hop-e1765381753343.jpg
ORGANIZER;CN="NachbarschaftsB%C3%B6rse":MAILTO:nachbarschaftsboerse@ackermannbogen-ev.de
GEO:48.164854418235;11.554277501613
X-APPLE-STRUCTURED-LOCATION;VALUE=URI;X-ADDRESS=EKS 15 Elisabeth-Kohn-Str. 15 München 80797 Germany;X-APPLE-RADIUS=500;X-TITLE=Elisabeth-Kohn-Str. 15:geo:11.554277501613,48.164854418235
END:VEVENT
BEGIN:VEVENT
DTSTART;TZID=Europe/Berlin:20260428T160000
DTEND;TZID=Europe/Berlin:20260428T170000
DTSTAMP:20260421T165626
CREATED:20250728T145918Z
LAST-MODIFIED:20260330T105430Z
UID:10011454-1777392000-1777395600@ackermannbogen-ev.de
SUMMARY:Kindertanzen
DESCRIPTION:Die Kinder werden spielerisch an die Techniken des klassischen und modernen Tanzes herangeführt\, gleichzeitig werden Koordination\, Musikalität und Rhythmusgefühl geschult.\nKursleitung: Sonja Werner\, Tanzpädagogin\, Tel. 0171-831 18 76\nElisabeth-Kohn-Str. 15\n(gerne auch per SMS oder WhatsApp) \n16 - 16.45 Uhr Kindertanzen \nKurseinteilung nach Bedarf und Alter
URL:https://ackermannbogen-ev.de/programm/hip-hop-kinder-4-5-klasse-2/2026-04-28/
LOCATION:EKS 15\, Elisabeth-Kohn-Str. 15\, München\, 80797\, Germany
CATEGORIES:Tanz & Bewegung
ATTACH;FMTTYPE=image/jpeg:https://ackermannbogen-ev.de/wp-content/uploads/2024/03/Kindertanzen-e1711549710550.jpg
ORGANIZER;CN="NachbarschaftsB%C3%B6rse":MAILTO:nachbarschaftsboerse@ackermannbogen-ev.de
GEO:48.164854418235;11.554277501613
X-APPLE-STRUCTURED-LOCATION;VALUE=URI;X-ADDRESS=EKS 15 Elisabeth-Kohn-Str. 15 München 80797 Germany;X-APPLE-RADIUS=500;X-TITLE=Elisabeth-Kohn-Str. 15:geo:11.554277501613,48.164854418235
END:VEVENT
BEGIN:VEVENT
DTSTART;TZID=Europe/Berlin:20260428T170000
DTEND;TZID=Europe/Berlin:20260428T180000
DTSTAMP:20260421T165626
CREATED:20250728T150532Z
LAST-MODIFIED:20250912T112547Z
UID:10011546-1777395600-1777399200@ackermannbogen-ev.de
SUMMARY:17 - 18 Uhr Hip Hop Teens (7./8. Klasse)
DESCRIPTION:Hip Hop: Hier werden coole Moves geübt\, kurze Schrittabfolgen getanzt\, gedehnt und zum Schluss auch eine Choreografie einstudiert.\nKursleitung: Sonja Werner\, Tanzpädagogin\, Tel. 0171-831 18 76\nElisabeth-Kohn-Str. 15\n(gerne auch per SMS oder WhatsApp)\nKurseinteilung nach Bedarf und Alter \n17 - 18 Uhr Hip Hop Teens (7./8. Klasse) \n 
URL:https://ackermannbogen-ev.de/programm/17-18-uhr-hip-hop-teens-7-8-klasse/2026-04-28/
LOCATION:EKS 15\, Elisabeth-Kohn-Str. 15\, München\, 80797\, Germany
CATEGORIES:Tanz & Bewegung
ATTACH;FMTTYPE=image/jpeg:https://ackermannbogen-ev.de/wp-content/uploads/2025/07/HipHop-1-e1757676314281.jpg
ORGANIZER;CN="NachbarschaftsB%C3%B6rse":MAILTO:nachbarschaftsboerse@ackermannbogen-ev.de
GEO:48.164854418235;11.554277501613
X-APPLE-STRUCTURED-LOCATION;VALUE=URI;X-ADDRESS=EKS 15 Elisabeth-Kohn-Str. 15 München 80797 Germany;X-APPLE-RADIUS=500;X-TITLE=Elisabeth-Kohn-Str. 15:geo:11.554277501613,48.164854418235
END:VEVENT
BEGIN:VEVENT
DTSTART;TZID=Europe/Berlin:20260429T160000
DTEND;TZID=Europe/Berlin:20260429T170000
DTSTAMP:20260421T165626
CREATED:20250912T113304Z
LAST-MODIFIED:20250917T151508Z
UID:10011842-1777478400-1777482000@ackermannbogen-ev.de
SUMMARY:Kindertanzen
DESCRIPTION:Die Kinder werden spielerisch an die Techniken des klassischen und modernen Tanzes herangeführt\, gleichzeitig werden Koordination\, Musikalität und Rhythmusgefühl geschult.\nKursleitung: Sonja Werner\, Tanzpädagogin\, Tel. 0171-831 18 76\nElisabeth-Kohn-Str. 15 \n(gerne auch per SMS oder WhatsApp) \n16-16.45 Uhr \nKurseinteilung nach Bedarf und Alter
URL:https://ackermannbogen-ev.de/programm/kindertanzen/2026-04-29/
LOCATION:EKS 15\, Elisabeth-Kohn-Str. 15\, München\, 80797\, Germany
CATEGORIES:Tanz & Bewegung
ATTACH;FMTTYPE=image/jpeg:https://ackermannbogen-ev.de/wp-content/uploads/2024/03/Kindertanzen-e1711549710550.jpg
ORGANIZER;CN="NachbarschaftsB%C3%B6rse":MAILTO:nachbarschaftsboerse@ackermannbogen-ev.de
GEO:48.164854418235;11.554277501613
X-APPLE-STRUCTURED-LOCATION;VALUE=URI;X-ADDRESS=EKS 15 Elisabeth-Kohn-Str. 15 München 80797 Germany;X-APPLE-RADIUS=500;X-TITLE=Elisabeth-Kohn-Str. 15:geo:11.554277501613,48.164854418235
END:VEVENT
BEGIN:VEVENT
DTSTART;TZID=Europe/Berlin:20260429T170000
DTEND;TZID=Europe/Berlin:20260429T173000
DTSTAMP:20260421T165626
CREATED:20250912T114155Z
LAST-MODIFIED:20251210T140309Z
UID:10011879-1777482000-1777483800@ackermannbogen-ev.de
SUMMARY:Hip Hop (Kinder der 1. / 2. Klasse)
DESCRIPTION:Hip Hop: Hier werden coole Moves geübt\, kurze Schrittabfolgen getanzt\, gedehnt und zum Schluss auch eine Choreografie einstudiert.\nKursleitung: Sonja Werner\, Tanzpädagogin\, Tel. 0171-831 18 76\n(gerne auch per SMS oder WhatsApp) \n16:45 - 17:30 Uhr - Hip Hop (Kinder der 1./2. Klasse) \nKurseinteilung nach Bedarf und Alter
URL:https://ackermannbogen-ev.de/programm/hip-hop-kinder-der-1-2-klasse/2026-04-29/
LOCATION:EKS 15\, Elisabeth-Kohn-Str. 15\, München\, 80797\, Germany
CATEGORIES:Tanz & Bewegung
ATTACH;FMTTYPE=image/jpeg:https://ackermannbogen-ev.de/wp-content/uploads/2025/09/HipHop-10.12.2025-e1765375200829.jpg
GEO:48.164854418235;11.554277501613
X-APPLE-STRUCTURED-LOCATION;VALUE=URI;X-ADDRESS=EKS 15 Elisabeth-Kohn-Str. 15 München 80797 Germany;X-APPLE-RADIUS=500;X-TITLE=Elisabeth-Kohn-Str. 15:geo:11.554277501613,48.164854418235
END:VEVENT
BEGIN:VEVENT
DTSTART;TZID=Europe/Berlin:20260429T173000
DTEND;TZID=Europe/Berlin:20260429T183000
DTSTAMP:20260421T165626
CREATED:20250912T115529Z
LAST-MODIFIED:20260330T111526Z
UID:10011916-1777483800-1777487400@ackermannbogen-ev.de
SUMMARY:Hip Hop Teenies ab 15 Jahre
DESCRIPTION:Hip Hop: Hier werden coole Moves geübt\, kurze Schrittabfolgen getanzt\, gedehnt und zum Schluss auch eine Choreografie einstudiert.\nKursleitung: Sonja Werner\, Tanzpädagogin\, Tel. 0171-831 18 76\n(gerne auch per SMS oder WhatsApp) \n17:30 - 18:30 Uhr - Hip Hop Teenies ab 15 Jahre\nKurseinteilung nach Bedarf und Alter
URL:https://ackermannbogen-ev.de/programm/hip-hop-teenies-ab-15-jahre/2026-04-29/
LOCATION:EKS 15\, Elisabeth-Kohn-Str. 15\, München\, 80797\, Germany
CATEGORIES:Tanz & Bewegung
ATTACH;FMTTYPE=image/jpeg:https://ackermannbogen-ev.de/wp-content/uploads/2025/07/HipHop-1-e1757676314281.jpg
ORGANIZER;CN="NachbarschaftsB%C3%B6rse":MAILTO:nachbarschaftsboerse@ackermannbogen-ev.de
GEO:48.164854418235;11.554277501613
X-APPLE-STRUCTURED-LOCATION;VALUE=URI;X-ADDRESS=EKS 15 Elisabeth-Kohn-Str. 15 München 80797 Germany;X-APPLE-RADIUS=500;X-TITLE=Elisabeth-Kohn-Str. 15:geo:11.554277501613,48.164854418235
END:VEVENT
BEGIN:VEVENT
DTSTART;TZID=Europe/Berlin:20260430T150000
DTEND;TZID=Europe/Berlin:20260430T160000
DTSTAMP:20260421T165626
CREATED:20250912T172725Z
LAST-MODIFIED:20251031T091304Z
UID:10012016-1777561200-1777564800@ackermannbogen-ev.de
SUMMARY:Kindertanzen
DESCRIPTION:Die Kinder werden spielerisch an die Techniken des klassischen und modernen Tanzes herangeführt\, gleichzeitig werden Koordination\, Musikalität und Rhythmusgefühl geschult.\nKursleitung: Sonja Werner\, Tanzpädagogin\, Tel. 0171-831 18 76\n(gerne auch per SMS oder WhatsApp)\nKurseinteilung nach Bedarf und Alter\n15.00 – 16.00 Uhr Kindertanzen für ca. 3\,5 – 6jährige \n15:10 - 15:55 Uhr Kindertanzen
URL:https://ackermannbogen-ev.de/programm/kindertanzen-2/2026-04-30/
LOCATION:EKS 15\, Elisabeth-Kohn-Str. 15\, München\, 80797\, Germany
CATEGORIES:Tanz & Bewegung
ATTACH;FMTTYPE=image/jpeg:https://ackermannbogen-ev.de/wp-content/uploads/2024/03/Kindertanzen-e1711549710550.jpg
ORGANIZER;CN="NachbarschaftsB%C3%B6rse":MAILTO:nachbarschaftsboerse@ackermannbogen-ev.de
GEO:48.164854418235;11.554277501613
X-APPLE-STRUCTURED-LOCATION;VALUE=URI;X-ADDRESS=EKS 15 Elisabeth-Kohn-Str. 15 München 80797 Germany;X-APPLE-RADIUS=500;X-TITLE=Elisabeth-Kohn-Str. 15:geo:11.554277501613,48.164854418235
END:VEVENT
BEGIN:VEVENT
DTSTART;TZID=Europe/Berlin:20260430T160000
DTEND;TZID=Europe/Berlin:20260430T170000
DTSTAMP:20260421T165626
CREATED:20250912T173429Z
LAST-MODIFIED:20251210T140019Z
UID:10012053-1777564800-1777568400@ackermannbogen-ev.de
SUMMARY:Hip Hop (Kinder 5. Klasse)
DESCRIPTION:Hip Hop: Hier werden coole Moves geübt\, kurze Schrittabfolgen getanzt\, gedehnt und zum Schluss auch eine Choreografie einstudiert.\nKursleitung: Sonja Werner\, Tanzpädagogin\, Tel. 0171-831 18 76\n(gerne auch per SMS oder WhatsApp)\nKurseinteilung nach Bedarf und Alter \n16 - 17 Uhr Hip Hop (Kinder 5. Klasse)
URL:https://ackermannbogen-ev.de/programm/hip-hop-kinder-5-klasse/2026-04-30/
LOCATION:EKS 15\, Elisabeth-Kohn-Str. 15\, München\, 80797\, Germany
CATEGORIES:Tanz & Bewegung
ATTACH;FMTTYPE=image/jpeg:https://ackermannbogen-ev.de/wp-content/uploads/2025/09/HipHop-10.12.2025-e1765375200829.jpg
ORGANIZER;CN="NachbarschaftsB%C3%B6rse":MAILTO:nachbarschaftsboerse@ackermannbogen-ev.de
GEO:48.164854418235;11.554277501613
X-APPLE-STRUCTURED-LOCATION;VALUE=URI;X-ADDRESS=EKS 15 Elisabeth-Kohn-Str. 15 München 80797 Germany;X-APPLE-RADIUS=500;X-TITLE=Elisabeth-Kohn-Str. 15:geo:11.554277501613,48.164854418235
END:VEVENT
BEGIN:VEVENT
DTSTART;TZID=Europe/Berlin:20260430T170000
DTEND;TZID=Europe/Berlin:20260430T180000
DTSTAMP:20260421T165626
CREATED:20250912T173818Z
LAST-MODIFIED:20251210T154929Z
UID:10012089-1777568400-1777572000@ackermannbogen-ev.de
SUMMARY:Hip Hop (Kinder 3./4. Klasse)
DESCRIPTION:Hip Hop: Hier werden coole Moves geübt\, kurze Schrittabfolgen getanzt\, gedehnt und zum Schluss auch eine Choreografie einstudiert.\nKursleitung: Sonja Werner\, Tanzpädagogin\, Tel. 0171-831 18 76\nElisabeth-Kohn-Str. 15\n(gerne auch per SMS oder WhatsApp) \n16 - 17 Uhr  -  Hip Hop (Kinder der 3./4. Klasse) \nKurseinteilung nach Bedarf und Alter \n 
URL:https://ackermannbogen-ev.de/programm/hip-hop-kinder-3-4-klasse/2026-04-30/
LOCATION:EKS 15\, Elisabeth-Kohn-Str. 15\, München\, 80797\, Germany
CATEGORIES:Tanz & Bewegung
ATTACH;FMTTYPE=image/jpeg:https://ackermannbogen-ev.de/wp-content/uploads/2025/09/hip-hop-e1765381753343.jpg
ORGANIZER;CN="NachbarschaftsB%C3%B6rse":MAILTO:nachbarschaftsboerse@ackermannbogen-ev.de
GEO:48.164854418235;11.554277501613
X-APPLE-STRUCTURED-LOCATION;VALUE=URI;X-ADDRESS=EKS 15 Elisabeth-Kohn-Str. 15 München 80797 Germany;X-APPLE-RADIUS=500;X-TITLE=Elisabeth-Kohn-Str. 15:geo:11.554277501613,48.164854418235
END:VEVENT
END:VCALENDAR