BEGIN:VCALENDAR
VERSION:2.0
PRODID:-//Ackermannbogen e.V. - ECPv6.15.20//NONSGML v1.0//EN
CALSCALE:GREGORIAN
METHOD:PUBLISH
X-WR-CALNAME:Ackermannbogen e.V.
X-ORIGINAL-URL:https://ackermannbogen-ev.de
X-WR-CALDESC:Veranstaltungen für Ackermannbogen e.V.
REFRESH-INTERVAL;VALUE=DURATION:PT1H
X-Robots-Tag:noindex
X-PUBLISHED-TTL:PT1H
BEGIN:VTIMEZONE
TZID:Europe/Berlin
BEGIN:DAYLIGHT
TZOFFSETFROM:+0100
TZOFFSETTO:+0200
TZNAME:CEST
DTSTART:20250330T010000
END:DAYLIGHT
BEGIN:STANDARD
TZOFFSETFROM:+0200
TZOFFSETTO:+0100
TZNAME:CET
DTSTART:20251026T010000
END:STANDARD
BEGIN:DAYLIGHT
TZOFFSETFROM:+0100
TZOFFSETTO:+0200
TZNAME:CEST
DTSTART:20260329T010000
END:DAYLIGHT
BEGIN:STANDARD
TZOFFSETFROM:+0200
TZOFFSETTO:+0100
TZNAME:CET
DTSTART:20261025T010000
END:STANDARD
BEGIN:DAYLIGHT
TZOFFSETFROM:+0100
TZOFFSETTO:+0200
TZNAME:CEST
DTSTART:20270328T010000
END:DAYLIGHT
BEGIN:STANDARD
TZOFFSETFROM:+0200
TZOFFSETTO:+0100
TZNAME:CET
DTSTART:20271031T010000
END:STANDARD
END:VTIMEZONE
BEGIN:VEVENT
DTSTART;TZID=Europe/Berlin:20260327T163000
DTEND;TZID=Europe/Berlin:20260327T173000
DTSTAMP:20260423T212655
CREATED:20260304T164238Z
LAST-MODIFIED:20260305T084110Z
UID:10014310-1774629000-1774632600@ackermannbogen-ev.de
SUMMARY:Kompostier-Workshop im StadtAcker
DESCRIPTION:Humusbildung ist eines der elementarsten Wunder auf der Erde\, das sich mit der richtigen Methode leicht in Gang bringen lässt. \nGartenaktive aus dem StadtAcker zeigen in diesem Praxisworkshop das ABC des Kompostierens in urbanen Gärten. \nBitte geeignete Schuhe and bei Bedarf Handschuhe mitbringen. \nMitmachen kostet nichts. \nAnleitung: Ruth Mahla \n  \nEine Veranstaltung in Kooperation mit den Urbanen Gartenakademien München
URL:https://ackermannbogen-ev.de/programm/kompostier-workshop-im-stadtacker/
LOCATION:Im Freien - StadtAcker
CATEGORIES:_Verein Newsletter,Umwelt & Natur
ATTACH;FMTTYPE=image/jpeg:https://ackermannbogen-ev.de/wp-content/uploads/2026/03/IMG_20181109_161837-scaled-e1772642217605.jpg
ORGANIZER;CN="StadtNatur":MAILTO:stadtnatur@ackermannbogen-ev.de
END:VEVENT
END:VCALENDAR