BEGIN:VCALENDAR
VERSION:2.0
PRODID:-//Ackermannbogen e.V. - ECPv6.15.20//NONSGML v1.0//EN
CALSCALE:GREGORIAN
METHOD:PUBLISH
X-WR-CALNAME:Ackermannbogen e.V.
X-ORIGINAL-URL:https://ackermannbogen-ev.de
X-WR-CALDESC:Veranstaltungen für Ackermannbogen e.V.
REFRESH-INTERVAL;VALUE=DURATION:PT1H
X-Robots-Tag:noindex
X-PUBLISHED-TTL:PT1H
BEGIN:VTIMEZONE
TZID:Europe/Berlin
BEGIN:DAYLIGHT
TZOFFSETFROM:+0100
TZOFFSETTO:+0200
TZNAME:CEST
DTSTART:20240331T010000
END:DAYLIGHT
BEGIN:STANDARD
TZOFFSETFROM:+0200
TZOFFSETTO:+0100
TZNAME:CET
DTSTART:20241027T010000
END:STANDARD
BEGIN:DAYLIGHT
TZOFFSETFROM:+0100
TZOFFSETTO:+0200
TZNAME:CEST
DTSTART:20250330T010000
END:DAYLIGHT
BEGIN:STANDARD
TZOFFSETFROM:+0200
TZOFFSETTO:+0100
TZNAME:CET
DTSTART:20251026T010000
END:STANDARD
BEGIN:DAYLIGHT
TZOFFSETFROM:+0100
TZOFFSETTO:+0200
TZNAME:CEST
DTSTART:20260329T010000
END:DAYLIGHT
BEGIN:STANDARD
TZOFFSETFROM:+0200
TZOFFSETTO:+0100
TZNAME:CET
DTSTART:20261025T010000
END:STANDARD
END:VTIMEZONE
BEGIN:VEVENT
DTSTART;TZID=Europe/Berlin:20251013T093000
DTEND;TZID=Europe/Berlin:20251013T103000
DTSTAMP:20260424T112535
CREATED:20251007T123148Z
LAST-MODIFIED:20251030T151151Z
UID:10011683-1760347800-1760351400@ackermannbogen-ev.de
SUMMARY:SingStunde mit Veronika Lindner
DESCRIPTION:Singen mit Herz und Schwung \nVeronika Lindner bringt als erfahrene Singleiterin Menschen mit ihrer offenen und lebendigen Art zum Mitsingen und Mitfühlen. Ihre Singstunden sind geprägt von Leichtigkeit\, Freude und einem starken Gemeinschaftsgefühl. Gesungen wird querbeet: von Volksliedern über Kanons bis hin zu Popsongs und internationalen Melodien – ganz ohne musikalische Vorkenntnisse. \nGemeinsames Singen macht Spaß\, verbindet und setzt Glückshormone frei – eine wohltuende Pause vom Alltag.\nBei gutem Wetter im StadtAcker. \nDie Singstunden finden im Wechsel mit Regina Röhrl statt\, sodass jede Einheit ihre eigene musikalische Handschrift trägt. \n 
URL:https://ackermannbogen-ev.de/programm/singstunde-34-2-2/
LOCATION:EKS 15\, Elisabeth-Kohn-Str. 15\, München\, 80797\, Germany
CATEGORIES:Musik & Gesang
ATTACH;FMTTYPE=image/png:https://ackermannbogen-ev.de/wp-content/uploads/2025/02/SingStunde-e1740588270398.png
ORGANIZER;CN="NachbarschaftsB%C3%B6rse":MAILTO:nachbarschaftsboerse@ackermannbogen-ev.de
GEO:48.164854418235;11.554277501613
X-APPLE-STRUCTURED-LOCATION;VALUE=URI;X-ADDRESS=EKS 15 Elisabeth-Kohn-Str. 15 München 80797 Germany;X-APPLE-RADIUS=500;X-TITLE=Elisabeth-Kohn-Str. 15:geo:11.554277501613,48.164854418235
END:VEVENT
BEGIN:VEVENT
DTSTART;TZID=Europe/Berlin:20251026T160000
DTEND;TZID=Europe/Berlin:20251026T210000
DTSTAMP:20260424T112535
CREATED:20251007T150538Z
LAST-MODIFIED:20251030T150947Z
UID:10012450-1761494400-1761512400@ackermannbogen-ev.de
SUMMARY:Wurzeln feiern - Türkisches Erntefest
DESCRIPTION:Zum Abschluss der Reihe WurzelWerk – Natur\, Kultur und Herkunft feiern wir zusammen ein Fest der Vielfalt und Verbundenheit. \nDer Herbst ist eine Zeit des Erntens\, des Teilens und des Miteinanders. Mit „Wurzeln feiern“ laden wir herzlich ein zu einem bunten Fest\, das die kulturelle Vielfalt unseres Viertels sichtbar macht und die eigenen Wurzeln würdigt. \nFreuen Sie sich auf ein abwechslungsreiches Programm mit einem professionellen Karagöz- und Hacivat-Schattenspiel\, originaler türkischer Musik und traditionellen Kreistänzen. Eine mehrsprachige Vorlese-Ecke lädt Kinder und Erwachsene zum Zuhören und Mitmachen ein. \nOb mit türkischen Wurzeln oder ganz anderen Geschichten – alle sind willkommen\, mitzufeiern\, sich auszutauschen und die eigene Herkunft kreativ zu erkunden. Gemeinsam feiern wir die Wurzeln\, die uns verbinden – in der Natur\, in der Kultur und im Zusammenleben. \nDie Veranstaltung ist offen für alle und kostenfrei. Eine Anmeldung ist nicht erforderlich. \n 
URL:https://ackermannbogen-ev.de/programm/wurzeln-feiern-tuerkisches-erntefest/
LOCATION:KreativGarage Studio\, Rosa-Aschenbrenner-Bogen 9 / UG\, München\, Bayern\, 80797\, Germany
CATEGORIES:Austausch & Dialog,Kultur & Kreatives,Kunst,Musik,Musik & Gesang,Tanz,Tanz & Bewegung
ATTACH;FMTTYPE=image/jpeg:https://ackermannbogen-ev.de/wp-content/uploads/2025/10/tuerkisches-ERntefest-e1759850102473.jpg
ORGANIZER;CN="KulturB%C3%BCro":MAILTO:kulturbuero@ackermannbogen-ev.de
GEO:48.1647793;11.5585741
X-APPLE-STRUCTURED-LOCATION;VALUE=URI;X-ADDRESS=KreativGarage Studio Rosa-Aschenbrenner-Bogen 9 / UG München Bayern 80797 Germany;X-APPLE-RADIUS=500;X-TITLE=Rosa-Aschenbrenner-Bogen 9 / UG:geo:11.5585741,48.1647793
END:VEVENT
END:VCALENDAR