BEGIN:VCALENDAR
VERSION:2.0
PRODID:-//Ackermannbogen e.V. - ECPv6.15.20//NONSGML v1.0//EN
CALSCALE:GREGORIAN
METHOD:PUBLISH
X-WR-CALNAME:Ackermannbogen e.V.
X-ORIGINAL-URL:https://ackermannbogen-ev.de
X-WR-CALDESC:Veranstaltungen für Ackermannbogen e.V.
REFRESH-INTERVAL;VALUE=DURATION:PT1H
X-Robots-Tag:noindex
X-PUBLISHED-TTL:PT1H
BEGIN:VTIMEZONE
TZID:Europe/Berlin
BEGIN:DAYLIGHT
TZOFFSETFROM:+0100
TZOFFSETTO:+0200
TZNAME:CEST
DTSTART:20240331T010000
END:DAYLIGHT
BEGIN:STANDARD
TZOFFSETFROM:+0200
TZOFFSETTO:+0100
TZNAME:CET
DTSTART:20241027T010000
END:STANDARD
BEGIN:DAYLIGHT
TZOFFSETFROM:+0100
TZOFFSETTO:+0200
TZNAME:CEST
DTSTART:20250330T010000
END:DAYLIGHT
BEGIN:STANDARD
TZOFFSETFROM:+0200
TZOFFSETTO:+0100
TZNAME:CET
DTSTART:20251026T010000
END:STANDARD
BEGIN:DAYLIGHT
TZOFFSETFROM:+0100
TZOFFSETTO:+0200
TZNAME:CEST
DTSTART:20260329T010000
END:DAYLIGHT
BEGIN:STANDARD
TZOFFSETFROM:+0200
TZOFFSETTO:+0100
TZNAME:CET
DTSTART:20261025T010000
END:STANDARD
END:VTIMEZONE
BEGIN:VEVENT
DTSTART;TZID=Europe/Berlin:20251110T093000
DTEND;TZID=Europe/Berlin:20251110T103000
DTSTAMP:20260424T040639
CREATED:20250806T144055Z
LAST-MODIFIED:20251202T093742Z
UID:10011684-1762767000-1762770600@ackermannbogen-ev.de
SUMMARY:SingStunde mit Veronika Lindner
DESCRIPTION:Singen mit Herz und Schwung \nVeronika Lindner bringt als erfahrene Singleiterin Menschen mit ihrer offenen und lebendigen Art zum Mitsingen und Mitfühlen. Ihre Singstunden sind geprägt von Leichtigkeit\, Freude und einem starken Gemeinschaftsgefühl. Gesungen wird querbeet: von Volksliedern über Kanons bis hin zu Popsongs und internationalen Melodien – ganz ohne musikalische Vorkenntnisse. \nGemeinsames Singen macht Spaß\, verbindet und setzt Glückshormone frei – eine wohltuende Pause vom Alltag.\nBei gutem Wetter im StadtAcker. \nDie Singstunden finden im Wechsel mit Regina Röhrl statt\, sodass jede Einheit ihre eigene musikalische Handschrift trägt. \n 
URL:https://ackermannbogen-ev.de/programm/singstunde-34-2/2025-11-10/
LOCATION:EKS 15\, Elisabeth-Kohn-Str. 15\, München\, 80797\, Germany
CATEGORIES:Musik & Gesang
ATTACH;FMTTYPE=image/png:https://ackermannbogen-ev.de/wp-content/uploads/2025/02/SingStunde-e1740588270398.png
ORGANIZER;CN="NachbarschaftsB%C3%B6rse":MAILTO:nachbarschaftsboerse@ackermannbogen-ev.de
GEO:48.164854418235;11.554277501613
X-APPLE-STRUCTURED-LOCATION;VALUE=URI;X-ADDRESS=EKS 15 Elisabeth-Kohn-Str. 15 München 80797 Germany;X-APPLE-RADIUS=500;X-TITLE=Elisabeth-Kohn-Str. 15:geo:11.554277501613,48.164854418235
END:VEVENT
BEGIN:VEVENT
DTSTART;TZID=Europe/Berlin:20251122T210000
DTEND;TZID=Europe/Berlin:20251123T020000
DTSTAMP:20260424T040639
CREATED:20250513T073703Z
LAST-MODIFIED:20251031T090830Z
UID:10011064-1763845200-1763863200@ackermannbogen-ev.de
SUMMARY:tanzbar – DIE Party im Ackermannbogen
DESCRIPTION:Herbstparty\nam Samstag\, dem 22. November 2025\, ab 21 Uhr.\nMit bewährtem Barbetrieb\, tanzbarer Musik von unseren DJs \nAuf die ersten Gäste warten Begrüßungsschmankerl.\nSchon das Spotify-Profil tanzbar@home besucht? \nDas tanzbar-Team freut sich auf euch! \n 
URL:https://ackermannbogen-ev.de/programm/tanzbar-die-party-im-ackermannbogen-2/
LOCATION:KreativGarage Studio\, Rosa-Aschenbrenner-Bogen 9 / UG\, München\, Bayern\, 80797\, Germany
CATEGORIES:Kultur & Kreatives,Musik,Tanz,Tanz & Bewegung
ATTACH;FMTTYPE=image/png:https://ackermannbogen-ev.de/wp-content/uploads/2024/03/Screenshot_20240920-125541-e1726829909861.png
ORGANIZER;CN="KulturB%C3%BCro":MAILTO:kulturbuero@ackermannbogen-ev.de
GEO:48.1647793;11.5585741
X-APPLE-STRUCTURED-LOCATION;VALUE=URI;X-ADDRESS=KreativGarage Studio Rosa-Aschenbrenner-Bogen 9 / UG München Bayern 80797 Germany;X-APPLE-RADIUS=500;X-TITLE=Rosa-Aschenbrenner-Bogen 9 / UG:geo:11.5585741,48.1647793
END:VEVENT
END:VCALENDAR