BEGIN:VCALENDAR
VERSION:2.0
PRODID:-//Ackermannbogen e.V. - ECPv6.15.20//NONSGML v1.0//EN
CALSCALE:GREGORIAN
METHOD:PUBLISH
X-ORIGINAL-URL:https://ackermannbogen-ev.de
X-WR-CALDESC:Veranstaltungen für Ackermannbogen e.V.
REFRESH-INTERVAL;VALUE=DURATION:PT1H
X-Robots-Tag:noindex
X-PUBLISHED-TTL:PT1H
BEGIN:VTIMEZONE
TZID:Europe/Berlin
BEGIN:DAYLIGHT
TZOFFSETFROM:+0100
TZOFFSETTO:+0200
TZNAME:CEST
DTSTART:20250330T010000
END:DAYLIGHT
BEGIN:STANDARD
TZOFFSETFROM:+0200
TZOFFSETTO:+0100
TZNAME:CET
DTSTART:20251026T010000
END:STANDARD
BEGIN:DAYLIGHT
TZOFFSETFROM:+0100
TZOFFSETTO:+0200
TZNAME:CEST
DTSTART:20260329T010000
END:DAYLIGHT
BEGIN:STANDARD
TZOFFSETFROM:+0200
TZOFFSETTO:+0100
TZNAME:CET
DTSTART:20261025T010000
END:STANDARD
BEGIN:DAYLIGHT
TZOFFSETFROM:+0100
TZOFFSETTO:+0200
TZNAME:CEST
DTSTART:20270328T010000
END:DAYLIGHT
BEGIN:STANDARD
TZOFFSETFROM:+0200
TZOFFSETTO:+0100
TZNAME:CET
DTSTART:20271031T010000
END:STANDARD
END:VTIMEZONE
BEGIN:VEVENT
DTSTART;TZID=Europe/Berlin:20260324T193000
DTEND;TZID=Europe/Berlin:20260324T203000
DTSTAMP:20260424T082237
CREATED:20260304T121848Z
LAST-MODIFIED:20260323T082700Z
UID:10013020-1774380600-1774384200@ackermannbogen-ev.de
SUMMARY:Abgesagt! Vorstellung der Ergebnisse aus der Nachbarschaftsbefragung
DESCRIPTION:Wegen zu wenig Anmeldungen findet die Veranstaltung nicht statt!\nManches erwartbar\, manches überraschend...\n\n\n\n\n\n\n\n\n\n\n\n\nIm Rahmen unseres Jubiläumsjahres hatten wir Ende 2025 eine online-Nachbarschaftsbefragung durchgeführt. Insgesamt haben 506 Personen den Fragebogen mit Fragen zum Leben am Ackermannbogen\, zum Ackermannbogen e.V. und zur Bereitschaft sich in Quartier und Verein zu engagieren\, ausgefüllt. \nDie zentralen Ergebnisse und daraus folgende strategische Schlussfolgerungen liegen nun vor. Die Auswertung können Sie hier einsehen. Wer's genauer wissen will\, kann hier den Endbericht einsehen. \nFür die kostenfreie Teilnahme an der öffentlichen Präsentation\, Erklärung und Interpretation der Ergebnisse bitten wir um verbindliche Anmeldung. \n 
URL:https://ackermannbogen-ev.de/programm/vorstellung-der-ergebnisse-aus-der-nachbarschaftsbefragung/
LOCATION:GBS 14\, Georg-Birk-Str. 14\, München\, 80797\, Germany
ATTACH;FMTTYPE=image/jpeg:https://ackermannbogen-ev.de/wp-content/uploads/2025/11/Ausschnitt-Ihre_Meinung_ist_uns_wichtig-e1763462549120.jpg
GEO:48.164567;11.5571478
X-APPLE-STRUCTURED-LOCATION;VALUE=URI;X-ADDRESS=GBS 14 Georg-Birk-Str. 14 München 80797 Germany;X-APPLE-RADIUS=500;X-TITLE=Georg-Birk-Str. 14:geo:11.5571478,48.164567
END:VEVENT
END:VCALENDAR