BEGIN:VCALENDAR
VERSION:2.0
PRODID:-//Ackermannbogen e.V. - ECPv6.15.20//NONSGML v1.0//EN
CALSCALE:GREGORIAN
METHOD:PUBLISH
X-WR-CALNAME:Ackermannbogen e.V.
X-ORIGINAL-URL:https://ackermannbogen-ev.de
X-WR-CALDESC:Veranstaltungen für Ackermannbogen e.V.
REFRESH-INTERVAL;VALUE=DURATION:PT1H
X-Robots-Tag:noindex
X-PUBLISHED-TTL:PT1H
BEGIN:VTIMEZONE
TZID:Europe/Berlin
BEGIN:DAYLIGHT
TZOFFSETFROM:+0100
TZOFFSETTO:+0200
TZNAME:CEST
DTSTART:20240331T010000
END:DAYLIGHT
BEGIN:STANDARD
TZOFFSETFROM:+0200
TZOFFSETTO:+0100
TZNAME:CET
DTSTART:20241027T010000
END:STANDARD
BEGIN:DAYLIGHT
TZOFFSETFROM:+0100
TZOFFSETTO:+0200
TZNAME:CEST
DTSTART:20250330T010000
END:DAYLIGHT
BEGIN:STANDARD
TZOFFSETFROM:+0200
TZOFFSETTO:+0100
TZNAME:CET
DTSTART:20251026T010000
END:STANDARD
BEGIN:DAYLIGHT
TZOFFSETFROM:+0100
TZOFFSETTO:+0200
TZNAME:CEST
DTSTART:20260329T010000
END:DAYLIGHT
BEGIN:STANDARD
TZOFFSETFROM:+0200
TZOFFSETTO:+0100
TZNAME:CET
DTSTART:20261025T010000
END:STANDARD
END:VTIMEZONE
BEGIN:VEVENT
DTSTART;TZID=Europe/Berlin:20251113T183000
DTEND;TZID=Europe/Berlin:20251113T193000
DTSTAMP:20260425T060742
CREATED:20250914T140439Z
LAST-MODIFIED:20251030T151425Z
UID:10012146-1763058600-1763062200@ackermannbogen-ev.de
SUMMARY:Pilates
DESCRIPTION:Kräftigung und Entspannung von Kopf bis Fuß für die großen\, aber auch kleinen Muskeln im Körper. Durch den besonderen Fokus auf die Harmonie von Bewegung und Atmung bietet Pilates auch ein Training für den Geist. Ein effektives Ganzkörpertraining\, welches neben dem Schwerpunkt für Rücken\, Bauch und Beckenboden auch die Beine und Arme miteinschließt.\nKursleitung: Janine Dietrich\, janine_dietrich@web.de\nDonnerstags 18.30 – 19.30 Uhr\, Elisabeth-Kohn-Str. 15\nKosten: € 12\,– / Stunde oder € 60\,– / 5er-Block .
URL:https://ackermannbogen-ev.de/programm/pilates-4/2025-11-13/
LOCATION:EKS 15\, Elisabeth-Kohn-Str. 15\, München\, 80797\, Germany
CATEGORIES:Fitness & Gesundheit
ATTACH;FMTTYPE=image/jpeg:https://ackermannbogen-ev.de/wp-content/uploads/2025/09/Pilates.jpg
ORGANIZER;CN="NachbarschaftsB%C3%B6rse":MAILTO:nachbarschaftsboerse@ackermannbogen-ev.de
GEO:48.164854418235;11.554277501613
X-APPLE-STRUCTURED-LOCATION;VALUE=URI;X-ADDRESS=EKS 15 Elisabeth-Kohn-Str. 15 München 80797 Germany;X-APPLE-RADIUS=500;X-TITLE=Elisabeth-Kohn-Str. 15:geo:11.554277501613,48.164854418235
END:VEVENT
BEGIN:VEVENT
DTSTART;TZID=Europe/Berlin:20251120T183000
DTEND;TZID=Europe/Berlin:20251120T193000
DTSTAMP:20260425T060742
CREATED:20250914T140439Z
LAST-MODIFIED:20251030T151425Z
UID:10012147-1763663400-1763667000@ackermannbogen-ev.de
SUMMARY:Pilates
DESCRIPTION:Kräftigung und Entspannung von Kopf bis Fuß für die großen\, aber auch kleinen Muskeln im Körper. Durch den besonderen Fokus auf die Harmonie von Bewegung und Atmung bietet Pilates auch ein Training für den Geist. Ein effektives Ganzkörpertraining\, welches neben dem Schwerpunkt für Rücken\, Bauch und Beckenboden auch die Beine und Arme miteinschließt.\nKursleitung: Janine Dietrich\, janine_dietrich@web.de\nDonnerstags 18.30 – 19.30 Uhr\, Elisabeth-Kohn-Str. 15\nKosten: € 12\,– / Stunde oder € 60\,– / 5er-Block .
URL:https://ackermannbogen-ev.de/programm/pilates-4/2025-11-20/
LOCATION:EKS 15\, Elisabeth-Kohn-Str. 15\, München\, 80797\, Germany
CATEGORIES:Fitness & Gesundheit
ATTACH;FMTTYPE=image/jpeg:https://ackermannbogen-ev.de/wp-content/uploads/2025/09/Pilates.jpg
ORGANIZER;CN="NachbarschaftsB%C3%B6rse":MAILTO:nachbarschaftsboerse@ackermannbogen-ev.de
GEO:48.164854418235;11.554277501613
X-APPLE-STRUCTURED-LOCATION;VALUE=URI;X-ADDRESS=EKS 15 Elisabeth-Kohn-Str. 15 München 80797 Germany;X-APPLE-RADIUS=500;X-TITLE=Elisabeth-Kohn-Str. 15:geo:11.554277501613,48.164854418235
END:VEVENT
BEGIN:VEVENT
DTSTART;TZID=Europe/Berlin:20251127T183000
DTEND;TZID=Europe/Berlin:20251127T193000
DTSTAMP:20260425T060742
CREATED:20250914T140439Z
LAST-MODIFIED:20251030T151425Z
UID:10012148-1764268200-1764271800@ackermannbogen-ev.de
SUMMARY:Pilates
DESCRIPTION:Kräftigung und Entspannung von Kopf bis Fuß für die großen\, aber auch kleinen Muskeln im Körper. Durch den besonderen Fokus auf die Harmonie von Bewegung und Atmung bietet Pilates auch ein Training für den Geist. Ein effektives Ganzkörpertraining\, welches neben dem Schwerpunkt für Rücken\, Bauch und Beckenboden auch die Beine und Arme miteinschließt.\nKursleitung: Janine Dietrich\, janine_dietrich@web.de\nDonnerstags 18.30 – 19.30 Uhr\, Elisabeth-Kohn-Str. 15\nKosten: € 12\,– / Stunde oder € 60\,– / 5er-Block .
URL:https://ackermannbogen-ev.de/programm/pilates-4/2025-11-27/
LOCATION:EKS 15\, Elisabeth-Kohn-Str. 15\, München\, 80797\, Germany
CATEGORIES:Fitness & Gesundheit
ATTACH;FMTTYPE=image/jpeg:https://ackermannbogen-ev.de/wp-content/uploads/2025/09/Pilates.jpg
ORGANIZER;CN="NachbarschaftsB%C3%B6rse":MAILTO:nachbarschaftsboerse@ackermannbogen-ev.de
GEO:48.164854418235;11.554277501613
X-APPLE-STRUCTURED-LOCATION;VALUE=URI;X-ADDRESS=EKS 15 Elisabeth-Kohn-Str. 15 München 80797 Germany;X-APPLE-RADIUS=500;X-TITLE=Elisabeth-Kohn-Str. 15:geo:11.554277501613,48.164854418235
END:VEVENT
END:VCALENDAR