BEGIN:VCALENDAR
VERSION:2.0
PRODID:-//Ackermannbogen e.V. - ECPv6.15.20//NONSGML v1.0//EN
CALSCALE:GREGORIAN
METHOD:PUBLISH
X-WR-CALNAME:Ackermannbogen e.V.
X-ORIGINAL-URL:https://ackermannbogen-ev.de
X-WR-CALDESC:Veranstaltungen für Ackermannbogen e.V.
REFRESH-INTERVAL;VALUE=DURATION:PT1H
X-Robots-Tag:noindex
X-PUBLISHED-TTL:PT1H
BEGIN:VTIMEZONE
TZID:Europe/Berlin
BEGIN:DAYLIGHT
TZOFFSETFROM:+0100
TZOFFSETTO:+0200
TZNAME:CEST
DTSTART:20240331T010000
END:DAYLIGHT
BEGIN:STANDARD
TZOFFSETFROM:+0200
TZOFFSETTO:+0100
TZNAME:CET
DTSTART:20241027T010000
END:STANDARD
BEGIN:DAYLIGHT
TZOFFSETFROM:+0100
TZOFFSETTO:+0200
TZNAME:CEST
DTSTART:20250330T010000
END:DAYLIGHT
BEGIN:STANDARD
TZOFFSETFROM:+0200
TZOFFSETTO:+0100
TZNAME:CET
DTSTART:20251026T010000
END:STANDARD
BEGIN:DAYLIGHT
TZOFFSETFROM:+0100
TZOFFSETTO:+0200
TZNAME:CEST
DTSTART:20260329T010000
END:DAYLIGHT
BEGIN:STANDARD
TZOFFSETFROM:+0200
TZOFFSETTO:+0100
TZNAME:CET
DTSTART:20261025T010000
END:STANDARD
END:VTIMEZONE
BEGIN:VEVENT
DTSTART;TZID=Europe/Berlin:20251209T200000
DTEND;TZID=Europe/Berlin:20251209T220000
DTSTAMP:20260423T023538
CREATED:20250715T101334Z
LAST-MODIFIED:20251211T110547Z
UID:10011266-1765310400-1765317600@ackermannbogen-ev.de
SUMMARY:Be My Guest - A Tribute To The Ladies In Jazz
DESCRIPTION:Carole Alston\nDie Gospels ihrer Kindheit\, die Motown-Hits ihrer Jugend\, die vielen internationalen Musicals\, mit\ndenen sie tourte und das ganze große Repertoire von Bessie Smith\, Billie Holiday und Sarah\nVaughan bis zu Dionne Warwick – all das prägt einen Abend mit Carole Alston. Und natürlich die\nGeschichten und Anekdoten\, die sie dazu erzählen kann. Jazz history comes alive! \nCarole Alston\, Vocal\nHeinz Frommeyer\, Piano\nMartin Zenker\, Kontrabass
URL:https://ackermannbogen-ev.de/programm/be-my-guest-a-tribute-to-the-ladies-in-jazz/
LOCATION:KreativGarage Studio\, Rosa-Aschenbrenner-Bogen 9 / UG\, München\, Bayern\, 80797\, Germany
CATEGORIES:Kultur & Kreatives,Musik,Musik & Gesang
ATTACH;FMTTYPE=image/png:https://ackermannbogen-ev.de/wp-content/uploads/2025/07/BMG-Carole-Alston-e1753174845529.png
ORGANIZER;CN="KulturB%C3%BCro":MAILTO:kulturbuero@ackermannbogen-ev.de
GEO:48.1647793;11.5585741
X-APPLE-STRUCTURED-LOCATION;VALUE=URI;X-ADDRESS=KreativGarage Studio Rosa-Aschenbrenner-Bogen 9 / UG München Bayern 80797 Germany;X-APPLE-RADIUS=500;X-TITLE=Rosa-Aschenbrenner-Bogen 9 / UG:geo:11.5585741,48.1647793
END:VEVENT
END:VCALENDAR