BEGIN:VCALENDAR
VERSION:2.0
PRODID:-//Ackermannbogen e.V. - ECPv6.15.20//NONSGML v1.0//EN
CALSCALE:GREGORIAN
METHOD:PUBLISH
X-ORIGINAL-URL:https://ackermannbogen-ev.de
X-WR-CALDESC:Veranstaltungen für Ackermannbogen e.V.
REFRESH-INTERVAL;VALUE=DURATION:PT1H
X-Robots-Tag:noindex
X-PUBLISHED-TTL:PT1H
BEGIN:VTIMEZONE
TZID:Europe/Berlin
BEGIN:DAYLIGHT
TZOFFSETFROM:+0100
TZOFFSETTO:+0200
TZNAME:CEST
DTSTART:20250330T010000
END:DAYLIGHT
BEGIN:STANDARD
TZOFFSETFROM:+0200
TZOFFSETTO:+0100
TZNAME:CET
DTSTART:20251026T010000
END:STANDARD
BEGIN:DAYLIGHT
TZOFFSETFROM:+0100
TZOFFSETTO:+0200
TZNAME:CEST
DTSTART:20260329T010000
END:DAYLIGHT
BEGIN:STANDARD
TZOFFSETFROM:+0200
TZOFFSETTO:+0100
TZNAME:CET
DTSTART:20261025T010000
END:STANDARD
BEGIN:DAYLIGHT
TZOFFSETFROM:+0100
TZOFFSETTO:+0200
TZNAME:CEST
DTSTART:20270328T010000
END:DAYLIGHT
BEGIN:STANDARD
TZOFFSETFROM:+0200
TZOFFSETTO:+0100
TZNAME:CET
DTSTART:20271031T010000
END:STANDARD
END:VTIMEZONE
BEGIN:VEVENT
DTSTART;TZID=Europe/Berlin:20260612T180000
DTEND;TZID=Europe/Berlin:20260614T170000
DTSTAMP:20260424T040937
CREATED:20251120T114112Z
LAST-MODIFIED:20251120T115938Z
UID:10012718-1781287200-1781456400@ackermannbogen-ev.de
SUMMARY:KulturWochenende 2026 am Ackermannbogen
DESCRIPTION:Am Wochenende vom 12.-14 Juni 2026 wird es wieder Musik\, Theater\, Tanz und Kunst zum Zuschauen\, Mitmachen und Genießen geben. Auf der großen Bühne in unserer KulturPassage und an anderen Orten im Viertel.\nFreier Eintritt – Spenden willkommen.\nSchon fest eingeplant: Am Samstag\, 13. Juni\, wird es den beliebten QuartiersFlohmarkt von 10 bis 14 Uhr geben – mit Musik\, Kaffee und Kuchen. Das Programm wird in den kommenden Monaten bekannt gegeben.
URL:https://ackermannbogen-ev.de/programm/kulturwochenende-2026-am-ackermannbogen/
LOCATION:KulturPassage\, Rosa-Aschenbrenner-Bogen 9\, München\, 80797\, Germany
CATEGORIES:kostenlos,Kultur & Kreatives,Kunst,Literatur,Musik,Musik & Gesang,Tanz,Tanz & Bewegung,Theater & Film,Umwelt & Natur
ATTACH;FMTTYPE=image/jpeg:https://ackermannbogen-ev.de/wp-content/uploads/2025/11/P1240672-scaled-e1763639284597.jpg
ORGANIZER;CN="KulturB%C3%BCro":MAILTO:kulturbuero@ackermannbogen-ev.de
GEO:48.1647793;11.5585741
X-APPLE-STRUCTURED-LOCATION;VALUE=URI;X-ADDRESS=KulturPassage Rosa-Aschenbrenner-Bogen 9 München 80797 Germany;X-APPLE-RADIUS=500;X-TITLE=Rosa-Aschenbrenner-Bogen 9:geo:11.5585741,48.1647793
END:VEVENT
END:VCALENDAR