BEGIN:VCALENDAR
VERSION:2.0
PRODID:-//Ackermannbogen e.V. - ECPv6.15.20//NONSGML v1.0//EN
CALSCALE:GREGORIAN
METHOD:PUBLISH
X-ORIGINAL-URL:https://ackermannbogen-ev.de
X-WR-CALDESC:Veranstaltungen für Ackermannbogen e.V.
REFRESH-INTERVAL;VALUE=DURATION:PT1H
X-Robots-Tag:noindex
X-PUBLISHED-TTL:PT1H
BEGIN:VTIMEZONE
TZID:Europe/Berlin
BEGIN:DAYLIGHT
TZOFFSETFROM:+0100
TZOFFSETTO:+0200
TZNAME:CEST
DTSTART:20230326T010000
END:DAYLIGHT
BEGIN:STANDARD
TZOFFSETFROM:+0200
TZOFFSETTO:+0100
TZNAME:CET
DTSTART:20231029T010000
END:STANDARD
BEGIN:DAYLIGHT
TZOFFSETFROM:+0100
TZOFFSETTO:+0200
TZNAME:CEST
DTSTART:20240331T010000
END:DAYLIGHT
BEGIN:STANDARD
TZOFFSETFROM:+0200
TZOFFSETTO:+0100
TZNAME:CET
DTSTART:20241027T010000
END:STANDARD
BEGIN:DAYLIGHT
TZOFFSETFROM:+0100
TZOFFSETTO:+0200
TZNAME:CEST
DTSTART:20250330T010000
END:DAYLIGHT
BEGIN:STANDARD
TZOFFSETFROM:+0200
TZOFFSETTO:+0100
TZNAME:CET
DTSTART:20251026T010000
END:STANDARD
END:VTIMEZONE
BEGIN:VEVENT
DTSTART;TZID=Europe/Berlin:20240201T190000
DTEND;TZID=Europe/Berlin:20240201T210000
DTSTAMP:20260421T214302
CREATED:20240227T083905Z
LAST-MODIFIED:20240709T085517Z
UID:10007204-1706814000-1706821200@ackermannbogen-ev.de
SUMMARY:Bücherschrank-Lesung
DESCRIPTION:Die Nachbarschaft liest. \nJeden Donnerstag treffen sich Interessierte um gemeinsam die Geschichten aus dem Bücherschrank zu lesen. Alle sind eingeladen dazuzukommen - zum Vorlesen und zum Zuhören.
URL:https://ackermannbogen-ev.de/programm/buecherschrank-lesung-3/2024-02-01/
LOCATION:RAB 9 großer Raum\, Rosa-Aschenbrenner-Bogen 9\, München\, 80797\, Germany
CATEGORIES:Interessen & Freizeit,Kultur & Kreatives,Literatur
ATTACH;FMTTYPE=image/jpeg:https://ackermannbogen-ev.de/wp-content/uploads/2023/06/Foto-Buecherschrank-scaled-e1734607060736.jpeg
ORGANIZER;CN="KulturB%C3%BCro":MAILTO:kulturbuero@ackermannbogen-ev.de
GEO:48.1647793;11.5585741
X-APPLE-STRUCTURED-LOCATION;VALUE=URI;X-ADDRESS=RAB 9 großer Raum Rosa-Aschenbrenner-Bogen 9 München 80797 Germany;X-APPLE-RADIUS=500;X-TITLE=Rosa-Aschenbrenner-Bogen 9:geo:11.5585741,48.1647793
END:VEVENT
BEGIN:VEVENT
DTSTART;TZID=Europe/Berlin:20240208T190000
DTEND;TZID=Europe/Berlin:20240208T210000
DTSTAMP:20260421T214302
CREATED:20240227T083905Z
LAST-MODIFIED:20240709T085517Z
UID:10007205-1707418800-1707426000@ackermannbogen-ev.de
SUMMARY:Bücherschrank-Lesung
DESCRIPTION:Die Nachbarschaft liest. \nJeden Donnerstag treffen sich Interessierte um gemeinsam die Geschichten aus dem Bücherschrank zu lesen. Alle sind eingeladen dazuzukommen - zum Vorlesen und zum Zuhören.
URL:https://ackermannbogen-ev.de/programm/buecherschrank-lesung-3/2024-02-08/
LOCATION:RAB 9 großer Raum\, Rosa-Aschenbrenner-Bogen 9\, München\, 80797\, Germany
CATEGORIES:Interessen & Freizeit,Kultur & Kreatives,Literatur
ATTACH;FMTTYPE=image/jpeg:https://ackermannbogen-ev.de/wp-content/uploads/2023/06/Foto-Buecherschrank-scaled-e1734607060736.jpeg
ORGANIZER;CN="KulturB%C3%BCro":MAILTO:kulturbuero@ackermannbogen-ev.de
GEO:48.1647793;11.5585741
X-APPLE-STRUCTURED-LOCATION;VALUE=URI;X-ADDRESS=RAB 9 großer Raum Rosa-Aschenbrenner-Bogen 9 München 80797 Germany;X-APPLE-RADIUS=500;X-TITLE=Rosa-Aschenbrenner-Bogen 9:geo:11.5585741,48.1647793
END:VEVENT
BEGIN:VEVENT
DTSTART;TZID=Europe/Berlin:20240215T190000
DTEND;TZID=Europe/Berlin:20240215T210000
DTSTAMP:20260421T214302
CREATED:20240227T083905Z
LAST-MODIFIED:20240709T085517Z
UID:10007206-1708023600-1708030800@ackermannbogen-ev.de
SUMMARY:Bücherschrank-Lesung
DESCRIPTION:Die Nachbarschaft liest. \nJeden Donnerstag treffen sich Interessierte um gemeinsam die Geschichten aus dem Bücherschrank zu lesen. Alle sind eingeladen dazuzukommen - zum Vorlesen und zum Zuhören.
URL:https://ackermannbogen-ev.de/programm/buecherschrank-lesung-3/2024-02-15/
LOCATION:RAB 9 großer Raum\, Rosa-Aschenbrenner-Bogen 9\, München\, 80797\, Germany
CATEGORIES:Interessen & Freizeit,Kultur & Kreatives,Literatur
ATTACH;FMTTYPE=image/jpeg:https://ackermannbogen-ev.de/wp-content/uploads/2023/06/Foto-Buecherschrank-scaled-e1734607060736.jpeg
ORGANIZER;CN="KulturB%C3%BCro":MAILTO:kulturbuero@ackermannbogen-ev.de
GEO:48.1647793;11.5585741
X-APPLE-STRUCTURED-LOCATION;VALUE=URI;X-ADDRESS=RAB 9 großer Raum Rosa-Aschenbrenner-Bogen 9 München 80797 Germany;X-APPLE-RADIUS=500;X-TITLE=Rosa-Aschenbrenner-Bogen 9:geo:11.5585741,48.1647793
END:VEVENT
BEGIN:VEVENT
DTSTART;TZID=Europe/Berlin:20240222T190000
DTEND;TZID=Europe/Berlin:20240222T210000
DTSTAMP:20260421T214302
CREATED:20240227T083905Z
LAST-MODIFIED:20240709T085517Z
UID:10007207-1708628400-1708635600@ackermannbogen-ev.de
SUMMARY:Bücherschrank-Lesung
DESCRIPTION:Die Nachbarschaft liest. \nJeden Donnerstag treffen sich Interessierte um gemeinsam die Geschichten aus dem Bücherschrank zu lesen. Alle sind eingeladen dazuzukommen - zum Vorlesen und zum Zuhören.
URL:https://ackermannbogen-ev.de/programm/buecherschrank-lesung-3/2024-02-22/
LOCATION:RAB 9 großer Raum\, Rosa-Aschenbrenner-Bogen 9\, München\, 80797\, Germany
CATEGORIES:Interessen & Freizeit,Kultur & Kreatives,Literatur
ATTACH;FMTTYPE=image/jpeg:https://ackermannbogen-ev.de/wp-content/uploads/2023/06/Foto-Buecherschrank-scaled-e1734607060736.jpeg
ORGANIZER;CN="KulturB%C3%BCro":MAILTO:kulturbuero@ackermannbogen-ev.de
GEO:48.1647793;11.5585741
X-APPLE-STRUCTURED-LOCATION;VALUE=URI;X-ADDRESS=RAB 9 großer Raum Rosa-Aschenbrenner-Bogen 9 München 80797 Germany;X-APPLE-RADIUS=500;X-TITLE=Rosa-Aschenbrenner-Bogen 9:geo:11.5585741,48.1647793
END:VEVENT
BEGIN:VEVENT
DTSTART;TZID=Europe/Berlin:20240229T190000
DTEND;TZID=Europe/Berlin:20240229T210000
DTSTAMP:20260421T214302
CREATED:20240227T083905Z
LAST-MODIFIED:20240709T085517Z
UID:10007208-1709233200-1709240400@ackermannbogen-ev.de
SUMMARY:Bücherschrank-Lesung
DESCRIPTION:Die Nachbarschaft liest. \nJeden Donnerstag treffen sich Interessierte um gemeinsam die Geschichten aus dem Bücherschrank zu lesen. Alle sind eingeladen dazuzukommen - zum Vorlesen und zum Zuhören.
URL:https://ackermannbogen-ev.de/programm/buecherschrank-lesung-3/2024-02-29/
LOCATION:RAB 9 großer Raum\, Rosa-Aschenbrenner-Bogen 9\, München\, 80797\, Germany
CATEGORIES:Interessen & Freizeit,Kultur & Kreatives,Literatur
ATTACH;FMTTYPE=image/jpeg:https://ackermannbogen-ev.de/wp-content/uploads/2023/06/Foto-Buecherschrank-scaled-e1734607060736.jpeg
ORGANIZER;CN="KulturB%C3%BCro":MAILTO:kulturbuero@ackermannbogen-ev.de
GEO:48.1647793;11.5585741
X-APPLE-STRUCTURED-LOCATION;VALUE=URI;X-ADDRESS=RAB 9 großer Raum Rosa-Aschenbrenner-Bogen 9 München 80797 Germany;X-APPLE-RADIUS=500;X-TITLE=Rosa-Aschenbrenner-Bogen 9:geo:11.5585741,48.1647793
END:VEVENT
END:VCALENDAR