BEGIN:VCALENDAR
VERSION:2.0
PRODID:-//Ackermannbogen e.V. - ECPv6.15.20//NONSGML v1.0//EN
CALSCALE:GREGORIAN
METHOD:PUBLISH
X-WR-CALNAME:Ackermannbogen e.V.
X-ORIGINAL-URL:https://ackermannbogen-ev.de
X-WR-CALDESC:Veranstaltungen für Ackermannbogen e.V.
REFRESH-INTERVAL;VALUE=DURATION:PT1H
X-Robots-Tag:noindex
X-PUBLISHED-TTL:PT1H
BEGIN:VTIMEZONE
TZID:Europe/Berlin
BEGIN:DAYLIGHT
TZOFFSETFROM:+0100
TZOFFSETTO:+0200
TZNAME:CEST
DTSTART:20250330T010000
END:DAYLIGHT
BEGIN:STANDARD
TZOFFSETFROM:+0200
TZOFFSETTO:+0100
TZNAME:CET
DTSTART:20251026T010000
END:STANDARD
BEGIN:DAYLIGHT
TZOFFSETFROM:+0100
TZOFFSETTO:+0200
TZNAME:CEST
DTSTART:20260329T010000
END:DAYLIGHT
BEGIN:STANDARD
TZOFFSETFROM:+0200
TZOFFSETTO:+0100
TZNAME:CET
DTSTART:20261025T010000
END:STANDARD
BEGIN:DAYLIGHT
TZOFFSETFROM:+0100
TZOFFSETTO:+0200
TZNAME:CEST
DTSTART:20270328T010000
END:DAYLIGHT
BEGIN:STANDARD
TZOFFSETFROM:+0200
TZOFFSETTO:+0100
TZNAME:CET
DTSTART:20271031T010000
END:STANDARD
END:VTIMEZONE
BEGIN:VEVENT
DTSTART;TZID=Europe/Berlin:20260318T150000
DTEND;TZID=Europe/Berlin:20260318T160000
DTSTAMP:20260424T145146
CREATED:20251124T160344Z
LAST-MODIFIED:20260211T114915Z
UID:10012723-1773846000-1773849600@ackermannbogen-ev.de
SUMMARY:Zuhörbank
DESCRIPTION:Zuhören gegen Einsamkeit und gesellschaftliche Spaltung. \n\n\n\nViele andere haben es schon erfolgreich vorgemacht\, wir tun es auch: Wir hören zu! Zu finden sind wir an der Großen Wiese (südlicher Teil) auf einer Parkbank\, erkennbar durch die Vereinsfahne und ein Schild\, das zum Hinsetzen und Erzählen einlädt. Wir nehmen uns Zeit für Begegnungen und sind offen für die großen und kleinen Geschichten\, die uns erzählt werden.  \nWenn es zu kalt ist\, auf der Bank zu sitzen\, können wir auch eine Runde um die Große Wiese drehen. \n\nWir freuen uns auf einen ungezwungenen\, spontanen und offenen Austausch. Für mehr Miteinander\, Toleranz und Vertrauen.
URL:https://ackermannbogen-ev.de/programm/zuhoerbank-4-2-2/2026-03-18/
LOCATION:Im Freien - Große Wiese
CATEGORIES:Austausch & Dialog
ATTACH;FMTTYPE=image/jpeg:https://ackermannbogen-ev.de/wp-content/uploads/2024/09/Zuhoerbank-Foto-scaled-e1725527033450.jpg
ORGANIZER;CN="KulturB%C3%BCro":MAILTO:kulturbuero@ackermannbogen-ev.de
END:VEVENT
END:VCALENDAR